Workbook
Name \0: #REF!
Name \0: #REF!
Name _?: #REF!
Name _?: #REF!
Name _??????: #REF!
Name _??????: #REF!
Name __?: #REF!
Name __??????: #REF!
Name _06: #REF!
Name _06: #REF!
Name _13_?: #REF!
Name _13_?: #REF!
Name _26_??????: #REF!
Name _26_??????: #REF!
Name _27M10_: #N/A
Name _27M10_: #N/A
Name _28P10_: #N/A
Name _28P10_: #N/A
Name _29其他资产_开办费除外_明细表: #REF!
Name _29其他资产_开办费除外_明细表: #REF!
Name _3_?: #REF!
Name _3_?: #REF!
Name _6_??????: #REF!
Name _6_??????: #REF!
Name _7M10_: 机器设备评估过程表!_7M10_
Name _7M10_: _7M10_
Name _8P10_: 机器设备评估过程表!_8P10_
Name _8P10_: _8P10_
Name _9其他资产_开办费除外_明细表: #REF!
Name _9其他资产_开办费除外_明细表: #REF!
Name _BSP2: #REF!
Name _BSP2: #REF!
Name _h1: [1]收入!$A$26
Name _h1: [2]收入!$A$26
Name _M10: '成本途径存货——产成品分析表(倒扣整体法)'!_M10
Name _M10: _M10
Name _P10: '成本途径存货——产成品分析表(倒扣整体法)'!_P10
Name _P10: _P10
Name a: #REF!
Name A: #REF!
Name A: #REF!
Name aa: '[3]江苏苏州本部（中央）'!$C$39
Name bb: [4]说明!$C$31
Name bbkm: [5]W!$B$2:$B$65
Name bbxml: #REF!
Name bbxml: #REF!
Name BS: #REF!
Name BS: #REF!
Name BSCS: #REF!
Name BSCS: #REF!
Name BSCSP2: #REF!
Name BSCSP2: #REF!
Name chb: [6]完!$G$2:$G$32
Name chmxb: #REF!
Name chmxb: #REF!
Name cost: #REF!
Name cost: #REF!
Name Database: '[7]8月消耗'!$A$1:$L$824
Name DCF打印: #REF!
Name DCF打印: #REF!

Sheet 成本法资料清单
A1: 资产评估委托方或被评估单位提供的资料清单(成本法) 索引号：G-6
A2: 序号 | B2: 资 料 名 称 | C2: 适用性 | D2: 已提供 | E2: 备 注
A3: 一 | B3: 委托方
A4: 1 | B4: 委托方企业法人营业执照
A5: 2 | B5: 委托方历史沿革
A6: 3 | B6: 资产评估业务约定书(评估机构提供格式)
A7: 4 | B7: 委托方承诺函(评估机构提供格式)
A8: 5 | B8: 资产评估有关事项说明(评估机构提供格式)
A9: 6 | B9: 与评估目的相对应的经济行为文件及上级批准文件；股东大会、董事会决议或合作协议等
A10: 7 | B10: 资产重组方案、土地处置方案
A11: 8 | B11: 核准备案申请文件
A12: 9 | B12: 国有资产管理部门盖章的核准备案文件
A13: 10 | B13: 委托方反馈意见表(评估机构提供格式)
A14: 11 | B14: 评估报告签收单(评估机构提供格式)
A15: 12 | B15: 其他可能需要的资料
A16: 二 | B16: 被评估单位综合资料
A17: 1 | B17: 被评估单位企业法人营业执照、税务登记证
A18: 2 | B18: 被评估单位组织代码证
A19: 3 | B19: 被评估单位税务登记证
A20: 4 | B20: 被评估单位国有资产产权登记证
A21: 5 | B21: 被评估单位的各类资质证书、采矿许可证、进出口许可证、专营权许可证
A22: 6 | B22: 被评估单位工商登记变更查询资料,最后验资报告、最后章程
A23: 7 | B23: 被评估单位发生的实际和计划中的股权变动事宜，包括股权数量、变动形式（第三方购买、内部变动、赠与等）、转让价格、价格确定的方式（协商、评估等）、以及其他与转让有关的特殊背景资料
A24: 8 | B24: 被评估单位下属机构的简况和框架图
A25: 9 | B25: 被评估单位贷款卡查询资料
A26: 10 | B26: 被评估资产中有关抵押、担保、诉讼情况表及有关抵押、担保、诉讼资料
A27: 11 | B27: 被评估资产中有关租赁情况表（融资、租赁凭证及合同）
A28: 12 | B28: 被评估单位出纳员声明书(评估机构提供格式)
... A37: 21 | B37: 其他
A38: 三 | B38: 成本法资产评估所需资料
A39: （一） | B39: 流动资产及负债的资料清单
A40: 1 | B40: 现金：现金盘点表(评估机构提供格式)
A41: 2 | B41: 银行存款：提供银行存款对账单、余额调节表、询证函
A42: 3 | B42: 其他货币资金：提供承兑保证合同,银行存款对账单、余额调节表、询证函、存款存单等复印件
A43: 4 | B43: 交易性资产-股票：提供对账单，提供基准日市价及应收股利资料
A44: 5 | B44: 交易性资产-债券：提供对账单，提供基准日市价及应收利息资料
A45: 6 | B45: 交易性资产-基金：提供对账单，提供基准日市价及应收股利资料
A46: 7 | B46: 应收票据：提供盘点表、票据复印件，已贴现的提供账务处理凭证
A47: 8 | B47: 应收帐款：提供大额款项购销合同等入账凭证、进行账龄分析、坏账证明文件、询证函（询证函样本由本公司提供）
A48: 9 | B48: 预付帐款：提供大额款项购销合同等入账凭证、坏账证明文件、询证函（询证函样本由本公司提供）
...

Sheet 收益法资料清单
A1: 收益法调查资料清单
A2: 被评估单位：
A3: 评估基准日： | D3: 索引号： | E3: SY-1-3
A4: 编号 | B4: 资料名称 | C4: 需提供 | D4: 已提供 | E4: 备注
A5: 一 | B5: 整体资料
A6: 1 | B6: 最近3年财务年度资产负债表、损益表、现金流量表和股东权益表
A7: 2 | B7: 同、上年的纳税记录
A8: 3 | B8: 从评估基准日算起的过度报表以及以前年度同期比较报表
A9: 4 | B9: 主要的会计政策与制度
A10: 5 | B10: 访谈记录
A11: 二 | B11: 宏观经济、产业信息与市场信息
A12: 1 | B12: 当前的宏观经济形势、政策法律法规、经济增长速度、全球经济发展速度、利率和汇率水平
A13: 2 | B13: 产业的特点、准入制度、市场分割状况以及行业整体发展的情况
A14: 3 | B14: 行业资料统计，包括行业平均资金利税率、成本利润率、资产利润率、净资产；利润率、基准收益率、行业平均销售利润率
A15: 4 | B15: 产品市场占有率统计、营销网络分布清单、主要产品经销商、供应商情况介绍，相关产业链各环节结构示意图
A16: 5 | B16: 企业的主要竞争对象，企业在行业中的地位、优劣势分析资料
A17: 6 | B17: 企业面临生产竞争性分析（有利因素、不利因素），预测竞争格局，有否市场垄断（或部分垄断）可能，垄断期限；生产开发潜能预测及开发设想；企业自身投资开发能力
A18: 7 | B18: 国内、国外同行业企业资产负债率、投资收益率、平均成本利润率、资金利润率、销售（营业）税金、销售（经营）成本、销售（经营）费用和利息支付，财务费用占销售（营业）收入的比例，折旧占销售（经营）成本的比例等情况的现状及变化趋势相关资料；
A19: 三 | B19: 营业收入
A20: 1 | B20: 企业前三年分产品品种、类别销售统计表
A21: 2 | B21: 主要产品的设计生产能力，前三年实际生产量、销售量统计资料
A22: 3 | B22: 基准日未执行的销售合同，长期供货协议等
A23: 4 | B23: 基准日当年销售计划\销售指标分解表\销售任务书\代理协议书
A24: 5 | B24: 未来5年销售预测
A25: 三 | B25: 营业成本
A26: 1 | B26: 企业前三年分产品品种、类别营业成本统计表
A27: 2 | B27: 企业前三年分产品品种成本组成(主材费\辅助材料费\人工费\燃料与动力费\制造费用—折旧与摊销\制造费用—人工\制造费用—其他)统计表
A28: 3 | B28: 未来5年营业成本预测
A29: 四 | B29: 营业税金及附加
A30: 1 | B30: 企业前三年营业税金及附加统计表
A31: 2 | B31: 未来5年营业税金及附加预测
A32: 五 | B32: 营业费用
A33: 1 | B33: 企业前三年营业费用统计表
A34: 2 | B34: 营业费用预测说明
A35: 3 | B35: 营业费用中人工费用\折旧与摊销预测说明
A36: 4 | B36: 未来5年营业费用预测
A37: 六 | B37: 管理费用
A38: 1 | B38: 企业前三年管理费用统计表
A39: 2 | B39: 管理费用预测说明
A40: 3 | B40: 管理费用中人工费用\折旧与摊销及其他固定费用预测说明
...

Sheet 索引目录
A1: 资产评估申报表索引目录
B2: 评估申报表封面
B3: 评估申报表说明（填表前请先阅读）
B4: 基本情况表 | C4: 企业原始报表 | D4: 审计后资产负债表 | E4: 汇总表 | F4: 分类汇总表
C5: 资产类科目 | G5: 负债类科目
C6: 流动资产 | D6: 货币资金 | E6: 现金 | G6: 流动负债 | I6: 短期借款
E7: 银行存款 | I7: 交易性金融负债
E8: 其他货币资金 | I8: 应付票据
D9: 交易性金融资产 | E9: 股票投资 | I9: 应付账款
E10: 债券投资 | I10: 预收款项
E11: 基金投资 | I11: 应付职工薪酬
D12: 应收票据 | I12: 应交税费
D13: 应收账款 | I13: 应付利息
D14: 预付账款 | I14: 应付股利（应付利润）
D15: 应收利息 | I15: 其他应付款
D16: 应收股利 | I16: 一年内到期的非流动负债
D17: 其他应收款 | I17: 其他流动负债
D18: 存货 | E18: 原材料
E19: 材料采购（在途物资）
E20: 在库低值易耗品 | G20: 非流动负债 | I20: 长期借款
E21: 包装物 | I21: 应付债券
E22: 委托加工物资 | I22: 长期应付款
E23: 产成品(库存商品) | I23: 专项应付款
E24: 开发产品 | I24: 预计负债
E25: 出租开发产品 | I25: 递延所得税负债
E26: 在产品 | I26: 其他非流动负债
E27: 开发成本
E28: 分期收款发出商品
E29: 在用低值易耗品
E30: 委托代销商品
E31: 受托代销商品
E32: 未结算工程
E33: 周转材料
D34: 一年到期非流动资产
D35: 其他流动资产
D36: 可供出售金融资产 | E36: 股票投资
E37: 债券投资
E38: 其他投资
D39: 持有至到期投资
D40: 长期应收款
...

Sheet 汇总表
B1: 返回索引页
A2: 资 产 评 估 结 果 汇 总 表
A3: =CONCATENATE(#REF!,#REF!,#REF!,#REF!,#REF!,#REF!,#REF!) -> #REF!
A4: =#REF!&#REF! -> #REF! | G4: 金额单位：人民币万元
A5: 项 目 | C5: 审计前账面价值 | D5: 账面价值 | E5: 评估价值 | F5: 增减值 | G5: 增值率％
D6: A | E6: B | F6: C=B-A | G6: D=C/A×100%
A7: 1 | B7: 流动资产 | C7: =ROUND(分类汇总!C6/10000,2) -> 0 | D7: =ROUND(分类汇总!E6/10000,2) -> 0 | E7: =ROUND(分类汇总!F6/10000,2) -> 0 | F7: =E7-D7 -> 0 | G7: =IF(D7=0,"",F7/D7*100)
A8: =MAX(A$7:$B7)+1 -> 2 | B8: 非流动资产 | C8: =分类汇总!C18/10000 -> #REF! | D8: =分类汇总!E18/10000 -> #REF! | E8: =分类汇总!F18/10000 -> #REF! | F8: =E8-D8 -> #REF! | G8: =IF(D8=0,"",F8/D8*100) -> #REF!
A9: =MAX(A$7:$B8)+1 -> 3 | B9: 其中：可供出售金融资产 | C9: =ROUND(分类汇总!C19/10000,2) -> 0 | D9: =ROUND(分类汇总!E19/10000,2) -> 0 | E9: =ROUND(分类汇总!F19/10000,2) -> 0 | F9: =E9-D9 -> 0 | G9: =IF(D9=0,"",F9/D9*100)
A10: 4 | B10: 持有至到期投资 | C10: =ROUND(分类汇总!C20/10000,2) -> 0 | D10: =ROUND(分类汇总!E20/10000,2) -> 0 | E10: =ROUND(分类汇总!F20/10000,2) -> 0 | F10: =E10-D10 -> 0 | G10: =IF(D10=0,"",F10/D10*100)
A11: 5 | B11: 长期应收款 | C11: =ROUND(分类汇总!C21/10000,2) -> 0 | D11: =ROUND(分类汇总!E21/10000,2) -> 0 | E11: =ROUND(分类汇总!F21/10000,2) -> 0 | F11: =E11-D11 -> 0 | G11: =IF(D11=0,"",F11/D11*100)
A12: 6 | B12: 长期股权投资 | C12: =ROUND(分类汇总!C22/10000,2) -> 0 | D12: =ROUND(分类汇总!E22/10000,2) -> 0 | E12: =ROUND(分类汇总!F22/10000,2) -> 0 | F12: =E12-D12 -> 0 | G12: =IF(D12=0,"",F12/D12*100)
A13: 7 | B13: 投资性房地产 | C13: =ROUND(分类汇总!C23/10000,2) -> 0 | D13: =ROUND(分类汇总!E23/10000,2) -> 0 | E13: =ROUND(分类汇总!F23/10000,2) -> 0 | F13: =E13-D13 -> 0 | G13: =IF(D13=0,"",F13/D13*100)
A14: 8 | B14: 固定资产 | C14: =ROUND(分类汇总!C24/10000,2) -> #REF! | D14: =ROUND(分类汇总!E24/10000,2) -> #REF! | E14: =ROUND(分类汇总!F24/10000,2) -> #REF! | F14: =E14-D14 -> #REF! | G14: =IF(D14=0,"",F14/D14*100) -> #REF!
A15: 9 | B15: 在建工程 | C15: =ROUND(分类汇总!C25/10000,2) -> 0 | D15: =ROUND(分类汇总!E25/10000,2) -> 0 | E15: =ROUND(分类汇总!F25/10000,2) -> 0 | F15: =E15-D15 -> 0 | G15: =IF(D15=0,"",F15/D15*100)
A16: 10 | B16: 工程物资 | C16: =ROUND(分类汇总!C26/10000,2) -> 0 | D16: =ROUND(分类汇总!E26/10000,2) -> 0 | E16: =ROUND(分类汇总!F26/10000,2) -> 0 | F16: =E16-D16 -> 0 | G16: =IF(D16=0,"",F16/D16*100)
A17: 11 | B17: 固定资产清理 | C17: =ROUND(分类汇总!C27/10000,2) -> 0 | D17: =ROUND(分类汇总!E27/10000,2) -> 0 | E17: =ROUND(分类汇总!F27/10000,2) -> 0 | F17: =E17-D17 -> 0 | G17: =IF(D17=0,"",F17/D17*100)
A18: 12 | B18: 生产性生物资产 | C18: =ROUND(分类汇总!C28/10000,2) -> 0 | D18: =ROUND(分类汇总!E28/10000,2) -> 0 | E18: =ROUND(分类汇总!F28/10000,2) -> 0 | F18: =E18-D18 -> 0 | G18: =IF(D18=0,"",F18/D18*100)
A19: 13 | B19: 油气资产 | C19: =ROUND(分类汇总!C29/10000,2) -> 0 | D19: =ROUND(分类汇总!E29/10000,2) -> 0 | E19: =ROUND(分类汇总!F29/10000,2) -> 0 | F19: =E19-D19 -> 0 | G19: =IF(D19=0,"",F19/D19*100)
A20: 14 | B20: 无形资产 | C20: =ROUND(分类汇总!C30/10000,2) -> 0 | D20: =ROUND(分类汇总!E30/10000,2) -> 0 | E20: =ROUND(分类汇总!F30/10000,2) -> 0 | F20: =E20-D20 -> 0 | G20: =IF(D20=0,"",F20/D20*100)
A21: 15 | B21: 开发支出 | C21: =ROUND(分类汇总!C31/10000,2) -> 0 | D21: =ROUND(分类汇总!E31/10000,2) -> 0 | E21: =ROUND(分类汇总!F31/10000,2) -> 0 | F21: =E21-D21 -> 0 | G21: =IF(D21=0,"",F21/D21*100)
... A25: 19 | B25: 其他非流动资产 | C25: =ROUND(分类汇总!C35/10000,2) -> 0 | D25: =ROUND(分类汇总!E35/10000,2) -> 0 | E25: =ROUND(分类汇总!F35/10000,2) -> 0 | F25: =E25-D25 -> 0 | G25: =IF(D25=0,"",F25/D25*100)
A26: 20 | B26: 资产总计 | C26: =分类汇总!C36/10000 -> #REF! | D26: =分类汇总!E36/10000 -> #REF! | E26: =分类汇总!F36/10000 -> #REF! | F26: =E26-D26 -> #REF! | G26: =IF(D26=0,"",F26/D26*100) -> #REF!
A27: 21 | B27: 流动负债 | C27: =ROUND(分类汇总!C37/10000,2) -> 0 | D27: =ROUND(分类汇总!E37/10000,2) -> 0 | E27: =ROUND(分类汇总!F37/10000,2) -> 0 | F27: =E27-D27 -> 0 | G27: =IF(D27=0,"",F27/D27*100)
A28: 22 | B28: 非流动负债 | C28: =ROUND(分类汇总!C50/10000,2) -> 0 | D28: =ROUND(分类汇总!E50/10000,2) -> 0 | E28: =ROUND(分类汇总!F50/10000,2) -> 0 | F28: =E28-D28 -> 0 | G28: =IF(D28=0,"",F28/D28*100)
A29: 23 | B29: 负债合计 | C29: =分类汇总!C58/10000 -> 0 | D29: =分类汇总!E58/10000 -> 0 | E29: =分类汇总!F58/10000 -> 0 | F29: =E29-D29 -> 0 | G29: =IF(D29=0,"",F29/D29*100)
A30: 24 | B30: 净资产（所有者权益） | C30: =分类汇总!C59/10000 -> #REF! | D30: =分类汇总!E59/10000 -> #REF! | E30: =分类汇总!F59/10000 -> #REF! | F30: =E30-D30 -> #REF! | G30: =分类汇总!H59 -> #REF!
A31: 评估机构名称: | F31: 签字资产评估师：
A32: 法定代表人：
D33: 人民币大写 | E33: =ROUND(分类汇总!F59,-2) -> #REF!

Sheet 分类汇总
A1: 返回索引页 | B1: 返回
A2: 资产评估结果分类汇总表
A3: =CONCATENATE(#REF!,#REF!,#REF!,#REF!,#REF!,#REF!,#REF!) -> #REF!
A4: =#REF!&#REF! -> #REF! | H4: 金额单位：人民币元
A5: 序号 | B5: 科目名称 | C5: 审计前账面值 | D5: 账面调整值 | E5: 账面价值 | F5: 评估价值 | G5: 增减值 | H5: 增值率% | I5: 检验
A6: 1 | B6: 一、流动资产合计 | C6: =SUM(C7:C17) -> 0 | D6: =E6-C6 -> 0 | E6: =SUM(E7:E17) -> 0 | F6: =SUM(F7:F17) -> 0 | G6: =SUM(G7:G17) -> 0 | H6: =IF(E6=0,"",G6/E6*100) | I6: =IF(F6="","",IF(G6=0,"正常","非正常核查原因")) -> 正常
A7: 2 | B7: 货币资金 | C7: =流动汇总!C6 -> 0 | D7: =E7-C7 -> 0 | E7: =流动汇总!D6 -> 0 | F7: =流动汇总!E6 -> 0 | G7: =F7-E7 -> 0 | H7: =IF(E7=0,"",G7/E7*100) | I7: =IF(F7="","",IF(G7=0,"正常","非正常核查原因")) -> 正常
A8: 3 | B8: 交易性金融资产 | C8: =流动汇总!C7 -> 0 | D8: =E8-C8 -> 0 | E8: =流动汇总!D7 -> 0 | F8: =流动汇总!E7 -> 0 | G8: =F8-E8 -> 0 | H8: =IF(E8=0,"",G8/E8*100) | I8: =IF(F8="","",IF(G8=0,"正常","非正常核查原因")) -> 正常
A9: 4 | B9: 应收票据 | C9: =流动汇总!C8 -> 0 | D9: =E9-C9 -> 0 | E9: =流动汇总!D8 -> 0 | F9: =流动汇总!E8 -> 0 | G9: =F9-E9 -> 0 | H9: =IF(E9=0,"",G9/E9*100) | I9: =IF(F9="","",IF(G9=0,"正常","非正常核查原因")) -> 正常
A10: 5 | B10: 应收账款 | C10: =流动汇总!C11 -> 0 | D10: =E10-C10 -> 0 | E10: =流动汇总!D11 -> 0 | F10: =流动汇总!E11 -> 0 | G10: =F10-E10 -> 0 | H10: =IF(E10=0,"",G10/E10*100) | I10: =IF(F10="","",IF(G10=0,"正常","非正常核查原因")) -> 正常
A11: 6 | B11: 预付款项 | C11: =流动汇总!C12 -> 0 | D11: =E11-C11 -> 0 | E11: =流动汇总!D12 -> 0 | F11: =流动汇总!E12 -> 0 | G11: =F11-E11 -> 0 | H11: =IF(E11=0,"",G11/E11*100) | I11: =IF(F11="","",IF(G11=0,"正常","非正常核查原因")) -> 正常
A12: 7 | B12: 应收利息 | C12: =流动汇总!C13 -> 0 | D12: =E12-C12 -> 0 | E12: =流动汇总!D13 -> 0 | F12: =流动汇总!E13 -> 0 | G12: =F12-E12 -> 0 | H12: =IF(E12=0,"",G12/E12*100) | I12: =IF(F12="","",IF(G12=0,"正常","非正常核查原因")) -> 正常
A13: 8 | B13: 应收股利 | C13: =流动汇总!C14 -> 0 | D13: =E13-C13 -> 0 | E13: =流动汇总!D14 -> 0 | F13: =流动汇总!E14 -> 0 | G13: =F13-E13 -> 0 | H13: =IF(E13=0,"",G13/E13*100) | I13: =IF(F13="","",IF(G13=0,"正常","非正常核查原因")) -> 正常
A14: 9 | B14: 其他应收款 | C14: =流动汇总!C17 -> 0 | D14: =E14-C14 -> 0 | E14: =流动汇总!D17 -> 0 | F14: =流动汇总!E17 -> 0 | G14: =F14-E14 -> 0 | H14: =IF(E14=0,"",G14/E14*100) | I14: =IF(F14="","",IF(G14=0,"正常","非正常核查原因")) -> 正常
A15: 10 | B15: 存货 | C15: =流动汇总!C18 -> 0 | D15: =E15-C15 -> 0 | E15: =流动汇总!D18 -> 0 | F15: =流动汇总!E18 -> 0 | G15: =F15-E15 -> 0 | H15: =IF(E15=0,"",G15/E15*100) | I15: =IF(H15="","正常",IF(H15>30,"非正常核查原因",IF(H15<-30,"非正常核查原因","正常"))) -> 正常
A16: 11 | B16: 一年内到期的非流动资产 | C16: =流动汇总!C19 -> 0 | D16: =E16-C16 -> 0 | E16: =流动汇总!D19 -> 0 | F16: =流动汇总!E19 -> 0 | G16: =F16-E16 -> 0 | H16: =IF(E16=0,"",G16/E16*100) | I16: =IF(F16="","",IF(G16=0,"正常","非正常核查原因")) -> 正常
A17: 12 | B17: 其他流动资产 | C17: =流动汇总!C20 -> 0 | D17: =E17-C17 -> 0 | E17: =流动汇总!D20 -> 0 | F17: =流动汇总!E20 -> 0 | G17: =F17-E17 -> 0 | H17: =IF(E17=0,"",G17/E17*100) | I17: =IF(F17="","",IF(G17=0,"正常","非正常核查原因")) -> 正常
A18: 13 | B18: 二、非流动资产合计 | C18: =SUM(C19:C35) -> #REF! | D18: =E18-C18 -> #REF! | E18: =SUM(E19:E35) -> #REF! | F18: =SUM(F19:F35) -> #REF! | G18: =F18-E18 -> #REF! | H18: =IF(E18=0,"",G18/E18*100) -> #REF! | I18: =IF(H18="","正常",IF(H18>30,"非正常核查原因",IF(H18<-30,"非正常核查原因","正常"))) -> #REF!
A19: 14 | B19: 可供出售金融资产 | C19: =非流动资产汇总!C6 -> 0 | D19: =E19-C19 -> 0 | E19: =非流动资产汇总!D6 -> 0 | F19: =非流动资产汇总!F6 -> 0 | G19: =F19-E19 -> 0 | H19: =IF(E19=0,"",G19/E19*100) | I19: =IF(H19="","正常",IF(H19>30,"非正常核查原因",IF(H19<-30,"非正常核查原因","正常"))) -> 正常
A20: 15 | B20: 持有至到期投资 | C20: =非流动资产汇总!C7 -> 0 | D20: =E20-C20 -> 0 | E20: =非流动资产汇总!D7 -> 0 | F20: =非流动资产汇总!F7 -> 0 | G20: =F20-E20 -> 0 | H20: =IF(E20=0,"",G20/E20*100) | I20: =IF(H20="","正常",IF(H20>30,"非正常核查原因",IF(H20<-30,"非正常核查原因","正常"))) -> 正常
A21: 16 | B21: 长期应收款 | C21: =非流动资产汇总!C8 -> 0 | D21: =E21-C21 -> 0 | E21: =非流动资产汇总!D8 -> 0 | F21: =非流动资产汇总!F8 -> 0 | G21: =F21-E21 -> 0 | H21: =IF(E21=0,"",G21/E21*100) | I21: =IF(H21="","正常",IF(H21>30,"非正常核查原因",IF(H21<-30,"非正常核查原因","正常"))) -> 正常
A22: 17 | B22: 长期股权投资 | C22: =非流动资产汇总!C9 -> 0 | D22: =E22-C22 -> 0 | E22: =非流动资产汇总!D9 -> 0 | F22: =非流动资产汇总!F9 -> 0 | G22: =F22-E22 -> 0 | H22: =IF(E22=0,"",G22/E22*100) | I22: =IF(H22="","正常",IF(H22>30,"非正常核查原因",IF(H22<-30,"非正常核查原因","正常"))) -> 正常
A23: 18 | B23: 投资性房地产 | C23: =非流动资产汇总!C10 -> 0 | D23: =E23-C23 -> 0 | E23: =非流动资产汇总!D10 -> 0 | F23: =非流动资产汇总!F10 -> 0 | G23: =F23-E23 -> 0 | H23: =IF(E23=0,"",G23/E23*100) | I23: =IF(H23="","正常",IF(H23>30,"非正常核查原因",IF(H23<-30,"非正常核查原因","正常"))) -> 正常
A24: 19 | B24: 固定资产 | C24: =非流动资产汇总!C11 -> #REF! | D24: =E24-C24 -> #REF! | E24: =非流动资产汇总!D11 -> #REF! | F24: =非流动资产汇总!F11 -> #REF! | G24: =F24-E24 -> #REF! | H24: =IF(E24=0,"",G24/E24*100) -> #REF! | I24: =IF(H24="","正常",IF(H24>30,"非正常核查原因",IF(H24<-30,"非正常核查原因","正常"))) -> #REF!
A25: 20 | B25: 在建工程 | C25: =非流动资产汇总!C12 -> 0 | D25: =E25-C25 -> 0 | E25: =非流动资产汇总!D12 -> 0 | F25: =非流动资产汇总!F12 -> 0 | G25: =F25-E25 -> 0 | H25: =IF(E25=0,"",G25/E25*100) | I25: =IF(F25="","",IF(G25=0,"正常","非正常核查原因")) -> 正常
A26: 21 | B26: 工程物资 | C26: =非流动资产汇总!C13 -> 0 | D26: =E26-C26 -> 0 | E26: =非流动资产汇总!D13 -> 0 | F26: =非流动资产汇总!F13 -> 0 | G26: =F26-E26 -> 0 | H26: =IF(E26=0,"",G26/E26*100) | I26: =IF(F26="","",IF(G26=0,"正常","非正常核查原因")) -> 正常
A27: 22 | B27: 固定资产清理 | C27: =非流动资产汇总!C14 -> 0 | D27: =E27-C27 -> 0 | E27: =非流动资产汇总!D14 -> 0 | F27: =非流动资产汇总!F14 -> 0 | G27: =F27-E27 -> 0 | H27: =IF(E27=0,"",G27/E27*100) | I27: =IF(F27="","",IF(G27=0,"正常","非正常核查原因")) -> 正常
A28: 23 | B28: 生产性生物资产 | C28: =非流动资产汇总!C15 -> 0 | D28: =E28-C28 -> 0 | E28: =非流动资产汇总!D15 -> 0 | F28: =非流动资产汇总!F15 -> 0 | G28: =F28-E28 -> 0 | H28: =IF(E28=0,"",G28/E28*100) | I28: =IF(H28="","正常",IF(H28>30,"非正常核查原因",IF(H28<-30,"非正常核查原因","正常"))) -> 正常
A29: 24 | B29: 油气资产 | C29: =非流动资产汇总!C16 -> 0 | D29: =E29-C29 -> 0 | E29: =非流动资产汇总!D16 -> 0 | F29: =非流动资产汇总!F16 -> 0 | G29: =F29-E29 -> 0 | H29: =IF(E29=0,"",G29/E29*100) | I29: =IF(H29="","正常",IF(H29>30,"非正常核查原因",IF(H29<-30,"非正常核查原因","正常"))) -> 正常
A30: 25 | B30: 无形资产 | C30: =非流动资产汇总!C17 -> 0 | D30: =E30-C30 -> 0 | E30: =非流动资产汇总!D17 -> 0 | F30: =非流动资产汇总!F17 -> 0 | G30: =F30-E30 -> 0 | H30: =IF(E30=0,"",G30/E30*100) | I30: =IF(H30="","正常",IF(H30>30,"非正常核查原因",IF(H30<-30,"非正常核查原因","正常"))) -> 正常
A31: 26 | B31: 开发支出 | C31: =非流动资产汇总!C18 -> 0 | D31: =E31-C31 -> 0 | E31: =非流动资产汇总!D18 -> 0 | F31: =非流动资产汇总!F18 -> 0 | G31: =F31-E31 -> 0 | H31: =IF(E31=0,"",G31/E31*100) | I31: =IF(F31="","",IF(G31=0,"正常","非正常核查原因")) -> 正常
A32: 27 | B32: 商誉 | C32: =非流动资产汇总!C19 -> 0 | D32: =E32-C32 -> 0 | E32: =非流动资产汇总!D19 -> 0 | F32: =非流动资产汇总!F19 -> 0 | G32: =F32-E32 -> 0 | H32: =IF(E32=0,"",G32/E32*100) | I32: =IF(F32="","",IF(G32=0,"正常","非正常核查原因")) -> 正常
A33: 28 | B33: 长期待摊费用 | C33: =非流动资产汇总!C20 -> 0 | D33: =E33-C33 -> 0 | E33: =非流动资产汇总!D20 -> 0 | F33: =非流动资产汇总!F20 -> 0 | G33: =F33-E33 -> 0 | H33: =IF(E33=0,"",G33/E33*100) | I33: =IF(F33="","",IF(G33=0,"正常","非正常核查原因")) -> 正常
A34: 29 | B34: 递延所得税资产 | C34: =非流动资产汇总!C21 -> 0 | D34: =E34-C34 -> 0 | E34: =非流动资产汇总!D21 -> 0 | F34: =非流动资产汇总!F21 -> 0 | G34: =F34-E34 -> 0 | H34: =IF(E34=0,"",G34/E34*100) | I34: =IF(F34="","",IF(G34=0,"正常","非正常核查原因")) -> 正常
A35: 30 | B35: 其他非流动资产 | C35: =非流动资产汇总!C22 -> 0 | D35: =E35-C35 -> 0 | E35: =非流动资产汇总!D22 -> 0 | F35: =非流动资产汇总!F22 -> 0 | G35: =F35-E35 -> 0 | H35: =IF(E35=0,"",G35/E35*100) | I35: =IF(F35="","",IF(G35=0,"正常","非正常核查原因")) -> 正常
A36: 31 | B36: 三、资产总计 | C36: =SUM(C6,C18) -> #REF! | D36: =E36-C36 -> #REF! | E36: =SUM(E6,E18) -> #REF! | F36: =SUM(F6,F18) -> #REF! | G36: =SUM(G6,G18) -> #REF! | H36: =IF(E36=0,"",G36/E36*100) -> #REF! | I36: =IF(H36="","正常",IF(H36>30,"非正常核查原因",IF(H36<-30,"非正常核查原因","正常"))) -> #REF!
A37: 32 | B37: 四、流动负债合计 | C37: =SUM(C38:C49) -> 0 | D37: =E37-C37 -> 0 | E37: =SUM(E38:E49) -> 0 | F37: =SUM(F38:F49) -> 0 | G37: =SUM(G38:G49) -> 0 | H37: =IF(E37=0,"",G37/E37*100) | I37: =IF(F37="","",IF(G37=0,"正常","非正常核查原因")) -> 正常
A38: 33 | B38: 短期借款 | C38: =流动负债汇总!C6 -> 0 | D38: =E38-C38 -> 0 | E38: =流动负债汇总!D6 -> 0 | F38: =流动负债汇总!E6 -> 0 | G38: =F38-E38 -> 0 | H38: =IF(E38=0,"",G38/E38*100) | I38: =IF(F38="","",IF(G38=0,"正常","非正常核查原因")) -> 正常
A39: 34 | B39: 交易性金融负债 | C39: =流动负债汇总!C7 -> 0 | D39: =E39-C39 -> 0 | E39: =流动负债汇总!D7 -> 0 | F39: =流动负债汇总!E7 -> 0 | G39: =F39-E39 -> 0 | H39: =IF(E39=0,"",G39/E39*100) | I39: =IF(F39="","",IF(G39=0,"正常","非正常核查原因")) -> 正常
A40: 35 | B40: 应付票据 | C40: =流动负债汇总!C8 -> 0 | D40: =E40-C40 -> 0 | E40: =流动负债汇总!D8 -> 0 | F40: =流动负债汇总!E8 -> 0 | G40: =F40-E40 -> 0 | H40: =IF(E40=0,"",G40/E40*100) | I40: =IF(F40="","",IF(G40=0,"正常","非正常核查原因")) -> 正常
...

Sheet 流动汇总
A1: 返回索引页 | B1: 返回
A2: 流动资产评估汇总表
A3: =CONCATENATE(#REF!,#REF!,#REF!,#REF!,#REF!,#REF!,#REF!) -> #REF!
A4: =#REF!&#REF! -> #REF! | G4: 金额单位：人民币元
A5: 编号 | B5: 科目名称 | C5: 审计前账面值 | D5: 账面价值 | E5: 评估价值 | F5: 增值额 | G5: 增值率% | H5: 检验
A6: 3-1 | B6: 货币资金 | C6: =货币资金汇总!C27 -> 0 | D6: =货币资金汇总!D27 -> 0 | E6: =货币资金汇总!E27 -> 0 | F6: =E6-D6 -> 0 | G6: =IF(D6=0,"",F6/D6*100) | H6: =IF(E6="","",IF(F6=0,"正常",IF(ABS(G6)>=30,"非正常核查原因","正常"))) -> 正常
A7: 3-2 | B7: 交易性金融资产 | C7: =交易性金融资产汇总!C27 -> 0 | D7: =交易性金融资产汇总!D27 -> 0 | E7: =交易性金融资产汇总!E27 -> 0 | F7: =E7-D7 -> 0 | G7: =IF(D7=0,"",F7/D7*100) | H7: =IF(E7="","",IF(F7=0,"正常",IF(ABS(G7)>=30,"非正常核查原因","正常"))) -> 正常
A8: 3-3 | B8: 应收票据 | C8: =应收票据!I27 -> 0 | D8: =应收票据!J27 -> 0 | E8: =应收票据!K27 -> 0 | F8: =E8-D8 -> 0 | G8: =IF(D8=0,"",F8/D8*100) | H8: =IF(E8="","",IF(F8=0,"正常",IF(ABS(G8)>=30,"非正常核查原因","正常"))) -> 正常
A9: 3-4-1 | B9: 应收账款余额 | C9: =应收账款!K24 -> 0 | D9: =应收账款!M24 -> 0 | E9: =应收账款!V24 -> 0 | F9: =E9-D9 -> 0 | G9: =IF(D9=0,"",F9/D9*100) | H9: =IF(E9="","",IF(F9=0,"正常",IF(ABS(G9)>=30,"非正常核查原因","正常"))) -> 正常
A10: 3-4-2 | B10: 应收账款坏账准备 | C10: =应收账款!K25 -> 0 | D10: =应收账款!M25 -> 0 | E10: =应收账款!V26 -> 0 | F10: =E10-D10 -> 0 | G10: =IF(D10=0,"",F10/D10*100) | H10: =IF(E10="","",IF(F10=0,"正常",IF(ABS(G10)>=30,"非正常核查原因","正常"))) -> 正常
A11: 3-4-3 | B11: 应收账款净值 | C11: =应收账款!K27 -> 0 | D11: =应收账款!M27 -> 0 | E11: =应收账款!V27 -> 0 | F11: =E11-D11 -> 0 | G11: =IF(D11=0,"",F11/D11*100) | H11: =IF(E11="","",IF(F11=0,"正常",IF(ABS(G11)>=30,"非正常核查原因","正常"))) -> 正常
A12: 3-5 | B12: 预付账款 | C12: =预付账款!G27 -> 0 | D12: =预付账款!H27 -> 0 | E12: =预付账款!P27 -> 0 | F12: =E12-D12 -> 0 | G12: =IF(D12=0,"",F12/D12*100) | H12: =IF(E12="","",IF(F12=0,"正常",IF(ABS(G12)>=30,"非正常核查原因","正常"))) -> 正常
A13: 3-6 | B13: 应收利息 | C13: =应收利息!I27 -> 0 | D13: =应收利息!J27 -> 0 | E13: =应收利息!K27 -> 0 | F13: =E13-D13 -> 0 | G13: =IF(D13=0,"",F13/D13*100) | H13: =IF(E13="","",IF(F13=0,"正常",IF(ABS(G13)>=30,"非正常核查原因","正常"))) -> 正常
A14: 3-7 | B14: 应收股利（应收利润） | C14: ='应收股利（利润）'!F27 -> 0 | D14: ='应收股利（利润）'!G27 -> 0 | E14: ='应收股利（利润）'!H27 -> 0 | F14: =E14-D14 -> 0 | G14: =IF(D14=0,"",F14/D14*100) | H14: =IF(E14="","",IF(F14=0,"正常",IF(ABS(G14)>=30,"非正常核查原因","正常"))) -> 正常
A15: 3-8-1 | B15: 其他应收款余额 | C15: =其他应收款!H24 -> 0 | D15: =其他应收款!I24 -> 0 | E15: =其他应收款!R24 -> 0 | F15: =E15-D15 -> 0 | G15: =IF(D15=0,"",F15/D15*100) | H15: =IF(E15="","",IF(F15=0,"正常",IF(ABS(G15)>=30,"非正常核查原因","正常"))) -> 正常
A16: 3-8-2 | B16: 其他应收款坏账准备 | C16: =其他应收款!H25 -> 0 | D16: =其他应收款!I25 -> 0 | E16: =其他应收款!R26 -> 0 | F16: =E16-D16 -> 0 | G16: =IF(D16=0,"",F16/D16*100) | H16: =IF(E16="","",IF(F16=0,"正常",IF(ABS(G16)>=30,"非正常核查原因","正常"))) -> 正常
A17: 3-8-3 | B17: 其他应收款净值 | C17: =其他应收款!H27 -> 0 | D17: =其他应收款!I27 -> 0 | E17: =其他应收款!R27 -> 0 | F17: =E17-D17 -> 0 | G17: =IF(D17=0,"",F17/D17*100) | H17: =IF(E17="","",IF(F17=0,"正常",IF(ABS(G17)>=30,"非正常核查原因","正常"))) -> 正常
A18: 3-9 | B18: 存货 | C18: =存货汇总!C27 -> 0 | D18: =存货汇总!D27 -> 0 | E18: =存货汇总!F27 -> 0 | F18: =E18-D18 -> 0 | G18: =IF(D18=0,"",F18/D18*100) | H18: =IF(E18="","",IF(F18=0,"正常",IF(ABS(G18)>=30,"非正常核查原因","正常"))) -> 正常
A19: 3-10 | B19: 一年内到期的非流动资产 | C19: =一年到期非流动资产!G27 -> 0 | D19: =一年到期非流动资产!H27 -> 0 | E19: =一年到期非流动资产!I27 -> 0 | F19: =E19-D19 -> 0 | G19: =IF(D19=0,"",F19/D19*100) | H19: =IF(E19="","",IF(F19=0,"正常",IF(ABS(G19)>=30,"非正常核查原因","正常"))) -> 正常
A20: 3-11 | B20: 其他流动资产 | C20: =其他流动资产!E27 -> 0 | D20: =其他流动资产!F27 -> 0 | E20: =其他流动资产!G27 -> 0 | F20: =E20-D20 -> 0 | G20: =IF(D20=0,"",F20/D20*100) | H20: =IF(E20="","",IF(F20=0,"正常",IF(ABS(G20)>=30,"非正常核查原因","正常"))) -> 正常
G21: =IF(D21=0,"",F21/D21*100) | H21: =IF(E21="","",IF(F21=0,"正常",IF(ABS(G21)>=30,"非正常核查原因","正常")))
G22: =IF(D22=0,"",F22/D22*100) | H22: =IF(E22="","",IF(F22=0,"正常",IF(ABS(G22)>=30,"非正常核查原因","正常")))
G23: =IF(D23=0,"",F23/D23*100) | H23: =IF(E23="","",IF(F23=0,"正常",IF(ABS(G23)>=30,"非正常核查原因","正常")))
G24: =IF(D24=0,"",F24/D24*100) | H24: =IF(E24="","",IF(F24=0,"正常",IF(ABS(G24)>=30,"非正常核查原因","正常")))
G25: =IF(D25=0,"",F25/D25*100) | H25: =IF(E25="","",IF(F25=0,"正常",IF(ABS(G25)>=30,"非正常核查原因","正常")))
G26: =IF(D26=0,"",F26/D26*100) | H26: =IF(E26="","",IF(F26=0,"正常",IF(ABS(G26)>=30,"非正常核查原因","正常")))
G27: =IF(D27=0,"",F27/D27*100) | H27: =IF(E27="","",IF(F27=0,"正常",IF(ABS(G27)>=30,"非正常核查原因","正常")))
G28: =IF(D28=0,"",F28/D28*100) | H28: =IF(E28="","",IF(F28=0,"正常",IF(ABS(G28)>=30,"非正常核查原因","正常")))
G29: =IF(D29=0,"",F29/D29*100) | H29: =IF(E29="","",IF(F29=0,"正常",IF(ABS(G29)>=30,"非正常核查原因","正常")))
H30: =IF(E30="","",IF(F30=0,"正常",IF(ABS(G30)>=30,"非正常核查原因","正常")))
A31: 3 | B31: 流动资产合计 | C31: =SUM(C6:C30)-C9-C10-C15-C16 -> 0 | D31: =SUM(D6:D30)-D9-D10-D15-D16 -> 0 | E31: =SUM(E6:E30)-E9-E10-E15-E16 -> 0 | F31: =E31-D31 -> 0 | G31: =IF(D31=0,"",F31/D31*100) | H31: =IF(E31="","",IF(F31=0,"正常",IF(ABS(G31)>=30,"非正常核查原因","正常"))) -> 正常
F32: ="评估人员："&#REF! -> #REF!

Sheet 货币资金汇总
A1: 返回索引页 | B1: 返回
A2: 货币资金评估汇总表
A3: =CONCATENATE(#REF!,#REF!,#REF!,#REF!,#REF!,#REF!,#REF!) -> #REF!
A4: =#REF!&#REF! -> #REF! | G4: 金额单位：人民币元
A5: 编号 | B5: 科目名称 | C5: 审计前账面值 | D5: 账面价值 | E5: 评估价值 | F5: 增值额 | G5: 增值率% | H5: 检验
A6: 3-1-1 | B6: 现金 | C6: =现金!G33 -> 0 | D6: =现金!H33 -> 0 | E6: =现金!I33 -> 0 | F6: =E6-D6 -> 0 | G6: =IF(D6=0,"",F6/D6*100) | H6: =IF(G6="","正常","非正常核查原因") -> 正常
A7: 3-1-2 | B7: 银行存款 | C7: =银行存款!H27 -> 0 | D7: =银行存款!I27 -> 0 | E7: =银行存款!J27 -> 0 | F7: =E7-D7 -> 0 | G7: =IF(D7=0,"",F7/D7*100) | H7: =IF(G7="","正常","非正常核查原因") -> 正常
A8: 3-1-3 | B8: 其他货币资金 | C8: =其他货币资金!I27 -> 0 | D8: =其他货币资金!J27 -> 0 | E8: =其他货币资金!K27 -> 0 | F8: =E8-D8 -> 0 | G8: =IF(D8=0,"",F8/D8*100) | H8: =IF(G8="","正常","非正常核查原因") -> 正常
H9: =IF(G9="","正常","非正常核查原因") -> 正常
H10: =IF(G10="","正常","非正常核查原因") -> 正常
H11: =IF(G11="","正常","非正常核查原因") -> 正常
H12: =IF(G12="","正常","非正常核查原因") -> 正常
H13: =IF(G13="","正常","非正常核查原因") -> 正常
H14: =IF(G14="","正常","非正常核查原因") -> 正常
H15: =IF(G15="","正常","非正常核查原因") -> 正常
H16: =IF(G16="","正常","非正常核查原因") -> 正常
H17: =IF(G17="","正常","非正常核查原因") -> 正常
H18: =IF(G18="","正常","非正常核查原因") -> 正常
H19: =IF(G19="","正常","非正常核查原因") -> 正常
H20: =IF(G20="","正常","非正常核查原因") -> 正常
... H26: =IF(G26="","正常","非正常核查原因") -> 正常
A27: 3-2 | B27: 货币资金合计 | C27: =SUM(C6:C26) -> 0 | D27: =SUM(D6:D26) -> 0 | E27: =SUM(E6:E26) -> 0 | F27: =SUM(F6:F26) -> 0 | G27: =IF(D27=0,"",F27/D27*100) | H27: =IF(G27="","正常","非正常核查原因") -> 正常
F28: ="评估人员："&#REF! -> #REF!

Sheet 现金
A1: 返回索引页 | B1: 返回
A2: 货币资金—现金评估明细表
A3: =CONCATENATE(#REF!,#REF!,#REF!,#REF!,#REF!,#REF!,#REF!) -> #REF!
A4: =#REF!&#REF! -> #REF! | L4: 金额单位：人民币元
A5: 序号 | B5: 对应核算单位 | C5: 存放部门（单位) | D5: 币种 | E5: 外币账面金额 | F5: 评估基准日汇率 | G5: 审计前账面值 | H5: 账面价值 | I5: 评估价值 | J5: 增减值 | K5: 增值率% | L5: 备注 | M5: 检验
J6: =IF(H6="","",I6-H6) | K6: =IF(H6=0,"",J6/H6*100) | M6: =IF(I6="","",IF(J6=0,"正常","非正常核查原因"))
J7: =IF(H7="","",I7-H7) | K7: =IF(H7=0,"",J7/H7*100) | M7: =IF(I7="","",IF(J7=0,"正常","非正常核查原因"))
M8: =IF(I8="","",IF(J8=0,"正常","非正常核查原因"))
M9: =IF(I9="","",IF(J9=0,"正常","非正常核查原因"))
M10: =IF(I10="","",IF(J10=0,"正常","非正常核查原因"))
M11: =IF(I11="","",IF(J11=0,"正常","非正常核查原因"))
M12: =IF(I12="","",IF(J12=0,"正常","非正常核查原因"))
M13: =IF(I13="","",IF(J13=0,"正常","非正常核查原因"))
J14: =IF(H14="","",I14-H14) | K14: =IF(H14=0,"",J14/H14*100) | M14: =IF(I14="","",IF(J14=0,"正常","非正常核查原因"))
J15: =IF(H15="","",I15-H15) | K15: =IF(H15=0,"",J15/H15*100) | M15: =IF(I15="","",IF(J15=0,"正常","非正常核查原因"))
J16: =IF(H16="","",I16-H16) | K16: =IF(H16=0,"",J16/H16*100) | M16: =IF(I16="","",IF(J16=0,"正常","非正常核查原因"))
J17: =IF(H17="","",I17-H17) | K17: =IF(H17=0,"",J17/H17*100) | M17: =IF(I17="","",IF(J17=0,"正常","非正常核查原因"))
J18: =IF(H18="","",I18-H18) | K18: =IF(H18=0,"",J18/H18*100) | M18: =IF(I18="","",IF(J18=0,"正常","非正常核查原因"))
J19: =IF(H19="","",I19-H19) | K19: =IF(H19=0,"",J19/H19*100) | M19: =IF(I19="","",IF(J19=0,"正常","非正常核查原因"))
J20: =IF(H20="","",I20-H20) | K20: =IF(H20=0,"",J20/H20*100) | M20: =IF(I20="","",IF(J20=0,"正常","非正常核查原因"))
J21: =IF(H21="","",I21-H21) | K21: =IF(H21=0,"",J21/H21*100) | M21: =IF(I21="","",IF(J21=0,"正常","非正常核查原因"))
J22: =IF(H22="","",I22-H22) | K22: =IF(H22=0,"",J22/H22*100) | M22: =IF(I22="","",IF(J22=0,"正常","非正常核查原因"))
J23: =IF(H23="","",I23-H23) | K23: =IF(H23=0,"",J23/H23*100) | M23: =IF(I23="","",IF(J23=0,"正常","非正常核查原因"))
J24: =IF(H24="","",I24-H24) | K24: =IF(H24=0,"",J24/H24*100) | M24: =IF(I24="","",IF(J24=0,"正常","非正常核查原因"))
J25: =IF(H25="","",I25-H25) | K25: =IF(H25=0,"",J25/H25*100) | M25: =IF(I25="","",IF(J25=0,"正常","非正常核查原因"))
... J32: =IF(H32="","",I32-H32) | K32: =IF(H32=0,"",J32/H32*100) | M32: =IF(I32="","",IF(J32=0,"正常","非正常核查原因"))
A33: 合 计 | G33: =SUM(G6:G32) -> 0 | H33: =SUM(H6:H32) -> 0 | I33: =SUM(I6:I32) -> 0 | J33: =IF(H33="","",I33-H33) -> 0 | K33: =IF(H33=0,"",J33/H33*100) | M33: =IF(I33="","",IF(J33=0,"正常","非正常核查原因")) -> 正常
A34: =#REF!&#REF! -> #REF! | I34: ="评估人员："&#REF! -> #REF!
A35: =CONCATENATE(#REF!,#REF!,#REF!,#REF!,#REF!,#REF!,#REF!) -> #REF!

Sheet 银行存款
A1: 返回索引页 | B1: 返回
A2: 货币资金—银行存款评估明细表
A3: =CONCATENATE(#REF!,#REF!,#REF!,#REF!,#REF!,#REF!,#REF!) -> #REF!
A4: =#REF!&#REF! -> #REF! | M4: 金额单位：人民币元
A5: 序号 | B5: 对应核算单位 | C5: 开户银行 | D5: 账号 | E5: 币种 | F5: 外币账面金额 | G5: 评估基准日汇率 | H5: 审计前账面值 | I5: 账面价值 | J5: 评估价值 | K5: 增减值 | L5: 增值率% | M5: 备注 | N5: 检验
K6: =IF(I6="","",J6-I6) | L6: =IF(I6=0,"",K6/I6*100) | N6: =IF(J6="","",IF(K6=0,"正常","非正常核查原因"))
K7: =IF(I7="","",J7-I7) | L7: =IF(I7=0,"",K7/I7*100) | N7: =IF(J7="","",IF(K7=0,"正常","非正常核查原因"))
K8: =IF(I8="","",J8-I8) | L8: =IF(I8=0,"",K8/I8*100) | N8: =IF(J8="","",IF(K8=0,"正常","非正常核查原因"))
K9: =IF(I9="","",J9-I9) | L9: =IF(I9=0,"",K9/I9*100) | N9: =IF(J9="","",IF(K9=0,"正常","非正常核查原因"))
K10: =IF(I10="","",J10-I10) | L10: =IF(I10=0,"",K10/I10*100) | N10: =IF(J10="","",IF(K10=0,"正常","非正常核查原因"))
K11: =IF(I11="","",J11-I11) | L11: =IF(I11=0,"",K11/I11*100) | N11: =IF(J11="","",IF(K11=0,"正常","非正常核查原因"))
K12: =IF(I12="","",J12-I12) | L12: =IF(I12=0,"",K12/I12*100) | N12: =IF(J12="","",IF(K12=0,"正常","非正常核查原因"))
K13: =IF(I13="","",J13-I13) | L13: =IF(I13=0,"",K13/I13*100) | N13: =IF(J13="","",IF(K13=0,"正常","非正常核查原因"))
K14: =IF(I14="","",J14-I14) | L14: =IF(I14=0,"",K14/I14*100) | N14: =IF(J14="","",IF(K14=0,"正常","非正常核查原因"))
K15: =IF(I15="","",J15-I15) | L15: =IF(I15=0,"",K15/I15*100) | N15: =IF(J15="","",IF(K15=0,"正常","非正常核查原因"))
K16: =IF(I16="","",J16-I16) | L16: =IF(I16=0,"",K16/I16*100) | N16: =IF(J16="","",IF(K16=0,"正常","非正常核查原因"))
K17: =IF(I17="","",J17-I17) | L17: =IF(I17=0,"",K17/I17*100) | N17: =IF(J17="","",IF(K17=0,"正常","非正常核查原因"))
... K26: =IF(I26="","",J26-I26) | L26: =IF(I26=0,"",K26/I26*100) | N26: =IF(J26="","",IF(K26=0,"正常","非正常核查原因"))
A27: 合 计 | H27: =SUM(H6:H26) -> 0 | I27: =SUM(I6:I26) -> 0 | J27: =SUM(J6:J26) -> 0 | K27: =IF(I27="","",J27-I27) -> 0 | L27: =IF(I27=0,"",K27/I27*100) | N27: =IF(J27="","",IF(K27=0,"正常","非正常核查原因")) -> 正常
A28: =#REF!&#REF! -> #REF! | J28: ="评估人员："&#REF! -> #REF!
A29: =CONCATENATE(#REF!,#REF!,#REF!,#REF!,#REF!,#REF!,#REF!) -> #REF!

Sheet 其他货币资金
A1: 返回索引页 | B1: 返回
A2: 货币资金—其他货币资金评估明细表
A3: =CONCATENATE(#REF!,#REF!,#REF!,#REF!,#REF!,#REF!,#REF!) -> #REF!
A4: =#REF!&#REF! -> #REF! | N4: 金额单位：人民币元
A5: 序号 | B5: 对应核算单位 | C5: 名称及内容 | D5: 账户号码 | E5: 用途/业务内容 | F5: 币种 | G5: 外币账面金额 | H5: 评估基准日汇率 | I5: 审计前账面值 | J5: 账面价值 | K5: 评估价值 | L5: 增减值 | M5: 增值率% | N5: 备注 | O5: 检验
L6: =IF(J6="","",K6-J6) | M6: =IF(J6=0,"",L6/J6*100) | O6: =IF(K6="","",IF(L6=0,"正常","非正常核查原因"))
L7: =IF(J7="","",K7-J7) | M7: =IF(J7=0,"",L7/J7*100) | O7: =IF(K7="","",IF(L7=0,"正常","非正常核查原因"))
L8: =IF(J8="","",K8-J8) | M8: =IF(J8=0,"",L8/J8*100) | O8: =IF(K8="","",IF(L8=0,"正常","非正常核查原因"))
L9: =IF(J9="","",K9-J9) | M9: =IF(J9=0,"",L9/J9*100) | O9: =IF(K9="","",IF(L9=0,"正常","非正常核查原因"))
L10: =IF(J10="","",K10-J10) | M10: =IF(J10=0,"",L10/J10*100) | O10: =IF(K10="","",IF(L10=0,"正常","非正常核查原因"))
L11: =IF(J11="","",K11-J11) | M11: =IF(J11=0,"",L11/J11*100) | O11: =IF(K11="","",IF(L11=0,"正常","非正常核查原因"))
L12: =IF(J12="","",K12-J12) | M12: =IF(J12=0,"",L12/J12*100) | O12: =IF(K12="","",IF(L12=0,"正常","非正常核查原因"))
L13: =IF(J13="","",K13-J13) | M13: =IF(J13=0,"",L13/J13*100) | O13: =IF(K13="","",IF(L13=0,"正常","非正常核查原因"))
L14: =IF(J14="","",K14-J14) | M14: =IF(J14=0,"",L14/J14*100) | O14: =IF(K14="","",IF(L14=0,"正常","非正常核查原因"))
L15: =IF(J15="","",K15-J15) | M15: =IF(J15=0,"",L15/J15*100) | O15: =IF(K15="","",IF(L15=0,"正常","非正常核查原因"))
L16: =IF(J16="","",K16-J16) | M16: =IF(J16=0,"",L16/J16*100) | O16: =IF(K16="","",IF(L16=0,"正常","非正常核查原因"))
L17: =IF(J17="","",K17-J17) | M17: =IF(J17=0,"",L17/J17*100) | O17: =IF(K17="","",IF(L17=0,"正常","非正常核查原因"))
... L26: =IF(J26="","",K26-J26) | M26: =IF(J26=0,"",L26/J26*100) | O26: =IF(K26="","",IF(L26=0,"正常","非正常核查原因"))
A27: 合 计 | I27: =SUM(I6:I26) -> 0 | J27: =SUM(J6:J26) -> 0 | K27: =SUM(K6:K26) -> 0 | L27: =IF(J27="","",K27-J27) -> 0 | M27: =IF(J27=0,"",L27/J27*100) | O27: =IF(K27="","",IF(L27=0,"正常","非正常核查原因")) -> 正常
A28: =#REF!&#REF! -> #REF! | K28: ="评估人员："&#REF! -> #REF!
A29: =CONCATENATE(#REF!,#REF!,#REF!,#REF!,#REF!,#REF!,#REF!) -> #REF!

Sheet 交易性金融资产汇总
A1: 返回索引页 | B1: 返回
A2: 交易性金融资产评估汇总表
A3: =CONCATENATE(#REF!,#REF!,#REF!,#REF!,#REF!,#REF!,#REF!) -> #REF!
A4: =#REF!&#REF! -> #REF! | G4: 金额单位：人民币元
A5: 编号 | B5: 科目名称 | C5: 审计前账面值 | D5: 账面价值 | E5: 评估价值 | F5: 增值额 | G5: 增值率% | H5: 检验
A6: 3-2-1 | B6: 交易性金融资产-股票投资 | C6: ='交易性-股票'!H27 -> 0 | D6: ='交易性-股票'!J27 -> 0 | E6: ='交易性-股票'!M27 -> 0 | F6: =E6-D6 -> 0 | G6: =IF(D6=0,"",F6/D6*100) | H6: =IF(G6="","正常","非正常核查原因") -> 正常
A7: 3-2-2 | B7: 交易性金融资产-债券投资 | C7: ='交易性-债券'!I27 -> 0 | D7: ='交易性-债券'!K27 -> 0 | E7: ='交易性-债券'!M27 -> 0 | F7: =E7-D7 -> 0 | G7: =IF(D7=0,"",F7/D7*100) | H7: =IF(G7="","正常","非正常核查原因") -> 正常
A8: 3-2-3 | B8: 交易性金融资产-基金投资 | C8: ='交易性-基金'!H27 -> 0 | D8: ='交易性-基金'!J27 -> 0 | E8: ='交易性-基金'!M27 -> 0 | F8: =E8-D8 -> 0 | G8: =IF(D8=0,"",F8/D8*100) | H8: =IF(G8="","正常","非正常核查原因") -> 正常
H9: =IF(G9="","正常","非正常核查原因") -> 正常
H10: =IF(G10="","正常","非正常核查原因") -> 正常
H11: =IF(G11="","正常","非正常核查原因") -> 正常
H12: =IF(G12="","正常","非正常核查原因") -> 正常
H13: =IF(G13="","正常","非正常核查原因") -> 正常
H14: =IF(G14="","正常","非正常核查原因") -> 正常
H15: =IF(G15="","正常","非正常核查原因") -> 正常
H16: =IF(G16="","正常","非正常核查原因") -> 正常
H17: =IF(G17="","正常","非正常核查原因") -> 正常
H18: =IF(G18="","正常","非正常核查原因") -> 正常
H19: =IF(G19="","正常","非正常核查原因") -> 正常
H20: =IF(G20="","正常","非正常核查原因") -> 正常
... H26: =IF(G26="","正常","非正常核查原因") -> 正常
A27: 3-2 | B27: 交易性金融资产合计 | C27: =SUM(C6:C26) -> 0 | D27: =SUM(D6:D26) -> 0 | E27: =SUM(E6:E26) -> 0 | F27: =SUM(F6:F26) -> 0 | G27: =IF(D27=0,"",F27/D27*100) | H27: =IF(G27="","正常","非正常核查原因") -> 正常
E28: ="评估人员："&#REF! -> #REF!

Sheet 交易性-股票
A1: 返回索引页 | B1: 返回
A2: 交易性金融资产—股票投资评估明细表
A3: =CONCATENATE(#REF!,#REF!,#REF!,#REF!,#REF!,#REF!,#REF!) -> #REF!
A4: =#REF!&#REF! -> #REF! | P4: 金额单位：人民币元
A5: 序号 | B5: 对应核算单位 | C5: 被投资单位名称 | D5: 股票名称 | E5: 投资日期 | F5: 持股数量 | G5: 成本 | H5: 审计前账面值 | I5: 减值准备 | J5: 账面价值 | K5: 减值准备 | L5: 基准日收盘价/股 | M5: 评估价值 | N5: 增减值 | O5: 增值率% | P5: 备注 | Q5: 检验
N6: =IF(J6="","",M6-J6+K6) | O6: =IF(J6=0,"",N6/(J6-K6)*100) | Q6: =IF(M6="","",IF(N6=0,"正常","非正常核查原因"))
N7: =IF(J7="","",M7-J7+K7) | O7: =IF(J7=0,"",N7/(J7-K7)*100) | Q7: =IF(M7="","",IF(N7=0,"正常","非正常核查原因"))
N8: =IF(J8="","",M8-J8+K8) | O8: =IF(J8=0,"",N8/(J8-K8)*100) | Q8: =IF(M8="","",IF(N8=0,"正常","非正常核查原因"))
N9: =IF(J9="","",M9-J9+K9) | O9: =IF(J9=0,"",N9/(J9-K9)*100) | Q9: =IF(M9="","",IF(N9=0,"正常","非正常核查原因"))
N10: =IF(J10="","",M10-J10+K10) | O10: =IF(J10=0,"",N10/(J10-K10)*100) | Q10: =IF(M10="","",IF(N10=0,"正常","非正常核查原因"))
N11: =IF(J11="","",M11-J11+K11) | O11: =IF(J11=0,"",N11/(J11-K11)*100) | Q11: =IF(M11="","",IF(N11=0,"正常","非正常核查原因"))
N12: =IF(J12="","",M12-J12+K12) | O12: =IF(J12=0,"",N12/(J12-K12)*100) | Q12: =IF(M12="","",IF(N12=0,"正常","非正常核查原因"))
N13: =IF(J13="","",M13-J13+K13) | O13: =IF(J13=0,"",N13/(J13-K13)*100) | Q13: =IF(M13="","",IF(N13=0,"正常","非正常核查原因"))
N14: =IF(J14="","",M14-J14+K14) | O14: =IF(J14=0,"",N14/(J14-K14)*100) | Q14: =IF(M14="","",IF(N14=0,"正常","非正常核查原因"))
N15: =IF(J15="","",M15-J15+K15) | O15: =IF(J15=0,"",N15/(J15-K15)*100) | Q15: =IF(M15="","",IF(N15=0,"正常","非正常核查原因"))
N16: =IF(J16="","",M16-J16+K16) | O16: =IF(J16=0,"",N16/(J16-K16)*100) | Q16: =IF(M16="","",IF(N16=0,"正常","非正常核查原因"))
N17: =IF(J17="","",M17-J17+K17) | O17: =IF(J17=0,"",N17/(J17-K17)*100) | Q17: =IF(M17="","",IF(N17=0,"正常","非正常核查原因"))
... N26: =IF(J26="","",M26-J26+K26) | O26: =IF(J26=0,"",N26/(J26-K26)*100) | Q26: =IF(M26="","",IF(N26=0,"正常","非正常核查原因"))
A27: 合 计 | H27: =SUM(H6:H26) -> 0 | J27: =SUM(J6:J26) -> 0 | K27: =SUM(K6:K26) -> 0 | M27: =SUM(M6:M26) -> 0 | N27: =IF(J27="","",M27-J27+K27) -> 0 | O27: =IF(J27=0,"",N27/(J27-K27)*100) | Q27: =IF(M27="","",IF(N27=0,"正常","非正常核查原因")) -> 正常
A28: =#REF!&#REF! -> #REF! | M28: ="评估人员："&#REF! -> #REF!
A29: =CONCATENATE(#REF!,#REF!,#REF!,#REF!,#REF!,#REF!,#REF!) -> #REF!

Sheet 交易性-债券
A1: 返回索引页 | B1: 返回
A2: 交易性金融资产—债券投资评估明细表
A3: =CONCATENATE(#REF!,#REF!,#REF!,#REF!,#REF!,#REF!,#REF!) -> #REF!
A4: =#REF!&#REF! -> #REF! | P4: 金额单位：人民币元
A5: 序号 | B5: 对应核算单位 | C5: 被投资单位名称 | D5: 债券名称 | E5: 发行日期 | F5: 投资日期 | G5: 票面利率% | H5: 成本 | I5: 审计前账面值 | J5: 减值准备 | K5: 账面价值 | L5: 减值准备 | M5: 评估价值 | N5: 增减值 | O5: 增值率% | P5: 备注 | Q5: 检验
N6: =IF(K6="","",M6-K6-L6) | O6: =IF(K6=0,"",N6/(K6-L6)*100) | Q6: =IF(M6="","",IF(N6=0,"正常","非正常核查原因"))
N7: =IF(K7="","",M7-K7-L7) | O7: =IF(K7=0,"",N7/(K7-L7)*100) | Q7: =IF(M7="","",IF(N7=0,"正常","非正常核查原因"))
N8: =IF(K8="","",M8-K8-L8) | O8: =IF(K8=0,"",N8/(K8-L8)*100) | Q8: =IF(M8="","",IF(N8=0,"正常","非正常核查原因"))
N9: =IF(K9="","",M9-K9-L9) | O9: =IF(K9=0,"",N9/(K9-L9)*100) | Q9: =IF(M9="","",IF(N9=0,"正常","非正常核查原因"))
N10: =IF(K10="","",M10-K10-L10) | O10: =IF(K10=0,"",N10/(K10-L10)*100) | Q10: =IF(M10="","",IF(N10=0,"正常","非正常核查原因"))
N11: =IF(K11="","",M11-K11-L11) | O11: =IF(K11=0,"",N11/(K11-L11)*100) | Q11: =IF(M11="","",IF(N11=0,"正常","非正常核查原因"))
N12: =IF(K12="","",M12-K12-L12) | O12: =IF(K12=0,"",N12/(K12-L12)*100) | Q12: =IF(M12="","",IF(N12=0,"正常","非正常核查原因"))
N13: =IF(K13="","",M13-K13-L13) | O13: =IF(K13=0,"",N13/(K13-L13)*100) | Q13: =IF(M13="","",IF(N13=0,"正常","非正常核查原因"))
N14: =IF(K14="","",M14-K14-L14) | O14: =IF(K14=0,"",N14/(K14-L14)*100) | Q14: =IF(M14="","",IF(N14=0,"正常","非正常核查原因"))
N15: =IF(K15="","",M15-K15-L15) | O15: =IF(K15=0,"",N15/(K15-L15)*100) | Q15: =IF(M15="","",IF(N15=0,"正常","非正常核查原因"))
N16: =IF(K16="","",M16-K16-L16) | O16: =IF(K16=0,"",N16/(K16-L16)*100) | Q16: =IF(M16="","",IF(N16=0,"正常","非正常核查原因"))
N17: =IF(K17="","",M17-K17-L17) | O17: =IF(K17=0,"",N17/(K17-L17)*100) | Q17: =IF(M17="","",IF(N17=0,"正常","非正常核查原因"))
... N26: =IF(K26="","",M26-K26-L26) | O26: =IF(K26=0,"",N26/(K26-L26)*100) | Q26: =IF(M26="","",IF(N26=0,"正常","非正常核查原因"))
A27: 合 计 | I27: =SUM(I6:I26) -> 0 | K27: =SUM(K6:K26) -> 0 | L27: =SUM(L6:L26) -> 0 | M27: =SUM(M6:M26) -> 0 | N27: =IF(K27="","",M27-K27-L27) -> 0 | O27: =IF(K27=0,"",N27/(K27-L27)*100) | Q27: =IF(M27="","",IF(N27=0,"正常","非正常核查原因")) -> 正常
A28: =#REF!&#REF! -> #REF! | M28: ="评估人员："&#REF! -> #REF!
A29: =CONCATENATE(#REF!,#REF!,#REF!,#REF!,#REF!,#REF!,#REF!) -> #REF!

Sheet 交易性-基金
A1: 返回索引页 | B1: 返回
A2: 交易性金融资产—基金投资评估明细表
A3: =CONCATENATE(#REF!,#REF!,#REF!,#REF!,#REF!,#REF!,#REF!) -> #REF!
A4: =#REF!&#REF! -> #REF! | P4: 金额单位：人民币元
A5: 序号 | B5: 对应核算单位 | C5: 基金发行单位 | D5: 基金名称 | E5: 基金类型 | F5: 投资日期 | G5: 基金份额 | H5: 审计前账面值 | I5: 减值准备 | J5: 账面价值 | K5: 减值准备 | L5: 基准日净值/份 | M5: 评估价值 | N5: 增减值 | O5: 增值率% | P5: 备注 | Q5: 检验
N6: =IF(J6="","",M6-J6+K6) | O6: =IF(J6=0,"",N6/(J6-K6)*100) | Q6: =IF(M6="","",IF(N6=0,"正常","非正常核查原因"))
N7: =IF(J7="","",M7-J7+K7) | O7: =IF(J7=0,"",N7/(J7-K7)*100) | Q7: =IF(M7="","",IF(N7=0,"正常","非正常核查原因"))
N8: =IF(J8="","",M8-J8+K8) | O8: =IF(J8=0,"",N8/(J8-K8)*100) | Q8: =IF(M8="","",IF(N8=0,"正常","非正常核查原因"))
N9: =IF(J9="","",M9-J9+K9) | O9: =IF(J9=0,"",N9/(J9-K9)*100) | Q9: =IF(M9="","",IF(N9=0,"正常","非正常核查原因"))
N10: =IF(J10="","",M10-J10+K10) | O10: =IF(J10=0,"",N10/(J10-K10)*100) | Q10: =IF(M10="","",IF(N10=0,"正常","非正常核查原因"))
N11: =IF(J11="","",M11-J11+K11) | O11: =IF(J11=0,"",N11/(J11-K11)*100) | Q11: =IF(M11="","",IF(N11=0,"正常","非正常核查原因"))
N12: =IF(J12="","",M12-J12+K12) | O12: =IF(J12=0,"",N12/(J12-K12)*100) | Q12: =IF(M12="","",IF(N12=0,"正常","非正常核查原因"))
N13: =IF(J13="","",M13-J13+K13) | O13: =IF(J13=0,"",N13/(J13-K13)*100) | Q13: =IF(M13="","",IF(N13=0,"正常","非正常核查原因"))
N14: =IF(J14="","",M14-J14+K14) | O14: =IF(J14=0,"",N14/(J14-K14)*100) | Q14: =IF(M14="","",IF(N14=0,"正常","非正常核查原因"))
N15: =IF(J15="","",M15-J15+K15) | O15: =IF(J15=0,"",N15/(J15-K15)*100) | Q15: =IF(M15="","",IF(N15=0,"正常","非正常核查原因"))
N16: =IF(J16="","",M16-J16+K16) | O16: =IF(J16=0,"",N16/(J16-K16)*100) | Q16: =IF(M16="","",IF(N16=0,"正常","非正常核查原因"))
N17: =IF(J17="","",M17-J17+K17) | O17: =IF(J17=0,"",N17/(J17-K17)*100) | Q17: =IF(M17="","",IF(N17=0,"正常","非正常核查原因"))
... N26: =IF(J26="","",M26-J26+K26) | O26: =IF(J26=0,"",N26/(J26-K26)*100) | Q26: =IF(M26="","",IF(N26=0,"正常","非正常核查原因"))
A27: 合 计 | H27: =SUM(H6:H26) -> 0 | J27: =SUM(J6:J26) -> 0 | K27: =SUM(K6:K26) -> 0 | M27: =SUM(M6:M26) -> 0 | N27: =IF(J27="","",M27-J27+K27) -> 0 | O27: =IF(J27=0,"",N27/(J27-K27)*100) | Q27: =IF(M27="","",IF(N27=0,"正常","非正常核查原因")) -> 正常
A28: =#REF!&#REF! -> #REF! | M28: ="评估人员："&#REF! -> #REF!
A29: =CONCATENATE(#REF!,#REF!,#REF!,#REF!,#REF!,#REF!,#REF!) -> #REF!

Sheet 应收票据
A1: 返回索引页 | B1: 返回
A2: 应收票据评估明细表
A3: =CONCATENATE(#REF!,#REF!,#REF!,#REF!,#REF!,#REF!,#REF!) -> #REF!
A4: =#REF!&#REF! -> #REF! | N4: 金额单位：人民币元
A5: 序号 | B5: 户名（结算对象) | C5: 出票银行 | D5: 票据类型 | E5: 出票日期 | F5: 到期日期 | G5: 贴现日期 | H5: 票面利率% | I5: 审计前账面值 | J5: 账面价值 | K5: 评估价值 | L5: 增减值 | M5: 增值率% | N5: 备注 | O5: 检验
L6: =IF(J6="","",K6-J6) | M6: =IF(J6=0,"",L6/J6*100) | O6: =IF(K6="","",IF(L6=0,"正常","非正常核查原因"))
L7: =IF(J7="","",K7-J7) | M7: =IF(J7=0,"",L7/J7*100) | O7: =IF(K7="","",IF(L7=0,"正常","非正常核查原因"))
L8: =IF(J8="","",K8-J8) | M8: =IF(J8=0,"",L8/J8*100) | O8: =IF(K8="","",IF(L8=0,"正常","非正常核查原因"))
L9: =IF(J9="","",K9-J9) | M9: =IF(J9=0,"",L9/J9*100) | O9: =IF(K9="","",IF(L9=0,"正常","非正常核查原因"))
L10: =IF(J10="","",K10-J10) | M10: =IF(J10=0,"",L10/J10*100) | O10: =IF(K10="","",IF(L10=0,"正常","非正常核查原因"))
L11: =IF(J11="","",K11-J11) | M11: =IF(J11=0,"",L11/J11*100) | O11: =IF(K11="","",IF(L11=0,"正常","非正常核查原因"))
L12: =IF(J12="","",K12-J12) | M12: =IF(J12=0,"",L12/J12*100) | O12: =IF(K12="","",IF(L12=0,"正常","非正常核查原因"))
L13: =IF(J13="","",K13-J13) | M13: =IF(J13=0,"",L13/J13*100) | O13: =IF(K13="","",IF(L13=0,"正常","非正常核查原因"))
L14: =IF(J14="","",K14-J14) | M14: =IF(J14=0,"",L14/J14*100) | O14: =IF(K14="","",IF(L14=0,"正常","非正常核查原因"))
L15: =IF(J15="","",K15-J15) | M15: =IF(J15=0,"",L15/J15*100) | O15: =IF(K15="","",IF(L15=0,"正常","非正常核查原因"))
L16: =IF(J16="","",K16-J16) | M16: =IF(J16=0,"",L16/J16*100) | O16: =IF(K16="","",IF(L16=0,"正常","非正常核查原因"))
L17: =IF(J17="","",K17-J17) | M17: =IF(J17=0,"",L17/J17*100) | O17: =IF(K17="","",IF(L17=0,"正常","非正常核查原因"))
... L23: =IF(J23="","",K23-J23) | M23: =IF(J23=0,"",L23/J23*100) | O23: =IF(K23="","",IF(L23=0,"正常","非正常核查原因"))
A24: 合 计 | I24: =SUM(I6:I23) -> 0 | J24: =SUM(J6:J23) -> 0 | K24: =SUM(K6:K23) -> 0 | L24: =IF(J24="","",K24-J24) -> 0 | M24: =IF(J24=0,"",L24/J24*100) | O24: =IF(K24="","",IF(L24=0,"正常","非正常核查原因")) -> 正常
A25: 减：应收票据坏帐准备 | L25: =IF(J25="","",K25-J25) | M25: =IF(J25=0,"",L25/J25*100) | O25: =IF(K25="","",IF(L25=0,"正常","非正常核查原因"))
A26: 减：评估风险损失 | L26: =IF(J26="","",K26-J26) | M26: =IF(J26=0,"",L26/J26*100) | O26: =IF(K26="","",IF(L26=0,"正常","非正常核查原因"))
A27: 合 计 | I27: =I24-I25 -> 0 | J27: =J24-J25 -> 0 | K27: =K24-K26 -> 0 | L27: =IF(J27="","",K27-J27) -> 0 | M27: =IF(J27=0,"",L27/J27*100) | O27: =IF(K27="","",IF(L27=0,"正常","非正常核查原因")) -> 正常
A28: =#REF!&#REF! -> #REF! | K28: ="评估人员："&#REF! -> #REF!
A29: =CONCATENATE(#REF!,#REF!,#REF!,#REF!,#REF!,#REF!,#REF!) -> #REF!

Sheet 应收账款
A1: 返回索引页 | B1: 返回
A2: 应收账款评估明细表
A3: =CONCATENATE(#REF!,#REF!,#REF!,#REF!,#REF!,#REF!,#REF!) -> #REF!
A4: =#REF!&#REF! -> #REF! | Y4: 金额单位：人民币元
A5: 序号 | B5: 对应核算单位 | C5: 欠款单位名称（结算对象) | D5: 关联关系类型 | E5: 业务内容 | F5: 发生日期 | G5: 帐龄(月) | H5: 币种 | I5: 外币账面金额 | J5: 评估基准日汇率 | K5: 审计前账面值 | L5: 坏帐准备 | M5: 账面价值 | N5: 账龄 | U5: 坏帐准备 | V5: 评估价值 | W5: 增减值 | X5: 增值率% | Y5: 备注
N6: 1-6个月 | O6: 7－12个月 | P6: 1-2年 (含2年) | Q6: 2-3年(含3年) | R6: 3-4年(含4年) | S6: 4-5年(含5年) | T6: 5年以上金额 | Z6: 检验
F7: 36892 | G7: =IF(F7=0,"",((#REF!)-YEAR(F7))*12+(#REF!)-MONTH(F7)) -> #REF! | W7: =IF(M7="","",V7-M7+U7) | X7: =IF(M7=0,"",W7/(M7-U7)*100) | Z7: =IF(V7="","",IF(W7=0,"正常","非正常核查原因"))
G8: =IF(F8=0,"",((#REF!)-YEAR(F8))*12+(#REF!)-MONTH(F8)) | W8: =IF(M8="","",V8-M8+U8) | X8: =IF(M8=0,"",W8/(M8-U8)*100) | Z8: =IF(V8="","",IF(W8=0,"正常","非正常核查原因"))
G9: =IF(F9=0,"",((#REF!)-YEAR(F9))*12+(#REF!)-MONTH(F9)) | W9: =IF(M9="","",V9-M9+U9) | X9: =IF(M9=0,"",W9/(M9-U9)*100) | Z9: =IF(V9="","",IF(W9=0,"正常","非正常核查原因"))
G10: =IF(F10=0,"",((#REF!)-YEAR(F10))*12+(#REF!)-MONTH(F10)) | W10: =IF(M10="","",V10-M10+U10) | X10: =IF(M10=0,"",W10/(M10-U10)*100) | Z10: =IF(V10="","",IF(W10=0,"正常","非正常核查原因"))
G11: =IF(F11=0,"",((#REF!)-YEAR(F11))*12+(#REF!)-MONTH(F11)) | W11: =IF(M11="","",V11-M11+U11) | X11: =IF(M11=0,"",W11/(M11-U11)*100) | Z11: =IF(V11="","",IF(W11=0,"正常","非正常核查原因"))
G12: =IF(F12=0,"",((#REF!)-YEAR(F12))*12+(#REF!)-MONTH(F12)) | W12: =IF(M12="","",V12-M12+U12) | X12: =IF(M12=0,"",W12/(M12-U12)*100) | Z12: =IF(V12="","",IF(W12=0,"正常","非正常核查原因"))
G13: =IF(F13=0,"",((#REF!)-YEAR(F13))*12+(#REF!)-MONTH(F13)) | W13: =IF(M13="","",V13-M13+U13) | X13: =IF(M13=0,"",W13/(M13-U13)*100) | Z13: =IF(V13="","",IF(W13=0,"正常","非正常核查原因"))
G14: =IF(F14=0,"",((#REF!)-YEAR(F14))*12+(#REF!)-MONTH(F14)) | W14: =IF(M14="","",V14-M14+U14) | X14: =IF(M14=0,"",W14/(M14-U14)*100) | Z14: =IF(V14="","",IF(W14=0,"正常","非正常核查原因"))
G15: =IF(F15=0,"",((#REF!)-YEAR(F15))*12+(#REF!)-MONTH(F15)) | W15: =IF(M15="","",V15-M15+U15) | X15: =IF(M15=0,"",W15/(M15-U15)*100) | Z15: =IF(V15="","",IF(W15=0,"正常","非正常核查原因"))
G16: =IF(F16=0,"",((#REF!)-YEAR(F16))*12+(#REF!)-MONTH(F16)) | W16: =IF(M16="","",V16-M16+U16) | X16: =IF(M16=0,"",W16/(M16-U16)*100) | Z16: =IF(V16="","",IF(W16=0,"正常","非正常核查原因"))
G17: =IF(F17=0,"",((#REF!)-YEAR(F17))*12+(#REF!)-MONTH(F17)) | W17: =IF(M17="","",V17-M17+U17) | X17: =IF(M17=0,"",W17/(M17-U17)*100) | Z17: =IF(V17="","",IF(W17=0,"正常","非正常核查原因"))
G18: =IF(F18=0,"",((#REF!)-YEAR(F18))*12+(#REF!)-MONTH(F18)) | W18: =IF(M18="","",V18-M18+U18) | X18: =IF(M18=0,"",W18/(M18-U18)*100) | Z18: =IF(V18="","",IF(W18=0,"正常","非正常核查原因"))
G19: =IF(F19=0,"",((#REF!)-YEAR(F19))*12+(#REF!)-MONTH(F19)) | W19: =IF(M19="","",V19-M19+U19) | X19: =IF(M19=0,"",W19/(M19-U19)*100) | Z19: =IF(V19="","",IF(W19=0,"正常","非正常核查原因"))
... G23: =IF(F23=0,"",((#REF!)-YEAR(F23))*12+(#REF!)-MONTH(F23)) | W23: =IF(M23="","",V23-M23+U23) | X23: =IF(M23=0,"",W23/(M23-U23)*100) | Z23: =IF(V23="","",IF(W23=0,"正常","非正常核查原因"))
A24: 合 计 | K24: =SUM(K7:K23) -> 0 | L24: =SUM(L7:L23) -> 0 | M24: =SUM(M7:M23) -> 0 | N24: =SUM(N7:N23) -> 0 | O24: =SUM(O7:O23) -> 0 | P24: =SUM(P7:P23) -> 0 | Q24: =SUM(Q7:Q23) -> 0 | R24: =SUM(R7:R23) -> 0 | ... T24: =SUM(T7:T23) -> 0 | V24: =SUM(V7:V23) -> 0 | W24: =IF(M24="","",V24-M24+U24) -> 0 | X24: =IF(M24=0,"",W24/(M24-U24)*100) | Z24: =IF(V24="","",IF(W24=0,"正常","非正常核查原因")) -> 正常
A25: 减：坏账准备 | M25: =L24 -> 0 | W25: =IF(M25="","",V25-M25+U25) -> 0 | X25: =IF(M25=0,"",W25/(M25-U25)*100) | Z25: =IF(V25="","",IF(W25=0,"正常","非正常核查原因"))
A26: 减：评估风险损失 | W26: =IF(M26="","",V26-M26+U26) | X26: =IF(M26=0,"",W26/(M26-U26)*100) | Z26: =IF(V26="","",IF(W26=0,"正常","非正常核查原因"))
A27: 净 额 | K27: =K24-K25-K26 -> 0 | L27: =L24-L25-L26 -> 0 | M27: =M24-M25 -> 0 | N27: =N24-N25-N26 -> 0 | O27: =O24-O25-O26 -> 0 | P27: =P24-P25-P26 -> 0 | Q27: =Q24-Q25-Q26 -> 0 | R27: =R24-R25-R26 -> 0 | S27: =S24-S25-S26 -> 0 | T27: =T24-T25-T26 -> 0 | V27: =V24-V26 -> 0 | W27: =IF(M27="","",V27-M27+U27) -> 0 | X27: =IF(M27=0,"",W27/(M27-U27)*100) | Z27: =IF(V27="","",IF(W27=0,"正常","非正常核查原因")) -> 正常
A28: =#REF!&#REF! -> #REF! | V28: ="评估人员："&#REF! -> #REF!
A29: =CONCATENATE(#REF!,#REF!,#REF!,#REF!,#REF!,#REF!,#REF!) -> #REF!
C30: 注1： | D30: 注明账齡在一年以上的账款的可收回性，若有部分可能不能收回，请估计不能收回的金額，以供评估时作參考。
C31: 注2：“备注”栏填写方法： | D31: 1）欠款单位为关联方、总公司内部或本公司内部单位的，应在备注栏注明“关联方”、“总公司内部”、“内部单位”；
D32: 2） 涉诉款项应在备注中标明“涉诉”；
D33: 3）评估基准日后已部分或全部收回款项的，应注明日期及金额，如“2007年1月4日收回8,000.00元”；
D34: 4）填表单位认为其他应说明的事项

Sheet 预付账款
A1: 返回索引页 | B1: 返回
A2: 预付账款评估明细表
A3: =CONCATENATE(#REF!,#REF!,#REF!,#REF!,#REF!,#REF!,#REF!) -> #REF!
A4: =#REF!&#REF! -> #REF! | S4: 金额单位：人民币元
A5: 序号 | B5: 对应核算单位 | C5: 收款单位名称（结算对象) | D5: 业务内容 | E5: 发生日期 | F5: 帐龄 | G5: 审计前账面值 | H5: 账面价值 | I5: 账龄 | P5: 评估价值 | Q5: 增减值 | R5: 增值率% | S5: 备注
I6: 1-6个月 | J6: 7－12个月 | K6: 1-2年 (含2年) | L6: 2-3年(含3年) | M6: 3-4年(含4年) | N6: 4-5年(含5年) | O6: 5年以上金额 | R6: =IF(H6=0,"",(P6-H6)/H6*100) | T6: 检验
F7: =IF(E7=0,"",((#REF!)-YEAR(E7))*12+(#REF!)-MONTH(E7)) | Q7: =IF(H7="","",P7-H7) | R7: =IF(H7=0,"",Q7/H7*100) | T7: =IF(P7="","",IF(Q7=0,"正常","非正常核查原因"))
F8: =IF(E8=0,"",((#REF!)-YEAR(E8))*12+(#REF!)-MONTH(E8)) | Q8: =IF(H8="","",P8-H8) | R8: =IF(H8=0,"",Q8/H8*100) | T8: =IF(P8="","",IF(Q8=0,"正常","非正常核查原因"))
F9: =IF(E9=0,"",((#REF!)-YEAR(E9))*12+(#REF!)-MONTH(E9)) | Q9: =IF(H9="","",P9-H9) | R9: =IF(H9=0,"",Q9/H9*100) | T9: =IF(P9="","",IF(Q9=0,"正常","非正常核查原因"))
F10: =IF(E10=0,"",((#REF!)-YEAR(E10))*12+(#REF!)-MONTH(E10)) | Q10: =IF(H10="","",P10-H10) | R10: =IF(H10=0,"",Q10/H10*100) | T10: =IF(P10="","",IF(Q10=0,"正常","非正常核查原因"))
F11: =IF(E11=0,"",((#REF!)-YEAR(E11))*12+(#REF!)-MONTH(E11)) | Q11: =IF(H11="","",P11-H11) | R11: =IF(H11=0,"",Q11/H11*100) | T11: =IF(P11="","",IF(Q11=0,"正常","非正常核查原因"))
F12: =IF(E12=0,"",((#REF!)-YEAR(E12))*12+(#REF!)-MONTH(E12)) | Q12: =IF(H12="","",P12-H12) | R12: =IF(H12=0,"",Q12/H12*100) | T12: =IF(P12="","",IF(Q12=0,"正常","非正常核查原因"))
F13: =IF(E13=0,"",((#REF!)-YEAR(E13))*12+(#REF!)-MONTH(E13)) | Q13: =IF(H13="","",P13-H13) | R13: =IF(H13=0,"",Q13/H13*100) | T13: =IF(P13="","",IF(Q13=0,"正常","非正常核查原因"))
F14: =IF(E14=0,"",((#REF!)-YEAR(E14))*12+(#REF!)-MONTH(E14)) | Q14: =IF(H14="","",P14-H14) | R14: =IF(H14=0,"",Q14/H14*100) | T14: =IF(P14="","",IF(Q14=0,"正常","非正常核查原因"))
F15: =IF(E15=0,"",((#REF!)-YEAR(E15))*12+(#REF!)-MONTH(E15)) | Q15: =IF(H15="","",P15-H15) | R15: =IF(H15=0,"",Q15/H15*100) | T15: =IF(P15="","",IF(Q15=0,"正常","非正常核查原因"))
F16: =IF(E16=0,"",((#REF!)-YEAR(E16))*12+(#REF!)-MONTH(E16)) | Q16: =IF(H16="","",P16-H16) | R16: =IF(H16=0,"",Q16/H16*100) | T16: =IF(P16="","",IF(Q16=0,"正常","非正常核查原因"))
F17: =IF(E17=0,"",((#REF!)-YEAR(E17))*12+(#REF!)-MONTH(E17)) | Q17: =IF(H17="","",P17-H17) | R17: =IF(H17=0,"",Q17/H17*100) | T17: =IF(P17="","",IF(Q17=0,"正常","非正常核查原因"))
F18: =IF(E18=0,"",((#REF!)-YEAR(E18))*12+(#REF!)-MONTH(E18)) | Q18: =IF(H18="","",P18-H18) | R18: =IF(H18=0,"",Q18/H18*100) | T18: =IF(P18="","",IF(Q18=0,"正常","非正常核查原因"))
... F24: =IF(E24=0,"",((#REF!)-YEAR(E24))*12+(#REF!)-MONTH(E24)) | Q24: =IF(H24="","",P24-H24) | R24: =IF(H24=0,"",Q24/H24*100) | T24: =IF(P24="","",IF(Q24=0,"正常","非正常核查原因"))
A25: 合 计 | G25: =SUM(G7:G24) -> 0 | H25: =SUM(H7:H24) -> 0 | I25: =SUM(I7:I24) -> 0 | J25: =SUM(J7:J24) -> 0 | K25: =SUM(K7:K24) -> 0 | L25: =SUM(L7:L24) -> 0 | M25: =SUM(M7:M24) -> 0 | N25: =SUM(N7:N24) -> 0 | ... Q25: =SUM(Q7:Q24) -> 0 | R25: =IF(H25=0,"",Q25/H25*100) | T25: =IF(P25="","",IF(Q25=0,"正常","非正常核查原因")) -> 正常
A26: 减：预付账款坏帐准备 | R26: =IF(H26=0,"",Q26/H26*100) | T26: =IF(P26="","",IF(Q26=0,"正常","非正常核查原因"))
A27: 合 计 | G27: =G25-G26 -> 0 | H27: =H25-H26 -> 0 | I27: =I25-I26 -> 0 | J27: =J25-J26 -> 0 | K27: =K25-K26 -> 0 | L27: =L25-L26 -> 0 | M27: =M25-M26 -> 0 | N27: =N25-N26 -> 0 | ... Q27: =Q25-Q26 -> 0 | R27: =IF(H27=0,"",Q27/H27*100) | T27: =IF(P27="","",IF(Q27=0,"正常","非正常核查原因")) -> 正常
A28: =#REF!&#REF! -> #REF! | P28: ="评估人员："&#REF! -> #REF!
A29: =CONCATENATE(#REF!,#REF!,#REF!,#REF!,#REF!,#REF!,#REF!) -> #REF!

Sheet 应收利息
A1: 返回索引页 | B1: 返回
A2: 应收利息评估明细表
A3: =CONCATENATE(#REF!,#REF!,#REF!,#REF!,#REF!,#REF!,#REF!) -> #REF!
A4: =#REF!&#REF! -> #REF! | N4: 金额单位：人民币元
A5: 序号 | B5: 对应核算单位 | C5: 欠款单位名称（结算对象) | D5: 利息类型 | E5: 发生日期 | F5: 本金 | G5: 利息所属期间 | H5: 利息率% | I5: 审计前账面值 | J5: 账面价值 | K5: 评估价值 | L5: 增减值 | M5: 增值率% | N5: 备注 | O5: 检验
L6: =IF(J6="","",K6-J6) | M6: =IF(J6=0,"",L6/J6*100) | O6: =IF(K6="","",IF(L6=0,"正常","非正常核查原因"))
L7: =IF(J7="","",K7-J7) | M7: =IF(J7=0,"",L7/J7*100) | O7: =IF(K7="","",IF(L7=0,"正常","非正常核查原因"))
L8: =IF(J8="","",K8-J8) | M8: =IF(J8=0,"",L8/J8*100) | O8: =IF(K8="","",IF(L8=0,"正常","非正常核查原因"))
L9: =IF(J9="","",K9-J9) | M9: =IF(J9=0,"",L9/J9*100) | O9: =IF(K9="","",IF(L9=0,"正常","非正常核查原因"))
L10: =IF(J10="","",K10-J10) | M10: =IF(J10=0,"",L10/J10*100) | O10: =IF(K10="","",IF(L10=0,"正常","非正常核查原因"))
L11: =IF(J11="","",K11-J11) | M11: =IF(J11=0,"",L11/J11*100) | O11: =IF(K11="","",IF(L11=0,"正常","非正常核查原因"))
L12: =IF(J12="","",K12-J12) | M12: =IF(J12=0,"",L12/J12*100) | O12: =IF(K12="","",IF(L12=0,"正常","非正常核查原因"))
L13: =IF(J13="","",K13-J13) | M13: =IF(J13=0,"",L13/J13*100) | O13: =IF(K13="","",IF(L13=0,"正常","非正常核查原因"))
L14: =IF(J14="","",K14-J14) | M14: =IF(J14=0,"",L14/J14*100) | O14: =IF(K14="","",IF(L14=0,"正常","非正常核查原因"))
L15: =IF(J15="","",K15-J15) | M15: =IF(J15=0,"",L15/J15*100) | O15: =IF(K15="","",IF(L15=0,"正常","非正常核查原因"))
L16: =IF(J16="","",K16-J16) | M16: =IF(J16=0,"",L16/J16*100) | O16: =IF(K16="","",IF(L16=0,"正常","非正常核查原因"))
L17: =IF(J17="","",K17-J17) | M17: =IF(J17=0,"",L17/J17*100) | O17: =IF(K17="","",IF(L17=0,"正常","非正常核查原因"))
... L26: =IF(J26="","",K26-J26) | M26: =IF(J26=0,"",L26/J26*100) | O26: =IF(K26="","",IF(L26=0,"正常","非正常核查原因"))
A27: 合 计 | F27: =SUM(F6:F26) -> 0 | I27: =SUM(I6:I26) -> 0 | J27: =SUM(J6:J26) -> 0 | K27: =SUM(K6:K26) -> 0 | L27: =IF(J27="","",K27-J27) -> 0 | M27: =IF(J27=0,"",L27/J27*100) | O27: =IF(K27="","",IF(L27=0,"正常","非正常核查原因")) -> 正常
A28: =#REF!&#REF! -> #REF! | K28: ="评估人员："&#REF! -> #REF!
A29: =CONCATENATE(#REF!,#REF!,#REF!,#REF!,#REF!,#REF!,#REF!) -> #REF!

Sheet 应收股利（利润）
A1: 返回索引页 | B1: 返回
A2: 应收股利（应收利润）评估明细表
A3: =CONCATENATE(#REF!,#REF!,#REF!,#REF!,#REF!,#REF!,#REF!) -> #REF!
A4: =#REF!&#REF! -> #REF! | K4: 金额单位：人民币元
A5: 序号 | B5: 对应核算单位 | C5: 户名（结算对象) | D5: 发生日期 | E5: 股利所属期间 | F5: 审计前账面值 | G5: 账面价值 | H5: 评估价值 | I5: 增减值 | J5: 增值率% | K5: 备注 | L5: 检验
I6: =IF(G6="","",H6-G6) | J6: =IF(G6=0,"",I6/G6*100) | L6: =IF(H6="","",IF(I6=0,"正常","非正常核查原因"))
I7: =IF(G7="","",H7-G7) | J7: =IF(G7=0,"",I7/G7*100) | L7: =IF(H7="","",IF(I7=0,"正常","非正常核查原因"))
I8: =IF(G8="","",H8-G8) | J8: =IF(G8=0,"",I8/G8*100) | L8: =IF(H8="","",IF(I8=0,"正常","非正常核查原因"))
I9: =IF(G9="","",H9-G9) | J9: =IF(G9=0,"",I9/G9*100) | L9: =IF(H9="","",IF(I9=0,"正常","非正常核查原因"))
I10: =IF(G10="","",H10-G10) | J10: =IF(G10=0,"",I10/G10*100) | L10: =IF(H10="","",IF(I10=0,"正常","非正常核查原因"))
I11: =IF(G11="","",H11-G11) | J11: =IF(G11=0,"",I11/G11*100) | L11: =IF(H11="","",IF(I11=0,"正常","非正常核查原因"))
I12: =IF(G12="","",H12-G12) | J12: =IF(G12=0,"",I12/G12*100) | L12: =IF(H12="","",IF(I12=0,"正常","非正常核查原因"))
I13: =IF(G13="","",H13-G13) | J13: =IF(G13=0,"",I13/G13*100) | L13: =IF(H13="","",IF(I13=0,"正常","非正常核查原因"))
I14: =IF(G14="","",H14-G14) | J14: =IF(G14=0,"",I14/G14*100) | L14: =IF(H14="","",IF(I14=0,"正常","非正常核查原因"))
I15: =IF(G15="","",H15-G15) | J15: =IF(G15=0,"",I15/G15*100) | L15: =IF(H15="","",IF(I15=0,"正常","非正常核查原因"))
I16: =IF(G16="","",H16-G16) | J16: =IF(G16=0,"",I16/G16*100) | L16: =IF(H16="","",IF(I16=0,"正常","非正常核查原因"))
I17: =IF(G17="","",H17-G17) | J17: =IF(G17=0,"",I17/G17*100) | L17: =IF(H17="","",IF(I17=0,"正常","非正常核查原因"))
... I26: =IF(G26="","",H26-G26) | J26: =IF(G26=0,"",I26/G26*100) | L26: =IF(H26="","",IF(I26=0,"正常","非正常核查原因"))
A27: 合 计 | F27: =SUM(F6:F26) -> 0 | G27: =SUM(G6:G26) -> 0 | H27: =SUM(H6:H26) -> 0 | I27: =IF(G27="","",H27-G27) -> 0 | J27: =IF(G27=0,"",I27/G27*100) | L27: =IF(H27="","",IF(I27=0,"正常","非正常核查原因")) -> 正常
A28: =#REF!&#REF! -> #REF! | H28: ="评估人员："&#REF! -> #REF!
A29: =CONCATENATE(#REF!,#REF!,#REF!,#REF!,#REF!,#REF!,#REF!) -> #REF!

Sheet 其他应收款
A1: 返回索引页 | B1: 返回
A2: 其他应收款评估明细表
A3: =CONCATENATE(#REF!,#REF!,#REF!,#REF!,#REF!,#REF!,#REF!) -> #REF!
A4: =#REF!&#REF! -> #REF! | U4: 金额单位：人民币元
A5: 序号 | B5: 对应核算单位 | C5: 欠款单位名称（结算对象) | D5: 关联关系类型 | E5: 业务内容 | F5: 发生日期 | G5: 帐龄 | H5: 审计前账面值 | I5: 账面价值 | J5: 账龄 | Q5: 坏帐准备 | R5: 评估价值 | S5: 增减值 | T5: 增值率% | U5: 备注
J6: 1-6个月 | K6: 7－12个月 | L6: 1-2年 (含2年) | M6: 2-3年(含3年) | N6: 3-4年(含4年) | O6: 4-5年(含5年) | P6: 5年以上金额 | T6: =IF(I6=0,"",(R6-I6)/I6*100) | V6: 检验
G7: =IF(F7=0,"",((#REF!)-YEAR(F7))*12+(#REF!)-MONTH(F7)) | S7: =IF(I7="","",R7-I7+Q7) | T7: =IF(I7=0,"",S7/(I7-Q7)*100) | V7: =IF(R7="","",IF(S7=0,"正常","非正常核查原因"))
G8: =IF(F8=0,"",((#REF!)-YEAR(F8))*12+(#REF!)-MONTH(F8)) | S8: =IF(I8="","",R8-I8+Q8) | T8: =IF(I8=0,"",S8/(I8-Q8)*100) | V8: =IF(R8="","",IF(S8=0,"正常","非正常核查原因"))
G9: =IF(F9=0,"",((#REF!)-YEAR(F9))*12+(#REF!)-MONTH(F9)) | S9: =IF(I9="","",R9-I9+Q9) | T9: =IF(I9=0,"",S9/(I9-Q9)*100) | V9: =IF(R9="","",IF(S9=0,"正常","非正常核查原因"))
G10: =IF(F10=0,"",((#REF!)-YEAR(F10))*12+(#REF!)-MONTH(F10)) | S10: =IF(I10="","",R10-I10+Q10) | T10: =IF(I10=0,"",S10/(I10-Q10)*100) | V10: =IF(R10="","",IF(S10=0,"正常","非正常核查原因"))
G11: =IF(F11=0,"",((#REF!)-YEAR(F11))*12+(#REF!)-MONTH(F11)) | S11: =IF(I11="","",R11-I11+Q11) | T11: =IF(I11=0,"",S11/(I11-Q11)*100) | V11: =IF(R11="","",IF(S11=0,"正常","非正常核查原因"))
G12: =IF(F12=0,"",((#REF!)-YEAR(F12))*12+(#REF!)-MONTH(F12)) | S12: =IF(I12="","",R12-I12+Q12) | T12: =IF(I12=0,"",S12/(I12-Q12)*100) | V12: =IF(R12="","",IF(S12=0,"正常","非正常核查原因"))
G13: =IF(F13=0,"",((#REF!)-YEAR(F13))*12+(#REF!)-MONTH(F13)) | S13: =IF(I13="","",R13-I13+Q13) | T13: =IF(I13=0,"",S13/(I13-Q13)*100) | V13: =IF(R13="","",IF(S13=0,"正常","非正常核查原因"))
G14: =IF(F14=0,"",((#REF!)-YEAR(F14))*12+(#REF!)-MONTH(F14)) | S14: =IF(I14="","",R14-I14+Q14) | T14: =IF(I14=0,"",S14/(I14-Q14)*100) | V14: =IF(R14="","",IF(S14=0,"正常","非正常核查原因"))
G15: =IF(F15=0,"",((#REF!)-YEAR(F15))*12+(#REF!)-MONTH(F15)) | S15: =IF(I15="","",R15-I15+Q15) | T15: =IF(I15=0,"",S15/(I15-Q15)*100) | V15: =IF(R15="","",IF(S15=0,"正常","非正常核查原因"))
G16: =IF(F16=0,"",((#REF!)-YEAR(F16))*12+(#REF!)-MONTH(F16)) | S16: =IF(I16="","",R16-I16+Q16) | T16: =IF(I16=0,"",S16/(I16-Q16)*100) | V16: =IF(R16="","",IF(S16=0,"正常","非正常核查原因"))
G17: =IF(F17=0,"",((#REF!)-YEAR(F17))*12+(#REF!)-MONTH(F17)) | S17: =IF(I17="","",R17-I17+Q17) | T17: =IF(I17=0,"",S17/(I17-Q17)*100) | V17: =IF(R17="","",IF(S17=0,"正常","非正常核查原因"))
G18: =IF(F18=0,"",((#REF!)-YEAR(F18))*12+(#REF!)-MONTH(F18)) | S18: =IF(I18="","",R18-I18+Q18) | T18: =IF(I18=0,"",S18/(I18-Q18)*100) | V18: =IF(R18="","",IF(S18=0,"正常","非正常核查原因"))
... G23: =IF(F23=0,"",((#REF!)-YEAR(F23))*12+(#REF!)-MONTH(F23)) | S23: =IF(I23="","",R23-I23+Q23) | T23: =IF(I23=0,"",S23/(I23-Q23)*100) | V23: =IF(R23="","",IF(S23=0,"正常","非正常核查原因"))
A24: 合 计 | H24: =SUM(H7:H23) -> 0 | I24: =SUM(I7:I23) -> 0 | J24: =SUM(J7:J23) -> 0 | K24: =SUM(K7:K23) -> 0 | L24: =SUM(L7:L23) -> 0 | M24: =SUM(M7:M23) -> 0 | N24: =SUM(N7:N23) -> 0 | O24: =SUM(O7:O23) -> 0 | P24: =SUM(P7:P23) -> 0 | R24: =SUM(R7:R23) -> 0 | S24: =IF(I24="","",R24-I24+Q24) -> 0 | T24: =IF(I24=0,"",S24/(I24-Q24)*100) | V24: =IF(R24="","",IF(S24=0,"正常","非正常核查原因")) -> 正常
A25: 减：坏账准备 | S25: =IF(I25="","",R25-I25+Q25) | T25: =IF(I25=0,"",S25/(I25-Q25)*100) | V25: =IF(R25="","",IF(S25=0,"正常","非正常核查原因"))
A26: 减：评估风险损失 | S26: =IF(I26="","",R26-I26+Q26) | T26: =IF(I26=0,"",S26/(I26-Q26)*100) | V26: =IF(R26="","",IF(S26=0,"正常","非正常核查原因"))
A27: 净 额 | H27: =H24-H25-H26 -> 0 | I27: =I24-I25 -> 0 | J27: =J24-J25-J26 -> 0 | K27: =K24-K25-K26 -> 0 | L27: =L24-L25-L26 -> 0 | M27: =M24-M25-M26 -> 0 | N27: =N24-N25-N26 -> 0 | O27: =O24-O25-O26 -> 0 | P27: =P24-P25-P26 -> 0 | R27: =R24-R26 -> 0 | S27: =IF(I27="","",R27-I27+Q27) -> 0 | T27: =IF(I27=0,"",S27/(I27-Q27)*100) | V27: =IF(R27="","",IF(S27=0,"正常","非正常核查原因")) -> 正常
A28: =#REF!&#REF! -> #REF! | R28: ="评估人员："&#REF! -> #REF!
A29: =CONCATENATE(#REF!,#REF!,#REF!,#REF!,#REF!,#REF!,#REF!) -> #REF!
B30: 注1： | C30: 注明账齡在一年以上的账款的可收回性，若有部分可能不能收回，请估计不能收回的金額，以供评估时作參考。
B31: 注2：“备注”栏填写方法： | C31: 1）欠款单位为关联方、总公司内部或本公司内部单位的，应在备注栏注明“关联方”、“总公司内部”、“内部单位”；
C32: 2） 涉诉款项应在备注中标明“涉诉”；
C33: 3）评估基准日后已部分或全部收回款项的，应注明日期及金额，如“2003年2月4日收回8,530.00元”；
C34: 4）填表单位认为其他应说明的事项

Sheet 存货汇总
A1: 返回索引页 | B1: 返回
A2: 存货评估汇总表
A3: =CONCATENATE(#REF!,#REF!,#REF!,#REF!,#REF!,#REF!,#REF!) -> #REF!
A4: =#REF!&#REF! -> #REF! | H4: 金额单位：人民币元
A5: 编号 | B5: 科目名称 | C5: 审计前账面值 | D5: 账面价值 | E5: 跌价准备 | F5: 评估价值 | G5: 增值额 | H5: 增值率% | I5: 检验
A6: 3-9-1 | B6: 原材料 | C6: =原材料!H27 -> 0 | D6: =原材料!M27 -> 0 | E6: =原材料!N27 -> 0 | F6: =原材料!R27 -> 0 | G6: =F6-(D6-E6) -> 0 | H6: =IF(D6-E6=0,"",G6/(D6-E6)*100) | I6: =IF(F6="","",IF(G6=0,"正常","非正常核查原因")) -> 正常
A7: 3-9-2 | B7: 材料采购（在途物资） | C7: ='材料采购（在途物资）'!G27 -> 0 | D7: ='材料采购（在途物资）'!K27 -> 0 | E7: ='材料采购（在途物资）'!L27 -> 0 | F7: ='材料采购（在途物资）'!O27 -> 0 | G7: =F7-(D7-E7) -> 0 | H7: =IF(D7-E7=0,"",G7/(D7-E7)*100) | I7: =IF(F7="","",IF(G7=0,"正常","非正常核查原因")) -> 正常
A8: 3-9-3 | B8: 在库低值易耗品 | C8: =在库低值易耗品!G27 -> 0 | D8: =在库低值易耗品!K27 -> 0 | E8: =在库低值易耗品!L27 -> 0 | F8: =在库低值易耗品!O27 -> 0 | G8: =F8-(D8-E8) -> 0 | H8: =IF(D8-E8=0,"",G8/(D8-E8)*100) | I8: =IF(F8="","",IF(G8=0,"正常","非正常核查原因")) -> 正常
A9: 3-9-4 | B9: 包装物（库存物资） | C9: =包装物!G27 -> 0 | D9: =包装物!K27 -> 0 | E9: =包装物!L27 -> 0 | F9: =包装物!O27 -> 0 | G9: =F9-(D9-E9) -> 0 | H9: =IF(D9-E9=0,"",G9/(D9-E9)*100) | I9: =IF(F9="","",IF(G9=0,"正常","非正常核查原因")) -> 正常
A10: 3-9-5 | B10: 委托加工物资 | C10: =委托加工物资!H27 -> 0 | D10: =委托加工物资!L27 -> 0 | E10: =委托加工物资!M27 -> 0 | F10: =委托加工物资!P27 -> 0 | G10: =F10-(D10-E10) -> 0 | H10: =IF(D10-E10=0,"",G10/(D10-E10)*100) | I10: =IF(F10="","",IF(G10=0,"正常","非正常核查原因")) -> 正常
A11: 3-9-6 | B11: 产成品（库存商品） | C11: ='产成品（库存商品）'!K27 -> 0 | D11: ='产成品（库存商品）'!P27 -> 0 | E11: ='产成品（库存商品）'!Q27 -> 0 | F11: ='产成品（库存商品）'!V27 -> 0 | G11: =F11-(D11-E11) -> 0 | H11: =IF(D11-E11=0,"",G11/(D11-E11)*100) | I11: =IF(F11="","",IF(G11=0,"正常",IF(ABS(H11)>=30,"非正常核查原因","正常"))) -> 正常
A12: 3-9-6-1 | B12: 产成品（开发产品） | C12: =开发产品!AA27 -> 0 | D12: =开发产品!AN27 -> 0 | E12: =开发产品!AO27 -> 0 | F12: =开发产品!AP27 -> 0 | G12: =F12-(D12-E12) -> 0 | H12: =IF(D12-E12=0,"",G12/(D12-E12)*100) | I12: =IF(F12="","",IF(G12=0,"正常",IF(ABS(H12)>=30,"非正常核查原因","正常"))) -> 正常
A13: 3-9-6-2 | B13: 产成品（出租开发产品） | C13: =出租开发产品!AA27 -> 0 | D13: =出租开发产品!AD27 -> 0 | E13: =出租开发产品!AE27 -> 0 | F13: =出租开发产品!AF27 -> 0 | G13: =F13-(D13-E13) -> 0 | H13: =IF(D13-E13=0,"",G13/(D13-E13)*100) | I13: =IF(F13="","",IF(G13=0,"正常",IF(ABS(H13)>=30,"非正常核查原因","正常"))) -> 正常
A14: 3-9-7 | B14: 在产品（自制半成品） | C14: ='在产品（自制半成品）'!G27 -> 0 | D14: ='在产品（自制半成品）'!K27 -> 0 | E14: ='在产品（自制半成品）'!L27 -> 0 | F14: ='在产品（自制半成品）'!S27 -> 0 | G14: =F14-(D14-E14) -> 0 | H14: =IF(D14-E14=0,"",G14/(D14-E14)*100) | I14: =IF(F14="","",IF(G14=0,"正常",IF(ABS(H14)>=30,"非正常核查原因","正常"))) -> 正常
