Workbook
Name a: #REF!
Name a: #REF!
Name aa: #REF!
Name cost: #REF!
Name PRCGAAP: #REF!
Name PRCGAAP: #REF!
Name PRCGAAP2: #REF!
Name PRCGAAP2: #REF!
Name Print_Area_MI: #REF!
Name Print_Area_MI: #REF!
Name Work_Program_By_Area_List: #REF!
Name Work_Program_By_Area_List: #REF!
Name 年初短期投资: #REF!
Name 年初短期投资: #REF!
Name 年初货币资金: #REF!
Name 年初货币资金: #REF!
Name 年初应收票据: #REF!
Name 年初应收票据: #REF!
Name 전: #REF!
Name 전: #REF!
Name 주택사업본부: #REF!
Name 주택사업본부: #REF!
Name 철구사업본부: #REF!
Name 철구사업본부: #REF!

Sheet 索引目录
A1: 资产评估申报表索引目录
B2: 基本信息输入表
B3: 填表说明（填表前请先阅读）
B4: 企业基本情况表 | C4: 资产负债表 | D4: 汇总表 | E4: 分类汇总表
C6: 流动资产 | D6: 货币资金 | E6: 现金 | G6: 流动负债 | I6: 短期借款
E7: 银行存款 | I7: 交易性金融负债
E8: 其他货币资金 | I8: 应付票据
D9: 交易性金融资产 | E9: 股票投资 | I9: 应付账款
E10: 债券投资 | I10: 预收款项
E11: 基金投资 | I11: 职工薪酬
D12: 应收票据 | I12: 应交税费
D13: 应收账款 | I13: 应付利息
D14: 预付款项 | I14: 应付股利（应付利润）
D15: 应收利息 | I15: 其他应付款
D16: 应收股利 | I16: 一年内到期的非流动负债
D17: 其他应收款 | I17: 其他流动负债
D18: 存货 | E18: 材料采购（在途物资）
E19: 原材料
E20: 在库周转材料 | G20: 非流动负债 | I20: 长期借款
E21: 委托加工物资 | I21: 应付债券
E22: 产成品（库存商品） | I22: 长期应付款
E23: 在产品（自制半成品） | I23: 专项应付款
E24: 发出商品 | I24: 预计负债
E25: 在用周转材料 | I25: 递延所得税负债
D26: 一年到期非流动资产 | I26: 其他非流动负债
D27: 其他流动资产
C28: 长期投资 | D28: 可供出售金融资产 | E28: 股票投资
E29: 债券投资
E30: 其他投资
D31: 持有至到期投资
D32: 长期应收款
D33: 长期股权投资
D34: 投资性房地产 | E34: 投资性房地产（成本计量）
E35: 投资性房地产（公允计量）
E36: 投资性地产（成本计量）
E37: 投资性地产(公允计量）
C40: 固定资产 | D40: 固定资产 | E40: 房屋建筑物
E41: 构筑物及其他辅助设施
E42: 管道及沟槽
E43: 机器设备
...

Sheet 基本信息输入表
A1: 返回索引目录
A5: 一、项目基本信息
B6: 1.企业名称（输入）： | K6: 产权持有单位 | M6: 山东烟草投资管理有限公司
B7: 2.评估基准日（选择）： | M7: 44957
B8: 3.填表人及填表日期：
C9: 选择 | D9: 科目 | M9: 填表人员姓名 | O9: 填表日期 | Q9: 评估人员
C10: √ | D10: 流动资产（汇总） | M10: 王若初 | O10: 44972 | Q10: 王秀红
C11: √ | D11: 货币资金（汇总） | M11: 王若初 | O11: 44972 | Q11: 王秀红
C12: √ | D12: 现金 | M12: 王若初 | O12: 44972 | Q12: 王秀红
C13: √ | D13: 银行存款 | M13: 王若初 | O13: 44972 | Q13: 王秀红
C14: √ | D14: 货币资金 | M14: 王若初 | O14: 44972 | Q14: 王秀红
C15: √ | D15: 交易性金融资产（汇总） | M15: 王若初 | O15: 44972 | Q15: 王秀红
C16: √ | D16: 股票投资 | M16: 王若初 | O16: 44972 | Q16: 王秀红
C17: √ | D17: 债券投资 | M17: 王若初 | O17: 44972 | Q17: 王秀红
C18: √ | D18: 基金投资 | M18: 王若初 | O18: 44972 | Q18: 王秀红
C19: √ | D19: 应收票据 | M19: 王若初 | O19: 44972 | Q19: 王秀红
C20: √ | D20: 应收帐款 | M20: 王若初 | O20: 44972 | Q20: 王秀红
C21: √ | D21: 预付账款 | M21: 王若初 | O21: 44972 | Q21: 王秀红
... C92: √ | D92: 其他非流动负债 | M92: 王若初 | O92: 44529 | Q92: 王秀红
A102: 被评估单位
A103: 产权持有单位
A107: √
A109: 价格变化
A110: 盘盈
A111: 盘亏
A112: 报废
A113: 损毁
A114: 账面值不准确
A115: 经济寿命年限和折旧年限不一致
A119: 账实相符
A120: 账实不符
... A165: 正常

Sheet 企业基本情况表
A1: 企业基本情况表
A2: ="评估基准日："&TEXT(基本信息输入表!M7,"yyyy年mm月dd日") -> 评估基准日：2023年01月31日
A3: 企业填写以下内容:
A4: 被评估单位名称: | B4: 中文 | C4: 安徽圣奥化学科技有限公司 | H4: 法定代表人 | I4: 李世伍 | J4: 移动电话
B5: 英文 | H5: 财务负责人 | I5: 许建超 | J5: 固定电话
A6: 法定地址 | B6: 安徽省铜陵市翠湖六路1111号 | F6: 邮政编码 | G6: 244100 | J6: 手机 | K6: 18956218455
A7: 办公地址 | B7: 安徽省铜陵市翠湖六路1111号 | F7: 邮政编码 | G7: 244100 | H7: 主要填表人 | I7: 王淑凤 | J7: 固定电话
A8: 联系人办公电话 | C8: 传真 | E8: E-mail | J8: 手机 | K8: 13355629997
A9: 经营范围 | B9: 化工产品（危险化学品仅限4-氨基二苯胺）生产、销售；矿产品（除前置许可）、土特产品、五金交电、建材、机械设备批零兼营，经营本企业生产所需的原辅材料、仪器仪表、机械设备、零配件及技术的进出口业务（国家限定公司经营和国家禁止进出口的商品及技术除外），经营进产加工和“三业一补”业务。（依法须经批准的项目，经相关部门批准后方可开展经营活动） | H9: 成立日期 | I9: 35417 | J9: 经营期限 | K9: 1996年12月18日至2046年12月17日
A10: 企业股东名称 | H10: 注册资本 | J10: 实收资本
H11: 金额（万元） | I11: 出资比例% | J11: 金额（万元） | K11: 出资比例%
A12: 1
A13: 2
A14: 3
A15: 4
A16: 5
A17: 合计
A18: 下属长期投资单位（或异地分支机构）名称 | F18: 地址 | I18: 注册资金% | J18: 持股比例% | K18: 核算方式
A19: 1
A20: 2
A21: 3
A22: 4
A23: 5
A24: 6
A25: 7
A26: 8
A27: 9
A28: 10

Sheet 1-汇总表
A2: 资产评估结果汇总表
A3: ="评估基准日："&TEXT(基本信息输入表!M7,"yyyy年mm月dd日") -> 评估基准日：2023年01月31日
H4: 表1
A5: =基本信息输入表!K6&"："&基本信息输入表!M6 -> 产权持有单位：山东烟草投资管理有限公司 | H5: 金额单位：人民币万元
A6: 项 目 | C6: 审计前账面价值 | D6: 审计调整 | E6: 账面价值 | F6: 评估价值 | G6: 增减值 | H6: 增值率%
E7: A | F7: B | G7: C=B-A | H7: D=C/A×100%
A8: 流动资产 | B8: 1 | C8: =ROUND('2-分类汇总'!C7/10000,2) -> 0 | D8: =ROUND('2-分类汇总'!D7/10000,2) -> 0 | E8: =ROUND('2-分类汇总'!E7/10000,2) -> 0 | F8: =ROUND('2-分类汇总'!F7/10000,2) -> 0 | G8: =ROUND('2-分类汇总'!G7/10000,2) -> 0 | H8: =IF(G8=0,"",G8/E8*100)
A9: 非流动资产 | B9: 2 | C9: =SUM(C10:C17)-C16 -> 0 | D9: =SUM(D10:D17)-D16 -> 0 | E9: =SUM(E10:E17)-E16 -> 94.92 | F9: =SUM(F10:F17)-F16 -> 1506.44 | G9: =SUM(G10:G17)-G16 -> 1411.52 | H9: =IF(G9=0,"",G9/E9*100) -> 1487.0628
A10: 其中：长期股权投资 | B10: 3 | C10: =ROUND('2-分类汇总'!C33/10000,2) -> 0 | D10: =ROUND('2-分类汇总'!D33/10000,2) -> 0 | E10: =ROUND('2-分类汇总'!E33/10000,2) -> 0 | F10: =ROUND('2-分类汇总'!F33/10000,2) -> 0 | G10: =ROUND('2-分类汇总'!G33/10000,2) -> 0 | H10: =IF(G10=0,"",G10/E10*100)
A11: 投资性房地产 | B11: 4 | C11: =ROUND('2-分类汇总'!C36/10000,2) -> 0 | D11: =ROUND('2-分类汇总'!D36/10000,2) -> 0 | E11: =ROUND('2-分类汇总'!E36/10000,2) -> 0 | F11: =ROUND('2-分类汇总'!F36/10000,2) -> 0 | G11: =ROUND('2-分类汇总'!G36/10000,2) -> 0 | H11: =IF(G11=0,"",G11/E11*100)
A12: 固定资产 | B12: 5 | C12: =ROUND('2-分类汇总'!C47/10000,2) -> 0 | D12: =ROUND('2-分类汇总'!D47/10000,2) -> 0 | E12: =ROUND('2-分类汇总'!E47/10000,2) -> 94.92 | F12: =ROUND('2-分类汇总'!F47/10000,2) -> 1506.44 | G12: =ROUND('2-分类汇总'!G47/10000,2) -> 1411.52 | H12: =IF(G12=0,"",G12/E12*100) -> 1487.0628
A13: 在建工程 | B13: 6 | C13: =ROUND('2-分类汇总'!C48/10000,2) -> 0 | D13: =ROUND('2-分类汇总'!D48/10000,2) -> 0 | E13: =ROUND('2-分类汇总'!E48/10000,2) -> 0 | F13: =ROUND('2-分类汇总'!F48/10000,2) -> 0 | G13: =ROUND('2-分类汇总'!G48/10000,2) -> 0 | H13: =IF(G13=0,"",G13/E13*100)
A14: 油气资产 | B14: 7 | C14: =ROUND('2-分类汇总'!C54/10000,2) -> 0 | D14: =ROUND('2-分类汇总'!D54/10000,2) -> 0 | E14: =ROUND('2-分类汇总'!E54/10000,2) -> 0 | F14: =ROUND('2-分类汇总'!F54/10000,2) -> 0 | G14: =ROUND('2-分类汇总'!G54/10000,2) -> 0 | H14: =IF(G14=0,"",G14/E14*100)
A15: 无形资产 | B15: 8 | C15: =ROUND('2-分类汇总'!C58/10000,2) -> 0 | D15: =ROUND('2-分类汇总'!D58/10000,2) -> 0 | E15: =ROUND('2-分类汇总'!E58/10000,2) -> 0 | F15: =ROUND('2-分类汇总'!F58/10000,2) -> 0 | G15: =ROUND('2-分类汇总'!G58/10000,2) -> 0 | H15: =IF(G15=0,"",G15/E15*100)
A16: 其中：土地使用权 | B16: 9 | C16: =ROUND('2-分类汇总'!C56/10000,2) -> 0 | D16: =ROUND('2-分类汇总'!D56/10000,2) -> 0 | E16: =ROUND('2-分类汇总'!E56/10000,2) -> 0 | F16: =ROUND('2-分类汇总'!F56/10000,2) -> 0 | G16: =ROUND('2-分类汇总'!G56/10000,2) -> 0 | H16: =IF(G16=0,"",G16/E16*100)
A17: 其他非流动资产 | B17: 10 | C17: =SUM('2-分类汇总'!C26,'2-分类汇总'!C29:C30,'2-分类汇总'!C49:C51,'2-分类汇总'!C59:C63)/10000 -> 0 | D17: =SUM('2-分类汇总'!D26,'2-分类汇总'!D29:D30,'2-分类汇总'!D49:D51,'2-分类汇总'!D59:D63)/10000 -> 0 | E17: =SUM('2-分类汇总'!E26,'2-分类汇总'!E29:E30,'2-分类汇总'!E49:E51,'2-分类汇总'!E59:E63)/10000 -> 0 | F17: =SUM('2-分类汇总'!F26,'2-分类汇总'!F29:F30,'2-分类汇总'!F49:F51,'2-分类汇总'!F59:F63)/10000 -> 0 | G17: =SUM('2-分类汇总'!G26,'2-分类汇总'!G29:G30,'2-分类汇总'!G49:G51,'2-分类汇总'!G59:G63)/10000 -> 0 | H17: =IF(G17=0,"",G17/E17*100)
A18: 资产总计 | B18: 11 | C18: =C8+C9 -> 0 | D18: =D8+D9 -> 0 | E18: =E8+E9 -> 94.92 | F18: =F8+F9 -> 1506.44 | G18: =G8+G9 -> 1411.52 | H18: =IF(G18=0,"",G18/E18*100) -> 1487.0628
A19: 流动负债 | B19: 12 | C19: =ROUND('2-分类汇总'!C65/10000,2) -> 0 | D19: =ROUND('2-分类汇总'!D65/10000,2) -> 0 | E19: =ROUND('2-分类汇总'!E65/10000,2) -> 0 | F19: =ROUND('2-分类汇总'!F65/10000,2) -> 0 | G19: =ROUND('2-分类汇总'!G65/10000,2) -> 0 | H19: =IF(G19=0,"",G19/E19*100)
A20: 非流动负债 | B20: 13 | C20: =ROUND('2-分类汇总'!C78/10000,2) -> 0 | D20: =ROUND('2-分类汇总'!D78/10000,2) -> 0 | E20: =ROUND('2-分类汇总'!E78/10000,2) -> 0 | F20: =ROUND('2-分类汇总'!F78/10000,2) -> 0 | G20: =ROUND('2-分类汇总'!G78/10000,2) -> 0 | H20: =IF(G20=0,"",G20/E20*100)
A21: 负债总计 | B21: 14 | C21: =SUM(C19:C20) -> 0 | D21: =SUM(D19:D20) -> 0 | E21: =SUM(E19:E20) -> 0 | F21: =SUM(F19:F20) -> 0 | G21: =SUM(G19:G20) -> 0 | H21: =IF(G21=0,"",G21/E21*100)
A22: 净资产 | B22: 15 | C22: =C18-C21 -> 0 | D22: =D18-D21 -> 0 | E22: =E18-E21 -> 94.92 | F22: =F18-F21 -> 1506.44 | G22: =G18-G21 -> 1411.52 | H22: =IF(G22=0,"",G22/E22*100) -> 1487.0628
H23: ='2-分类汇总'!H88 -> 评估机构：北京中企华资产评估有限责任公司

Sheet 2-分类汇总
A2: 资产评估结果分类汇总表
A3: ="评估基准日："&TEXT(基本信息输入表!M7,"yyyy年mm月dd日") -> 评估基准日：2023年01月31日
H4: 表2
A5: =基本信息输入表!K6&"："&基本信息输入表!M6 -> 产权持有单位：山东烟草投资管理有限公司 | H5: 金额单位：人民币元
A6: 序号 | B6: 科目名称 | C6: 审计前账面价值 | D6: 审计调整 | E6: 账面价值 | F6: 评估价值 | G6: 增减值 | H6: 增值率% | I6: 基准日资产负债表科目余额 | J6: 校核列
A7: 1 | B7: 一、流动资产合计 | C7: ='3-流动汇总'!C29 -> 0 | D7: ='3-流动汇总'!D29 -> 0 | E7: ='3-流动汇总'!E29 -> 0 | F7: ='3-流动汇总'!F29 -> 0 | G7: =F7-E7 -> 0 | H7: =IF(E7=0,"",G7/E7*100) | J7: =E7-I7 -> 0
A8: 2 | B8: 货币资金 | C8: ='[1]3-流动汇总'!C7 -> 0 | D8: ='[1]3-流动汇总'!D7 -> 0 | E8: ='[1]3-流动汇总'!E7 -> 0
A9: 3 | B9: 交易性金融资产 | C9: ='[1]3-流动汇总'!C8 -> 0 | D9: ='[1]3-流动汇总'!D8 -> 0 | E9: ='[1]3-流动汇总'!E8 -> 0
A10: 4 | B10: 应收票据 | C10: ='[1]3-流动汇总'!C9 -> 0 | D10: ='[1]3-流动汇总'!D9 -> 0 | E10: ='[1]3-流动汇总'!E9 -> 0
A11: 5 | B11: 应收账款合计 | C11: ='[1]3-流动汇总'!C10 -> 0 | D11: ='[1]3-流动汇总'!D10 -> 0 | E11: ='[1]3-流动汇总'!E10 -> 0
A12: 6 | B12: 减：坏帐准备 | C12: ='[1]3-流动汇总'!C11 -> 0 | D12: ='[1]3-流动汇总'!D11 -> 0 | E12: ='[1]3-流动汇总'!E11 -> 0
A13: 7 | B13: 应收帐款净额 | C13: ='[1]3-流动汇总'!C12 -> 0 | D13: ='[1]3-流动汇总'!D12 -> 0 | E13: ='[1]3-流动汇总'!E12 -> 0
A14: 8 | B14: 预付款项 | C14: ='[1]3-流动汇总'!C13 -> 0 | D14: ='[1]3-流动汇总'!D13 -> 0 | E14: ='[1]3-流动汇总'!E13 -> 0
A15: 9 | B15: 应收利息 | C15: ='[1]3-流动汇总'!C14 -> 0 | D15: ='[1]3-流动汇总'!D14 -> 0 | E15: ='[1]3-流动汇总'!E14 -> 0
A16: 10 | B16: 应收股利 | C16: ='[1]3-流动汇总'!C15 -> 0 | D16: ='[1]3-流动汇总'!D15 -> 0 | E16: ='[1]3-流动汇总'!E15 -> 0
A17: 11 | B17: 其他应收款合计 | C17: ='[1]3-流动汇总'!C16 -> 0 | D17: ='[1]3-流动汇总'!D16 -> 0 | E17: ='[1]3-流动汇总'!E16 -> 0
A18: 12 | B18: 减：坏帐准备 | C18: ='[1]3-流动汇总'!C17 -> 0 | D18: ='[1]3-流动汇总'!D17 -> 0 | E18: ='[1]3-流动汇总'!E17 -> 0
A19: 13 | B19: 其他应收款净额 | C19: ='[1]3-流动汇总'!C18 -> 0 | D19: ='[1]3-流动汇总'!D18 -> 0 | E19: ='[1]3-流动汇总'!E18 -> 0
A20: 14 | B20: 存货合计 | C20: ='3-流动汇总'!C19 -> 0 | D20: ='3-流动汇总'!D19 -> 0 | E20: ='3-流动汇总'!E19 -> 0
A21: 15 | B21: 减：存货跌价准备 | C21: ='3-流动汇总'!C20 -> 0 | D21: ='3-流动汇总'!D20 -> 0 | E21: ='3-流动汇总'!E20 -> 0
A22: 16 | B22: 存货净额 | C22: ='3-流动汇总'!C21 -> 0 | D22: ='3-流动汇总'!D21 -> 0 | E22: ='3-流动汇总'!E21 -> 0
A23: 17 | B23: 一年内到期的非流动资产 | C23: ='[1]3-流动汇总'!C22 -> 0 | D23: ='[1]3-流动汇总'!D22 -> 0 | E23: ='[1]3-流动汇总'!E22 -> 0
A24: 18 | B24: 其他流动资产 | C24: ='[1]3-流动汇总'!C23 -> 0 | D24: ='[1]3-流动汇总'!D23 -> 0 | E24: ='[1]3-流动汇总'!E23 -> 0
A25: 19 | B25: 二、非流动资产合计 | C25: ='4-非流动资产汇总'!C48 -> 0 | D25: ='4-非流动资产汇总'!D48 -> 0 | E25: ='4-非流动资产汇总'!E48 -> 949212.52 | F25: ='4-非流动资产汇总'!F48 -> 15064440 | G25: ='4-非流动资产汇总'!G48 -> 14115227
A26: 20 | B26: 可供出售金融资产 | H26: =IF(E26=0,"",G26/E26*100) | J26: =E26-I26 -> 0
A27: 21 | B27: 持有至到期投资合计 | H27: =IF(E27=0,"",G27/E27*100) | J27: =E27-I27 -> 0
A28: 22 | B28: 减：持有至到期投资减值准备 | H28: =IF(E28=0,"",G28/E28*100) | J28: =E28-I28 -> 0
A29: 23 | B29: 持有至到期投资净额 | H29: =IF(E29=0,"",G29/E29*100) | J29: =E29-I29 -> 0
A30: 24 | B30: 长期应收款 | H30: =IF(E30=0,"",G30/E30*100) | J30: =E30-I30 -> 0
A31: 25 | B31: 长期股权投资合计 | H31: =IF(E31=0,"",G31/E31*100) | J31: =E31-I31 -> 0
A32: 26 | B32: 减：长期股权投资减值准备 | H32: =IF(E32=0,"",G32/E32*100) | J32: =E32-I32 -> 0
A33: 27 | B33: 长期股权投资净额 | H33: =IF(E33=0,"",G33/E33*100) | J33: =E33-I33 -> 0
A34: 28 | B34: 投资性房地产合计 | H34: =IF(E34=0,"",G34/E34*100) | J34: =E34-I34 -> 0
A35: 29 | B35: 减：投资性房地产减值准备 | H35: =IF(E35=0,"",G35/E35*100) | J35: =E35-I35 -> 0
A36: 30 | B36: 投资性房地产净额 | H36: =IF(E36=0,"",G36/E36*100) | J36: =E36-I36 -> 0
A37: 31 | B37: 固定资产原值 | C37: ='4-非流动资产汇总'!C18 -> 0 | D37: ='4-非流动资产汇总'!D18 -> 0 | E37: ='4-非流动资产汇总'!E18 -> 1153983.4 | F37: ='4-非流动资产汇总'!F18 -> 15121170 | G37: =F37-E37 -> 13967187 | H37: =IF(E37=0,"",G37/E37*100) -> 1210.3455 | J37: =E37-I37 -> 1153983.4
A38: 32 | B38: 其中：建筑物类 | C38: ='4-非流动资产汇总'!C19 -> 0 | D38: ='4-非流动资产汇总'!D19 -> 0 | E38: ='4-非流动资产汇总'!E19 -> 1146867.6 | F38: ='4-非流动资产汇总'!F19 -> 15121170 | G38: =F38-E38 -> 13974302 | H38: =IF(E38=0,"",G38/E38*100) -> 1218.4756 | J38: =E38-I38 -> 1146867.6
A39: 33 | B39: 设 备 类 | C39: ='4-非流动资产汇总'!C20 -> 0 | D39: ='4-非流动资产汇总'!D20 -> 0 | E39: ='4-非流动资产汇总'!E20 -> 7115.83 | F39: ='4-非流动资产汇总'!F20 -> 7115.83 | G39: =F39-E39 -> 0 | H39: =IF(E39=0,"",G39/E39*100) -> 0 | J39: =E39-I39 -> 7115.83
A40: 34 | B40: 土 地 类 | C40: ='4-非流动资产汇总'!C21 -> 0 | D40: ='4-非流动资产汇总'!D21 -> 0 | E40: ='4-非流动资产汇总'!E21 -> 0 | F40: ='4-非流动资产汇总'!F21 -> 0 | G40: =F40-E40 -> 0 | H40: =IF(E40=0,"",G40/E40*100) | J40: =E40-I40 -> 0
A41: 35 | B41: 减：累计折旧 | C41: ='4-非流动资产汇总'!C22 -> 0 | D41: ='4-非流动资产汇总'!D22 -> 0 | E41: ='4-非流动资产汇总'!E22 -> 0 | F41: ='4-非流动资产汇总'!F22 -> 0 | G41: =F41-E41 -> 0 | H41: =IF(E41=0,"",G41/E41*100) | J41: =E41-I41 -> 0
...

Sheet 3-流动汇总
A1: 返回索引目录
A2: 流动资产评估汇总表
A3: ="评估基准日："&TEXT(基本信息输入表!M7,"yyyy年mm月dd日") -> 评估基准日：2023年01月31日
H4: 表3
A5: =基本信息输入表!K6&"："&基本信息输入表!M6 -> 产权持有单位：山东烟草投资管理有限公司 | H5: 金额单位：人民币元
A6: 编号 | B6: 科目名称 | C6: 审计前账面价值 | D6: 审计调整 | E6: 账面价值 | F6: 评估价值 | G6: 增减值 | H6: 增值率%
A7: 3-1 | B7: 货币资金 | C7: ='[1]表3-1货币汇总表'!C24 -> 0 | D7: ='[1]表3-1货币汇总表'!D24 -> 0 | E7: ='[1]表3-1货币汇总表'!E24 -> 0 | F7: ='[1]表3-1货币汇总表'!F24 -> 0 | G7: =F7-E7 -> 0 | H7: =IF(E7=0,"",G7/E7*100)
A8: 3-2 | B8: 交易性金融资产 | C8: ='[1]3-2交易性金融资产汇总'!C25 -> 0 | D8: ='[1]3-2交易性金融资产汇总'!D25 -> 0 | E8: ='[1]3-2交易性金融资产汇总'!E25 -> 0 | F8: ='[1]3-2交易性金融资产汇总'!F25 -> 0 | G8: =F8-E8 -> 0 | H8: =IF(E8=0,"",G8/E8*100)
A9: 3-3 | B9: 应收票据 | C9: ='[1]3-3应收票据'!F30 -> 0 | D9: ='[1]3-3应收票据'!H30 -> 0 | E9: ='[1]3-3应收票据'!J30 -> 0 | F9: ='[1]3-3应收票据'!L30 -> 0 | G9: =F9-E9 -> 0 | H9: =IF(E9=0,"",G9/E9*100)
A10: 3-4 | B10: 应收账款合计 | C10: ='[1]3-4应收账款'!N26 -> 0 | D10: ='[1]3-4应收账款'!R26 -> 0 | E10: ='[1]3-4应收账款'!T26 -> 0 | F10: ='[1]3-4应收账款'!V29 -> 0 | G10: =F10-E10 -> 0 | H10: =IF(E10=0,"",G10/E10*100)
B11: 减：坏帐准备 | C11: ='[1]3-4应收账款'!N27 -> 0 | D11: ='[1]3-4应收账款'!R27 -> 0 | E11: ='[1]3-4应收账款'!T27 -> 0 | G11: =F11-E11 -> 0 | H11: =IF(E11=0,"",G11/E11*100)
B12: 应收帐款净额 | C12: =C10-C11 -> 0 | D12: =D10-D11 -> 0 | E12: =E10-E11 -> 0 | F12: =F10-F11 -> 0 | G12: =F12-E12 -> 0 | H12: =IF(E12=0,"",G12/E12*100)
A13: 3-5 | B13: 预付款项 | C13: ='[1]3-5预付款项'!I30 -> 0 | D13: ='[1]3-5预付款项'!K30 -> 0 | E13: ='[1]3-5预付款项'!M30 -> 0 | F13: ='[1]3-5预付款项'!O30 -> 0 | G13: =F13-E13 -> 0 | H13: =IF(E13=0,"",G13/E13*100)
A14: 3-6 | B14: 应收利息 | C14: ='[1]3-6应收利息'!G27 -> 0 | D14: ='[1]3-6应收利息'!H27 -> 0 | E14: ='[1]3-6应收利息'!I27 -> 0 | F14: ='[1]3-6应收利息'!J27 -> 0 | G14: =F14-E14 -> 0 | H14: =IF(E14=0,"",G14/E14*100)
A15: 3-7 | B15: 应收股利 | C15: ='[1]3-7应收股利'!E27 -> 0 | D15: ='[1]3-7应收股利'!F27 -> 0 | E15: ='[1]3-7应收股利'!G27 -> 0 | F15: ='[1]3-7应收股利'!H27 -> 0 | G15: =F15-E15 -> 0 | H15: =IF(E15=0,"",G15/E15*100)
A16: 3-8 | B16: 其他应收款合计 | C16: ='[1]3-8其他应收款'!N26 -> 0 | D16: ='[1]3-8其他应收款'!R26 -> 0 | E16: ='[1]3-8其他应收款'!N26 -> 0 | F16: ='[1]3-8其他应收款'!V29 -> 0 | G16: =F16-E16 -> 0 | H16: =IF(E16=0,"",G16/E16*100)
B17: 减：坏帐准备 | C17: ='[1]3-8其他应收款'!N27 -> 0 | D17: ='[1]3-8其他应收款'!R27 -> 0 | E17: ='[1]3-8其他应收款'!N27 -> 0 | G17: =F17-E17 -> 0 | H17: =IF(E17=0,"",G17/E17*100)
B18: 其他应收款净额 | C18: =C16-C17 -> 0 | D18: =D16-D17 -> 0 | E18: =E16-E17 -> 0 | F18: =F16-F17 -> 0 | G18: =F18-E18 -> 0 | H18: =IF(E18=0,"",G18/E18*100)
A19: 3-9 | B19: 存货合计 | C19: ='3-9存货汇总'!C20 -> 0 | D19: ='3-9存货汇总'!D20 -> 0 | E19: ='3-9存货汇总'!E20 -> 0 | F19: ='3-9存货汇总'!F20 -> 0 | G19: =F19-E19 -> 0 | H19: =IF(E19=0,"",G19/E19*100)
B20: 减：存货跌价准备 | C20: ='3-9存货汇总'!C21 -> 0 | D20: ='3-9存货汇总'!D21 -> 0 | E20: ='3-9存货汇总'!E21 -> 0 | G20: =F20-E20 -> 0 | H20: =IF(E20=0,"",G20/E20*100)
B21: 存货净额 | C21: =C19-C20 -> 0 | D21: =D19-D20 -> 0 | E21: =E19-E20 -> 0 | F21: =F19-F20 -> 0 | G21: =F21-E21 -> 0 | H21: =IF(E21=0,"",G21/E21*100)
A22: 3-10 | B22: 一年内到期的非流动资产 | C22: ='[1]3-10一年到期非流动资产'!E27 -> 0 | D22: ='[1]3-10一年到期非流动资产'!F27 -> 0 | E22: ='[1]3-10一年到期非流动资产'!G27 -> 0 | F22: ='[1]3-10一年到期非流动资产'!H27 -> 0 | G22: =F22-E22 -> 0 | H22: =IF(E22=0,"",G22/E22*100)
A23: 3-11 | B23: 其他流动资产 | C23: ='[1]3-11其他流动资产'!F27 -> 0 | D23: ='[1]3-11其他流动资产'!G27 -> 0 | E23: ='[1]3-11其他流动资产'!H27 -> 0 | F23: ='[1]3-11其他流动资产'!I27 -> 0 | G23: =F23-E23 -> 0 | H23: =IF(E23=0,"",G23/E23*100)
A29: 流动资产合计 | C29: =SUM(C7:C9,C12:C15,C18,C21:C23) -> 0 | D29: =SUM(D7:D9,D12:D15,D18,D21:D23) -> 0 | E29: =SUM(E7:E9,E12:E15,E18,E21:E23) -> 0 | F29: =SUM(F7:F9,F12:F15,F18,F21:F23) -> 0 | G29: =F29-E29 -> 0 | H29: =IF(E29=0,"",G29/E29*100)
F30: ="评估人员："&基本信息输入表!$Q$10 -> 评估人员：王秀红
I31: 打印边界

Sheet 3-9存货汇总
A1: 返回索引目录
A2: 存货评估汇总表
A3: ="评估基准日："&TEXT(基本信息输入表!M7,"yyyy年mm月dd日") -> 评估基准日：2023年01月31日
H4: 表3-9
A5: =基本信息输入表!K6&"："&基本信息输入表!M6 -> 产权持有单位：山东烟草投资管理有限公司 | H5: 金额单位：人民币元
A6: 编号 | B6: 科目名称 | C6: 审计前账面价值 | D6: 审计调整 | E6: 账面价值 | F6: 评估价值 | G6: 增减值 | H6: 增值率%
A7: 3-9-1 | B7: 材料采购（在途物资） | C7: ='3-9-1材料采购（在途物资）'!F28 -> 0 | D7: ='3-9-1材料采购（在途物资）'!I28 -> 0 | E7: ='3-9-1材料采购（在途物资）'!L28 -> 0 | F7: ='3-9-1材料采购（在途物资）'!O28 -> 0 | G7: =F7-E7 -> 0 | H7: =IF(E7=0,"",G7/E7*100)
A8: 3-9-2 | B8: 原材料 | C8: ='3-9-2原材料'!G28 -> 0 | D8: ='3-9-2原材料'!K28 -> 0 | E8: ='3-9-2原材料'!O28 -> 0 | F8: ='3-9-2原材料'!U28 -> 0 | G8: =F8-E8 -> 0 | H8: =IF(E8=0,"",G8/E8*100)
A9: 3-9-3 | B9: 在库周转材料 | C9: ='3-9-3在库周转材料'!G28 -> 0 | D9: ='3-9-3在库周转材料'!J28 -> 0 | E9: ='3-9-3在库周转材料'!M28 -> 0 | F9: ='3-9-3在库周转材料'!R28 -> 0 | G9: =F9-E9 -> 0 | H9: =IF(E9=0,"",G9/E9*100)
A10: 3-9-4 | B10: 委托加工物资 | C10: ='3-9-4委托加工物资'!G28 -> 0 | D10: ='3-9-4委托加工物资'!J28 -> 0 | E10: ='3-9-4委托加工物资'!M28 -> 0 | F10: ='3-9-4委托加工物资'!P28 -> 0 | G10: =F10-E10 -> 0 | H10: =IF(E10=0,"",G10/E10*100)
A11: 3-9-5 | B11: 产成品（库存商品） | C11: ='3-9-5产成品(库存商品)'!I22 -> 0 | D11: ='3-9-6在产品（自制半成品）'!I28 -> 0 | E11: ='3-9-5产成品(库存商品)'!Q22 -> 0 | F11: ='3-9-5产成品(库存商品)'!U22 -> 0 | G11: =F11-E11 -> 0 | H11: =IF(E11=0,"",G11/E11*100)
A12: 3-9-6 | B12: 在产品（自制半成品） | C12: ='3-9-6在产品（自制半成品）'!F28 -> 0 | D12: ='3-9-6在产品（自制半成品）'!I28 -> 0 | E12: ='3-9-6在产品（自制半成品）'!L28 -> 0 | F12: ='3-9-6在产品（自制半成品）'!P28 -> 0 | G12: =F12-E12 -> 0 | H12: =IF(E12=0,"",G12/E12*100)
A13: 3-9-7 | B13: 发出商品 | C13: ='3-9-7发出商品'!G28 -> 0 | D13: ='3-9-7发出商品'!J28 -> 0 | E13: ='3-9-7发出商品'!M28 -> 0 | F13: ='3-9-7发出商品'!P28 -> 0 | G13: =F13-E13 -> 0 | H13: =IF(E13=0,"",G13/E13*100)
A14: 3-9-8 | B14: 在用周转材料 | C14: ='3-9-8在用周转材料'!F28 -> 0 | D14: ='3-9-8在用周转材料'!H28 -> 0 | E14: ='3-9-8在用周转材料'!J28 -> 0 | F14: ='3-9-8在用周转材料'!N28 -> 0 | G14: =F14-E14 -> 0 | H14: =IF(E14=0,"",G14/E14*100)
A20: 存货合计 | C20: =SUM(C7:C19) -> 0 | D20: =SUM(D7:D19) -> 0 | E20: =SUM(E7:E19) -> 0 | F20: =SUM(F7:F19) -> 0 | G20: =F20-E20 -> 0 | H20: =IF(E20=0,"",G20/E20*100)
A21: 减：存货跌价准备 | C21: 0 | D21: 0 | E21: 0 | G21: =F21-E21 -> 0 | H21: =IF(E21=0,"",G21/E21*100)
A22: 存货净额 | C22: =C20-C21 -> 0 | D22: =D20-D21 -> 0 | E22: =E20-E21 -> 0 | F22: =F20 -> 0 | G22: =F22-E22 -> 0 | H22: =IF(E22=0,"",G22/E22*100)
F23: ="评估人员："&基本信息输入表!$Q$25 -> 评估人员：王秀红
I24: 打印边界

Sheet 3-9-1材料采购（在途物资）
A1: 返回索引目录
A2: 存货—材料采购（在途物资）评估明细表
A3: ="评估基准日："&TEXT(基本信息输入表!M7,"yyyy年mm月dd日") -> 评估基准日：2023年01月31日
Q4: 表3-9-1
A5: =基本信息输入表!K6&"："&基本信息输入表!M6 -> 产权持有单位：山东烟草投资管理有限公司 | Q5: 金额单位：人民币元 | S5: 1、企业资料 | AA5: 2、现场调查 | AM5: 3、评定估算 | AP5: 4、结果分析
A6: 序号 | B6: 名称及规格型号 | C6: 计量单位 | D6: 审计前账面价值 | G6: 审计调整 | J6: 账面价值 | M6: 评估价值 | P6: 增值率% | Q6: 备注 | S6: 账册 | T6: 合同 | U6: 发票 | V6: 文件 | W6: 单据 凭证 | X6: 情况 说明 | Y6: 其他资料 | AA6: 调查程序 | AG6: 账实核实情况 | AI6: 权属核实情况 | AK6: 其他特殊事项说明 | AM6: 评估方法 | AN6: 评估价值 | AP6: 增减值率％ | AQ6: 增减值原因 | AR6: 特别事项说明
D7: 数量 | E7: 单价 | F7: 金额 | G7: 数量 | H7: 单价 | I7: 金额 | J7: 数量 | K7: 单价 | L7: 金额 | M7: 实际数量 | N7: 评估单价 | O7: 金额 | AA7: 访谈 | AB7: 函证 | AC7: 核实 | AD7: 权属核对 | AE7: 受限处理 | AF7: 其他 | AG7: 核实结果 | AH7: 账实说明 | AI7: 核实结果 | AJ7: 权属说明
A8: =IF(B8="","",ROW()-7) | J8: =D8+G8 -> 0 | K8: =IFERROR(L8/J8,"") | L8: =I8+F8 -> 0 | O8: =M8*N8 -> 0 | P8: =IF(L8=0,"",(O8-L8)/L8*100) | AP8: =IFERROR((AN8-L7)/(L7)*100,"")
A9: =IF(B9="","",ROW()-7) | J9: =D9+G9 -> 0 | K9: =IFERROR(L9/J9,"") | L9: =I9+F9 -> 0 | O9: =M9*N9 -> 0 | P9: =IF(L9=0,"",(O9-L9)/L9*100) | AP9: =IFERROR((AN9-L8)/(L8)*100,"")
A10: =IF(B10="","",ROW()-7) | J10: =D10+G10 -> 0 | K10: =IFERROR(L10/J10,"") | L10: =I10+F10 -> 0 | O10: =M10*N10 -> 0 | P10: =IF(L10=0,"",(O10-L10)/L10*100) | AP10: =IFERROR((AN10-L9)/(L9)*100,"")
A11: =IF(B11="","",ROW()-7) | J11: =D11+G11 -> 0 | K11: =IFERROR(L11/J11,"") | L11: =I11+F11 -> 0 | O11: =M11*N11 -> 0 | P11: =IF(L11=0,"",(O11-L11)/L11*100) | AP11: =IFERROR((AN11-L10)/(L10)*100,"")
A12: =IF(B12="","",ROW()-7) | J12: =D12+G12 -> 0 | K12: =IFERROR(L12/J12,"") | L12: =I12+F12 -> 0 | O12: =M12*N12 -> 0 | P12: =IF(L12=0,"",(O12-L12)/L12*100) | AP12: =IFERROR((AN12-L11)/(L11)*100,"")
A13: =IF(B13="","",ROW()-7) | J13: =D13+G13 -> 0 | K13: =IFERROR(L13/J13,"") | L13: =I13+F13 -> 0 | O13: =M13*N13 -> 0 | P13: =IF(L13=0,"",(O13-L13)/L13*100) | AP13: =IFERROR((AN13-L12)/(L12)*100,"")
A14: =IF(B14="","",ROW()-7) | J14: =D14+G14 -> 0 | K14: =IFERROR(L14/J14,"") | L14: =I14+F14 -> 0 | O14: =M14*N14 -> 0 | P14: =IF(L14=0,"",(O14-L14)/L14*100) | AP14: =IFERROR((AN14-L13)/(L13)*100,"")
A15: =IF(B15="","",ROW()-7) | J15: =D15+G15 -> 0 | K15: =IFERROR(L15/J15,"") | L15: =I15+F15 -> 0 | O15: =M15*N15 -> 0 | P15: =IF(L15=0,"",(O15-L15)/L15*100) | AP15: =IFERROR((AN15-L14)/(L14)*100,"")
A16: =IF(B16="","",ROW()-7) | J16: =D16+G16 -> 0 | K16: =IFERROR(L16/J16,"") | L16: =I16+F16 -> 0 | O16: =M16*N16 -> 0 | P16: =IF(L16=0,"",(O16-L16)/L16*100) | AP16: =IFERROR((AN16-L15)/(L15)*100,"")
A17: =IF(B17="","",ROW()-7) | J17: =D17+G17 -> 0 | K17: =IFERROR(L17/J17,"") | L17: =I17+F17 -> 0 | O17: =M17*N17 -> 0 | P17: =IF(L17=0,"",(O17-L17)/L17*100) | AP17: =IFERROR((AN17-L16)/(L16)*100,"")
A18: =IF(B18="","",ROW()-7) | J18: =D18+G18 -> 0 | K18: =IFERROR(L18/J18,"") | L18: =I18+F18 -> 0 | O18: =M18*N18 -> 0 | P18: =IF(L18=0,"",(O18-L18)/L18*100) | AP18: =IFERROR((AN18-L17)/(L17)*100,"")
A19: =IF(B19="","",ROW()-7) | J19: =D19+G19 -> 0 | K19: =IFERROR(L19/J19,"") | L19: =I19+F19 -> 0 | O19: =M19*N19 -> 0 | P19: =IF(L19=0,"",(O19-L19)/L19*100) | AP19: =IFERROR((AN19-L18)/(L18)*100,"")
... A27: =IF(B27="","",ROW()-7) | J27: =D27+G27 -> 0 | K27: =IFERROR(L27/J27,"") | L27: =I27+F27 -> 0 | O27: =M27*N27 -> 0 | P27: =IF(L27=0,"",(O27-L27)/L27*100) | AP27: =IFERROR((AN27-L26)/(L26)*100,"")
A28: 合 计 | D28: =SUM(D8:D27) -> 0 | F28: =SUM(F8:F27) -> 0 | G28: =SUM(G8:G27) -> 0 | I28: =SUM(I8:I27) -> 0 | J28: =SUM(J8:J27) -> 0 | L28: =SUM(L8:L27) -> 0 | M28: =SUM(M8:M27) -> 0 | O28: =SUM(O8:O27) -> 0 | P28: =IF(L28=0,"",(O28-L28)/L28*100) | AP28: =IFERROR((AN28-L27)/(L27)*100,"")
A29: =基本信息输入表!$K$6&"填表人："&基本信息输入表!$M$26 -> 产权持有单位填表人：王若初 | O29: ="评估人员："&基本信息输入表!$Q$26 -> 评估人员：王秀红 | AP29: =IFERROR((AN29-L28)/(L28)*100,"")
A30: ="填表日期："&YEAR(基本信息输入表!$O$26)&"年"&MONTH(基本信息输入表!$O$26)&"月"&DAY(基本信息输入表!$O$26)&"日" -> 填表日期：2023年2月15日
R31: 打印边界

Sheet 3-9-2原材料
A1: 返回索引目录
A2: 存货—原材料评估明细表
A3: ="评估基准日："&TEXT(基本信息输入表!M7,"yyyy年mm月dd日") -> 评估基准日：2023年01月31日
W4: 表3-9-2
A5: =基本信息输入表!K6&"："&基本信息输入表!M6 -> 产权持有单位：山东烟草投资管理有限公司 | W5: 金额单位：人民币元 | Y5: 1、企业资料 | AG5: 2、现场调查 | AT5: 3、评定估算 | BE5: 4、结果分析
A6: 序号 | B6: 名称及规格型号 | C6: 计量单位 | D6: 存放地点 | E6: 审计前账面价值 | H6: 审计前计提减值准备金额 | I6: 审计调整 | L6: 审计调整计提减值准备金额 | M6: 账面价值 | P6: 计提减值准备金额 | Q6: 购进年月 | R6: 基准日近期单价 | S6: 评估价值 | V6: 增值率% | W6: 备注 | Y6: 账册 | Z6: 合同 | AA6: 发票 | AB6: 文件 | AC6: 单据 凭证 | AD6: 情况 说明 | AE6: 其他资料 | AG6: 调查程序 | AN6: 账实核实情况 | AP6: 权属核实情况 | AR6: 其他特殊事项说明 | AT6: 评估方法 | AU6: 评估依据 | AW6: 估算过程 及参数选取（可以根据资产实际情况调整测算过程） | BC6: 评估价值 | BE6: 增减值率％ | BF6: 增减值原因 | BG6: 特别事项说明
E7: 数量 | F7: 单价 | G7: 金额 | I7: 数量 | J7: 单价 | K7: 金额 | M7: 数量 | N7: 单价 | O7: 金额 | S7: 实际数量 | T7: 评估单价 | U7: 金额 | AG7: 访谈 | AH7: 盘点 | AI7: 函证 | AJ7: 核实 | AK7: 权属核对 | AL7: 受限处理 | AM7: 其他 | AN7: 核实结果 | AO7: 账实说明 | AP7: 核实结果 | AQ7: 权属说明 | AU7: 取价依据 | AV7: 依据补充说明 | AW7: 状态 | AX7: 市场价 | AY7: 运杂费率 | AZ7: 贬值率
A8: =IF(B8="","",ROW()-7) | M8: =E8+I8 -> 0 | N8: =IFERROR(O8/M8,"") | O8: =G8+K8 -> 0 | P8: =H8+L8 -> 0 | U8: =S8*T8 -> 0 | V8: =IF(O8-P8=0,"",(U8-O8+P8)/(O8-P8)*100) | BC8: =AX8*(1+AY8)*(1-AZ8) -> 0 | BE8: =IFERROR((BC8-P7+O7)/(O7-P7)*100,"")
A9: =IF(B9="","",ROW()-7) | M9: =E9+I9 -> 0 | N9: =IFERROR(O9/M9,"") | O9: =G9+K9 -> 0 | P9: =H9+L9 -> 0 | U9: =S9*T9 -> 0 | V9: =IF(O9-P9=0,"",(U9-O9+P9)/(O9-P9)*100) | BC9: =AX9*(1+AY9)*(1-AZ9) -> 0 | BE9: =IFERROR((BC9-P8+O8)/(O8-P8)*100,"")
A10: =IF(B10="","",ROW()-7) | M10: =E10+I10 -> 0 | N10: =IFERROR(O10/M10,"") | O10: =G10+K10 -> 0 | P10: =H10+L10 -> 0 | U10: =S10*T10 -> 0 | V10: =IF(O10-P10=0,"",(U10-O10+P10)/(O10-P10)*100) | BC10: =AX10*(1+AY10)*(1-AZ10) -> 0 | BE10: =IFERROR((BC10-P9+O9)/(O9-P9)*100,"")
A11: =IF(B11="","",ROW()-7) | M11: =E11+I11 -> 0 | N11: =IFERROR(O11/M11,"") | O11: =G11+K11 -> 0 | P11: =H11+L11 -> 0 | U11: =S11*T11 -> 0 | V11: =IF(O11-P11=0,"",(U11-O11+P11)/(O11-P11)*100) | BC11: =AX11*(1+AY11)*(1-AZ11) -> 0 | BE11: =IFERROR((BC11-P10+O10)/(O10-P10)*100,"")
A12: =IF(B12="","",ROW()-7) | M12: =E12+I12 -> 0 | N12: =IFERROR(O12/M12,"") | O12: =G12+K12 -> 0 | P12: =H12+L12 -> 0 | U12: =S12*T12 -> 0 | V12: =IF(O12-P12=0,"",(U12-O12+P12)/(O12-P12)*100) | BC12: =AX12*(1+AY12)*(1-AZ12) -> 0 | BE12: =IFERROR((BC12-P11+O11)/(O11-P11)*100,"")
A13: =IF(B13="","",ROW()-7) | M13: =E13+I13 -> 0 | N13: =IFERROR(O13/M13,"") | O13: =G13+K13 -> 0 | P13: =H13+L13 -> 0 | U13: =S13*T13 -> 0 | V13: =IF(O13-P13=0,"",(U13-O13+P13)/(O13-P13)*100) | BC13: =AX13*(1+AY13)*(1-AZ13) -> 0 | BE13: =IFERROR((BC13-P12+O12)/(O12-P12)*100,"")
A14: =IF(B14="","",ROW()-7) | M14: =E14+I14 -> 0 | N14: =IFERROR(O14/M14,"") | O14: =G14+K14 -> 0 | P14: =H14+L14 -> 0 | U14: =S14*T14 -> 0 | V14: =IF(O14-P14=0,"",(U14-O14+P14)/(O14-P14)*100) | BC14: =AX14*(1+AY14)*(1-AZ14) -> 0 | BE14: =IFERROR((BC14-P13+O13)/(O13-P13)*100,"")
A15: =IF(B15="","",ROW()-7) | M15: =E15+I15 -> 0 | N15: =IFERROR(O15/M15,"") | O15: =G15+K15 -> 0 | P15: =H15+L15 -> 0 | U15: =S15*T15 -> 0 | V15: =IF(O15-P15=0,"",(U15-O15+P15)/(O15-P15)*100) | BC15: =AX15*(1+AY15)*(1-AZ15) -> 0 | BE15: =IFERROR((BC15-P14+O14)/(O14-P14)*100,"")
A16: =IF(B16="","",ROW()-7) | M16: =E16+I16 -> 0 | N16: =IFERROR(O16/M16,"") | O16: =G16+K16 -> 0 | P16: =H16+L16 -> 0 | U16: =S16*T16 -> 0 | V16: =IF(O16-P16=0,"",(U16-O16+P16)/(O16-P16)*100) | BC16: =AX16*(1+AY16)*(1-AZ16) -> 0 | BE16: =IFERROR((BC16-P15+O15)/(O15-P15)*100,"")
A17: =IF(B17="","",ROW()-7) | M17: =E17+I17 -> 0 | N17: =IFERROR(O17/M17,"") | O17: =G17+K17 -> 0 | P17: =H17+L17 -> 0 | U17: =S17*T17 -> 0 | V17: =IF(O17-P17=0,"",(U17-O17+P17)/(O17-P17)*100) | BC17: =AX17*(1+AY17)*(1-AZ17) -> 0 | BE17: =IFERROR((BC17-P16+O16)/(O16-P16)*100,"")
A18: =IF(B18="","",ROW()-7) | M18: =E18+I18 -> 0 | N18: =IFERROR(O18/M18,"") | O18: =G18+K18 -> 0 | P18: =H18+L18 -> 0 | U18: =S18*T18 -> 0 | V18: =IF(O18-P18=0,"",(U18-O18+P18)/(O18-P18)*100) | BC18: =AX18*(1+AY18)*(1-AZ18) -> 0 | BE18: =IFERROR((BC18-P17+O17)/(O17-P17)*100,"")
A19: =IF(B19="","",ROW()-7) | M19: =E19+I19 -> 0 | N19: =IFERROR(O19/M19,"") | O19: =G19+K19 -> 0 | P19: =H19+L19 -> 0 | U19: =S19*T19 -> 0 | V19: =IF(O19-P19=0,"",(U19-O19+P19)/(O19-P19)*100) | BC19: =AX19*(1+AY19)*(1-AZ19) -> 0 | BE19: =IFERROR((BC19-P18+O18)/(O18-P18)*100,"")
... A27: =IF(B27="","",ROW()-7) | M27: =E27+I27 -> 0 | N27: =IFERROR(O27/M27,"") | O27: =G27+K27 -> 0 | P27: =H27+L27 -> 0 | U27: =S27*T27 -> 0 | V27: =IF(O27-P27=0,"",(U27-O27+P27)/(O27-P27)*100) | BC27: =AX27*(1+AY27)*(1-AZ27) -> 0 | BE27: =IFERROR((BC27-P26+O26)/(O26-P26)*100,"")
A28: 合计 | E28: =SUM(E8:E27) -> 0 | G28: =SUM(G8:G27) -> 0 | H28: =SUM(H8:H27) -> 0 | I28: =SUM(I8:I27) -> 0 | K28: =SUM(K8:K27) -> 0 | L28: =SUM(L8:L27) -> 0 | M28: =SUM(M8:M27) -> 0 | O28: =SUM(O8:O27) -> 0 | P28: =SUM(P8:P27) -> 0 | S28: =SUM(S8:S27) -> 0 | U28: =SUM(U8:U27) -> 0 | V28: =IF(O28-P28=0,"",(U28-O28+P28)/(O28-P28)*100) | BC28: =AX28*(1+AY28)*(1-AZ28) -> 0 | BE28: =IFERROR((BC28-P27+O27)/(O27-P27)*100,"")
A29: =基本信息输入表!$K$6&"填表人："&基本信息输入表!$M$27 -> 产权持有单位填表人：王若初 | U29: ="评估人员："&基本信息输入表!$Q$27 -> 评估人员：王秀红 | BC29: =AX29*(1+AY29)*(1-AZ29) -> 0 | BE29: =IFERROR((BC29-P28+O28)/(O28-P28)*100,"")
A30: ="填表日期："&YEAR(基本信息输入表!$O$27)&"年"&MONTH(基本信息输入表!$O$27)&"月"&DAY(基本信息输入表!$O$27)&"日" -> 填表日期：2023年2月15日
X31: 打印边界

Sheet 3-9-3在库周转材料
A1: 返回索引目录
A2: 存货—在库周转材料评估明细表
A3: ="评估基准日："&TEXT(基本信息输入表!M7,"yyyy年mm月dd日") -> 评估基准日：2023年01月31日
T4: 表3-9-3
A5: =基本信息输入表!K6&"："&基本信息输入表!M6 -> 产权持有单位：山东烟草投资管理有限公司 | T5: 金额单位：人民币元 | V5: 1、企业资料 | AD5: 2、现场调查 | AQ5: 3、评定估算 | BB5: 4、结果分析
A6: 序号 | B6: 名称及规格型号 | C6: 计量单位 | D6: 存放地点 | E6: 审计前账面价值 | H6: 审计调整 | K6: 账面价值 | N6: 购进年月 | O6: 基准日近期单价 | P6: 评估价值 | S6: 增值率% | T6: 备注 | V6: 账册 | W6: 合同 | X6: 发票 | Y6: 文件 | Z6: 单据 凭证 | AA6: 情况 说明 | AB6: 其他资料 | AD6: 调查程序 | AK6: 账实核实情况 | AM6: 权属核实情况 | AO6: 其他特殊事项说明 | AQ6: 评估方法 | AR6: 评估依据 | AT6: 估算过程 及参数选取（可以根据资产实际情况调整测算过程） | AZ6: 评估价值 | BB6: 增减值率％ | BC6: 增减值原因 | BD6: 特别事项说明
E7: 数量 | F7: 单价 | G7: 金额 | H7: 数量 | I7: 单价 | J7: 金额 | K7: 数量 | L7: 单价 | M7: 金额 | P7: 实际数量 | Q7: 评估单价 | R7: 金额 | AD7: 访谈 | AE7: 盘点 | AF7: 函证 | AG7: 核实 | AH7: 权属核对 | AI7: 受限处理 | AJ7: 其他 | AK7: 核实结果 | AL7: 账实说明 | AM7: 核实结果 | AN7: 权属说明 | AR7: 取价依据 | AS7: 依据补充说明 | AT7: 状态 | AU7: 市场价 | AV7: 运杂费率 | AW7: 贬值率
A8: =IF(B8="","",ROW()-7) | K8: =E8+H8 -> 0 | L8: =IFERROR(M8/K8,"") | M8: =J8+G8 -> 0 | R8: =P8*Q8 -> 0 | S8: =IF(M8=0,"",(R8-M8)/M8*100) | AZ8: =AU8*(1+AV8)*(1-AW8) -> 0 | BB8: =IFERROR((AZ8-M7)/(M7)*100,"")
A9: =IF(B9="","",ROW()-7) | K9: =E9+H9 -> 0 | L9: =IFERROR(M9/K9,"") | M9: =J9+G9 -> 0 | R9: =P9*Q9 -> 0 | S9: =IF(M9=0,"",(R9-M9)/M9*100) | AZ9: =AU9*(1+AV9)*(1-AW9) -> 0 | BB9: =IFERROR((AZ9-M8)/(M8)*100,"")
A10: =IF(B10="","",ROW()-7) | K10: =E10+H10 -> 0 | L10: =IFERROR(M10/K10,"") | M10: =J10+G10 -> 0 | R10: =P10*Q10 -> 0 | S10: =IF(M10=0,"",(R10-M10)/M10*100) | AZ10: =AU10*(1+AV10)*(1-AW10) -> 0 | BB10: =IFERROR((AZ10-M9)/(M9)*100,"")
A11: =IF(B11="","",ROW()-7) | K11: =E11+H11 -> 0 | L11: =IFERROR(M11/K11,"") | M11: =J11+G11 -> 0 | R11: =P11*Q11 -> 0 | S11: =IF(M11=0,"",(R11-M11)/M11*100) | AZ11: =AU11*(1+AV11)*(1-AW11) -> 0 | BB11: =IFERROR((AZ11-M10)/(M10)*100,"")
A12: =IF(B12="","",ROW()-7) | K12: =E12+H12 -> 0 | L12: =IFERROR(M12/K12,"") | M12: =J12+G12 -> 0 | R12: =P12*Q12 -> 0 | S12: =IF(M12=0,"",(R12-M12)/M12*100) | AZ12: =AU12*(1+AV12)*(1-AW12) -> 0 | BB12: =IFERROR((AZ12-M11)/(M11)*100,"")
A13: =IF(B13="","",ROW()-7) | K13: =E13+H13 -> 0 | L13: =IFERROR(M13/K13,"") | M13: =J13+G13 -> 0 | R13: =P13*Q13 -> 0 | S13: =IF(M13=0,"",(R13-M13)/M13*100) | AZ13: =AU13*(1+AV13)*(1-AW13) -> 0 | BB13: =IFERROR((AZ13-M12)/(M12)*100,"")
A14: =IF(B14="","",ROW()-7) | K14: =E14+H14 -> 0 | L14: =IFERROR(M14/K14,"") | M14: =J14+G14 -> 0 | R14: =P14*Q14 -> 0 | S14: =IF(M14=0,"",(R14-M14)/M14*100) | AZ14: =AU14*(1+AV14)*(1-AW14) -> 0 | BB14: =IFERROR((AZ14-M13)/(M13)*100,"")
A15: =IF(B15="","",ROW()-7) | K15: =E15+H15 -> 0 | L15: =IFERROR(M15/K15,"") | M15: =J15+G15 -> 0 | R15: =P15*Q15 -> 0 | S15: =IF(M15=0,"",(R15-M15)/M15*100) | AZ15: =AU15*(1+AV15)*(1-AW15) -> 0 | BB15: =IFERROR((AZ15-M14)/(M14)*100,"")
A16: =IF(B16="","",ROW()-7) | K16: =E16+H16 -> 0 | L16: =IFERROR(M16/K16,"") | M16: =J16+G16 -> 0 | R16: =P16*Q16 -> 0 | S16: =IF(M16=0,"",(R16-M16)/M16*100) | AZ16: =AU16*(1+AV16)*(1-AW16) -> 0 | BB16: =IFERROR((AZ16-M15)/(M15)*100,"")
A17: =IF(B17="","",ROW()-7) | K17: =E17+H17 -> 0 | L17: =IFERROR(M17/K17,"") | M17: =J17+G17 -> 0 | R17: =P17*Q17 -> 0 | S17: =IF(M17=0,"",(R17-M17)/M17*100) | AZ17: =AU17*(1+AV17)*(1-AW17) -> 0 | BB17: =IFERROR((AZ17-M16)/(M16)*100,"")
A18: =IF(B18="","",ROW()-7) | K18: =E18+H18 -> 0 | L18: =IFERROR(M18/K18,"") | M18: =J18+G18 -> 0 | R18: =P18*Q18 -> 0 | S18: =IF(M18=0,"",(R18-M18)/M18*100) | AZ18: =AU18*(1+AV18)*(1-AW18) -> 0 | BB18: =IFERROR((AZ18-M17)/(M17)*100,"")
A19: =IF(B19="","",ROW()-7) | K19: =E19+H19 -> 0 | L19: =IFERROR(M19/K19,"") | M19: =J19+G19 -> 0 | R19: =P19*Q19 -> 0 | S19: =IF(M19=0,"",(R19-M19)/M19*100) | AZ19: =AU19*(1+AV19)*(1-AW19) -> 0 | BB19: =IFERROR((AZ19-M18)/(M18)*100,"")
... A27: =IF(B27="","",ROW()-7) | K27: =E27+H27 -> 0 | L27: =IFERROR(M27/K27,"") | M27: =J27+G27 -> 0 | R27: =P27*Q27 -> 0 | S27: =IF(M27=0,"",(R27-M27)/M27*100) | AZ27: =AU27*(1+AV27)*(1-AW27) -> 0 | BB27: =IFERROR((AZ27-M26)/(M26)*100,"")
A28: 合计 | E28: =SUM(E8:E27) -> 0 | G28: =SUM(G8:G27) -> 0 | H28: =SUM(H8:H27) -> 0 | J28: =SUM(J8:J27) -> 0 | K28: =SUM(K8:K27) -> 0 | M28: =SUM(M8:M27) -> 0 | P28: =SUM(P8:P27) -> 0 | R28: =SUM(R8:R27) -> 0 | S28: =IF(M28=0,"",(R28-M28)/M28*100) | AZ28: =AU28*(1+AV28)*(1-AW28) -> 0 | BB28: =IFERROR((AZ28-M27)/(M27)*100,"")
A29: =基本信息输入表!$K$6&"填表人："&基本信息输入表!$M$28 -> 产权持有单位填表人：王若初 | R29: ="评估人员："&基本信息输入表!$Q$28 -> 评估人员：王秀红 | AZ29: =AU29*(1+AV29)*(1-AW29) -> 0 | BB29: =IFERROR((AZ29-M28)/(M28)*100,"")
A30: ="填表日期："&YEAR(基本信息输入表!$O$28)&"年"&MONTH(基本信息输入表!$O$28)&"月"&DAY(基本信息输入表!$O$28)&"日" -> 填表日期：2023年2月15日
U31: 打印边界

Sheet 3-9-4委托加工物资
A1: 返回索引目录
A2: 存货—委托加工物资评估明细表
A3: ="评估基准日："&TEXT(基本信息输入表!M7,"yyyy年mm月dd日") -> 评估基准日：2023年01月31日
Q4: 表3-9-4
A5: =基本信息输入表!K6&"："&基本信息输入表!M6 -> 产权持有单位：山东烟草投资管理有限公司 | R5: 金额单位：人民币元 | T5: 1、企业资料 | AB5: 2、现场调查 | AN5: 3、评定估算 | AQ5: 4、结果分析
A6: 序号 | B6: 名称及规格型号 | C6: 加工单位名称 | D6: 计量单位 | E6: 审计前账面价值 | H6: 审计调整 | K6: 账面价值 | N6: 评估价值 | Q6: 增值率% | R6: 备注 | T6: 账册 | U6: 合同 | V6: 发票 | W6: 文件 | X6: 单据 凭证 | Y6: 情况 说明 | Z6: 其他资料 | AB6: 调查程序 | AH6: 账实核实情况 | AJ6: 权属核实情况 | AL6: 其他特殊事项说明 | AN6: 评估方法 | AO6: 评估价值 | AQ6: 增减值率％ | AR6: 增减值原因 | AS6: 特别事项说明
E7: 数量 | F7: 单价 | G7: 金额 | H7: 数量 | I7: 单价 | J7: 金额 | K7: 数量 | L7: 单价 | M7: 金额 | N7: 实际数量 | O7: 评估单价 | P7: 金额 | AB7: 访谈 | AC7: 函证 | AD7: 核实 | AE7: 权属核对 | AF7: 受限处理 | AG7: 其他 | AH7: 核实结果 | AI7: 账实说明 | AJ7: 核实结果 | AK7: 权属说明
A8: =IF(B8="","",ROW()-7) | K8: =E8+H8 -> 0 | L8: =IFERROR(M8/K8,"") | M8: =J8+G8 -> 0 | P8: =N8*O8 -> 0 | Q8: =IF(M8=0,"",(P8-M8)/M8*100) | AQ8: =IFERROR((AO8-M7)/(M7)*100,"")
A9: =IF(B9="","",ROW()-7) | K9: =E9+H9 -> 0 | L9: =IFERROR(M9/K9,"") | M9: =J9+G9 -> 0 | P9: =N9*O9 -> 0 | Q9: =IF(M9=0,"",(P9-M9)/M9*100) | AQ9: =IFERROR((AO9-M8)/(M8)*100,"")
A10: =IF(B10="","",ROW()-7) | K10: =E10+H10 -> 0 | L10: =IFERROR(M10/K10,"") | M10: =J10+G10 -> 0 | P10: =N10*O10 -> 0 | Q10: =IF(M10=0,"",(P10-M10)/M10*100) | AQ10: =IFERROR((AO10-M9)/(M9)*100,"")
A11: =IF(B11="","",ROW()-7) | K11: =E11+H11 -> 0 | L11: =IFERROR(M11/K11,"") | M11: =J11+G11 -> 0 | P11: =N11*O11 -> 0 | Q11: =IF(M11=0,"",(P11-M11)/M11*100) | AQ11: =IFERROR((AO11-M10)/(M10)*100,"")
A12: =IF(B12="","",ROW()-7) | K12: =E12+H12 -> 0 | L12: =IFERROR(M12/K12,"") | M12: =J12+G12 -> 0 | P12: =N12*O12 -> 0 | Q12: =IF(M12=0,"",(P12-M12)/M12*100) | AQ12: =IFERROR((AO12-M11)/(M11)*100,"")
A13: =IF(B13="","",ROW()-7) | K13: =E13+H13 -> 0 | L13: =IFERROR(M13/K13,"") | M13: =J13+G13 -> 0 | P13: =N13*O13 -> 0 | Q13: =IF(M13=0,"",(P13-M13)/M13*100) | AQ13: =IFERROR((AO13-M12)/(M12)*100,"")
A14: =IF(B14="","",ROW()-7) | K14: =E14+H14 -> 0 | L14: =IFERROR(M14/K14,"") | M14: =J14+G14 -> 0 | P14: =N14*O14 -> 0 | Q14: =IF(M14=0,"",(P14-M14)/M14*100) | AQ14: =IFERROR((AO14-M13)/(M13)*100,"")
A15: =IF(B15="","",ROW()-7) | K15: =E15+H15 -> 0 | L15: =IFERROR(M15/K15,"") | M15: =J15+G15 -> 0 | P15: =N15*O15 -> 0 | Q15: =IF(M15=0,"",(P15-M15)/M15*100) | AQ15: =IFERROR((AO15-M14)/(M14)*100,"")
A16: =IF(B16="","",ROW()-7) | K16: =E16+H16 -> 0 | L16: =IFERROR(M16/K16,"") | M16: =J16+G16 -> 0 | P16: =N16*O16 -> 0 | Q16: =IF(M16=0,"",(P16-M16)/M16*100) | AQ16: =IFERROR((AO16-M15)/(M15)*100,"")
A17: =IF(B17="","",ROW()-7) | K17: =E17+H17 -> 0 | L17: =IFERROR(M17/K17,"") | M17: =J17+G17 -> 0 | P17: =N17*O17 -> 0 | Q17: =IF(M17=0,"",(P17-M17)/M17*100) | AQ17: =IFERROR((AO17-M16)/(M16)*100,"")
A18: =IF(B18="","",ROW()-7) | K18: =E18+H18 -> 0 | L18: =IFERROR(M18/K18,"") | M18: =J18+G18 -> 0 | P18: =N18*O18 -> 0 | Q18: =IF(M18=0,"",(P18-M18)/M18*100) | AQ18: =IFERROR((AO18-M17)/(M17)*100,"")
A19: =IF(B19="","",ROW()-7) | K19: =E19+H19 -> 0 | L19: =IFERROR(M19/K19,"") | M19: =J19+G19 -> 0 | P19: =N19*O19 -> 0 | Q19: =IF(M19=0,"",(P19-M19)/M19*100) | AQ19: =IFERROR((AO19-M18)/(M18)*100,"")
... A27: =IF(B27="","",ROW()-7) | K27: =E27+H27 -> 0 | L27: =IFERROR(M27/K27,"") | M27: =J27+G27 -> 0 | P27: =N27*O27 -> 0 | Q27: =IF(M27=0,"",(P27-M27)/M27*100) | AQ27: =IFERROR((AO27-M26)/(M26)*100,"")
A28: 合 计 | E28: =SUM(E8:E27) -> 0 | G28: =SUM(G8:G27) -> 0 | H28: =SUM(H8:H27) -> 0 | J28: =SUM(J8:J27) -> 0 | K28: =SUM(K8:K27) -> 0 | M28: =SUM(M8:M27) -> 0 | N28: =SUM(N8:N27) -> 0 | P28: =SUM(P8:P27) -> 0 | AQ28: =IFERROR((AO28-M27)/(M27)*100,"")
A29: =基本信息输入表!$K$6&"填表人："&基本信息输入表!$M$29 -> 产权持有单位填表人：王若初 | P29: ="评估人员："&基本信息输入表!$Q$29 -> 评估人员：王秀红
A30: ="填表日期："&YEAR(基本信息输入表!$O$29)&"年"&MONTH(基本信息输入表!$O$29)&"月"&DAY(基本信息输入表!$O$29)&"日" -> 填表日期：2023年2月15日
S31: 打印边界

Sheet 3-9-5产成品(库存商品)
A1: 返回索引目录
A2: 存货—产成品（库存商品、开发产品、农产品）评估明细表
A3: ="评估基准日："&TEXT(基本信息输入表!M7,"yyyy年mm月dd日") -> 评估基准日：2023年01月31日
W4: 表3-9-5
A5: =基本信息输入表!K6&"："&基本信息输入表!M6 -> 产权持有单位：山东烟草投资管理有限公司 | W5: 金额单位：人民币元 | Y5: 1、企业资料 | AF5: 2、现场调查 | AO5: 3、评定估算 | BB5: 4、结果分析
A6: 序号 | B6: 名 称 | C6: 规格型号 | D6: 计量单位 | E6: 基准日不含增值税销售单价 | F6: 销售状态 畅销/正常/滞销 | G6: 审计前账面价值 | J6: 审计前计提减值准备金额 | K6: 审计调整 | N6: 审计调整计提减值准备金额 | O6: 账面价值 | R6: 计提减值准备金额 | S6: 评估价值 | V6: 增值率% | W6: 备注 | Y6: 账册 | Z6: 合同 | AA6: 发票 | AB6: 单据 凭证 | AC6: 情况 说明 | AD6: 其他资料 | AF6: 调查程序 | AK6: 账实核实情况 | AM6: 其他特殊事项说明 | AO6: 评估方法 | AP6: 评估依据 | AR6: 估算过程 及参数选取（可以根据资产实际情况调整测算过程） | AZ6: 评估价值 | BB6: 增减值率％ | BC6: 增减值原因 | BD6: 特别事项说明
G7: 数量 | H7: 单价 | I7: 金额 | K7: 数量 | L7: 单价 | M7: 金额 | O7: 数量 | P7: 单价 | Q7: 金额 | S7: 实际数量 | T7: 评估单价 | U7: 金额 | AF7: 访谈 | AG7: 盘点 | AH7: 核实 | AI7: 受限处理 | AJ7: 其他 | AK7: 核实结果 | AL7: 账实说明 | AP7: 取价依据 | AQ7: 依据补充说明 | AR7: 不含税售价 | AS7: 税金及附加率 | AT7: 销售费用率 | AU7: 利润率 | AV7: 所得税率 | AW7: 净利润率 | AX7: 净利润扣减比例
A8: =IF(B8="","",ROW()-7) -> 1 | B8: 德州磊科WLAN网卡 | C8: 德州磊科WLAN网卡 | D8: 个 | O8: =G8+K8 -> 0 | P8: =IFERROR(Q8/O8,"") | Q8: =I8+M8 -> 0 | R8: =J8+N8 -> 0 | U8: =S8*T8 -> 0 | V8: =IF(Q8-R8=0,"",(U8-Q8+R8)/(Q8-R8)*100) | W8: 已报废 | AZ8: =AR8*(1-AS8-AT8-AU8*AV8-AW8*AX8) -> 0 | BB8: =IFERROR((AZ8-Q7+R7)/(Q7-R7)*100,"")
A9: =IF(B9="","",ROW()-7) -> 2 | B9: TD上网卡上海贝尔T920 | C9: TD上网卡上海贝尔T920 | D9: 个 | O9: =G9+K9 -> 0 | P9: =IFERROR(Q9/O9,"") | Q9: =I9+M9 -> 0 | R9: =J9+N9 -> 0 | U9: =S9*T9 -> 0 | V9: =IF(Q9-R9=0,"",(U9-Q9+R9)/(Q9-R9)*100) | W9: 已报废 | AZ9: =AR9*(1-AS9-AT9-AU9*AV9-AW9*AX9) -> 0 | BB9: =IFERROR((AZ9-Q8+R8)/(Q8-R8)*100,"")
A10: =IF(B10="","",ROW()-7) -> 3 | B10: 中兴A361(T+W)网卡 | C10: 中兴A361(T+W)网卡 | D10: 个 | O10: =G10+K10 -> 0 | P10: =IFERROR(Q10/O10,"") | Q10: =I10+M10 -> 0 | R10: =J10+N10 -> 0 | U10: =S10*T10 -> 0 | V10: =IF(Q10-R10=0,"",(U10-Q10+R10)/(Q10-R10)*100) | W10: 已报废 | AZ10: =AR10*(1-AS10-AT10-AU10*AV10-AW10*AX10) -> 0 | BB10: =IFERROR((AZ10-Q9+R9)/(Q9-R9)*100,"")
A11: =IF(B11="","",ROW()-7) -> 4 | B11: 德州内存卡 | C11: 德州内存卡 | D11: 个 | O11: =G11+K11 -> 0 | P11: =IFERROR(Q11/O11,"") | Q11: =I11+M11 -> 0 | R11: =J11+N11 -> 0 | U11: =S11*T11 -> 0 | V11: =IF(Q11-R11=0,"",(U11-Q11+R11)/(Q11-R11)*100) | W11: 已报废 | AZ11: =AR11*(1-AS11-AT11-AU11*AV11-AW11*AX11) -> 0 | BB11: =IFERROR((AZ11-Q10+R10)/(Q10-R10)*100,"")
A12: =IF(B12="","",ROW()-7) -> 5 | B12: 社区WLAN高增益放大器 | C12: 德州社区WLAN高增益放大器 | D12: 台 | O12: =G12+K12 -> 0 | P12: =IFERROR(Q12/O12,"") | Q12: =I12+M12 -> 0 | R12: =J12+N12 -> 0 | U12: =S12*T12 -> 0 | V12: =IF(Q12-R12=0,"",(U12-Q12+R12)/(Q12-R12)*100) | W12: 已报废 | AZ12: =AR12*(1-AS12-AT12-AU12*AV12-AW12*AX12) -> 0 | BB12: =IFERROR((AZ12-Q11+R11)/(Q11-R11)*100,"")
A13: =IF(B13="","",ROW()-7) -> 6 | B13: 德州星网锐捷定位设备 | C13: 德州星网锐捷定位设备 | D13: 台 | O13: =G13+K13 -> 0 | P13: =IFERROR(Q13/O13,"") | Q13: =I13+M13 -> 0 | R13: =J13+N13 -> 0 | U13: =S13*T13 -> 0 | V13: =IF(Q13-R13=0,"",(U13-Q13+R13)/(Q13-R13)*100) | W13: 已报废 | AZ13: =AR13*(1-AS13-AT13-AU13*AV13-AW13*AX13) -> 0 | BB13: =IFERROR((AZ13-Q12+R12)/(Q12-R12)*100,"")
A14: =IF(B14="","",ROW()-7) -> 7 | B14: 德州管理助手设备 | C14: 德州管理助手设备 | D14: 台 | O14: =G14+K14 -> 0 | P14: =IFERROR(Q14/O14,"") | Q14: =I14+M14 -> 0 | R14: =J14+N14 -> 0 | U14: =S14*T14 -> 0 | V14: =IF(Q14-R14=0,"",(U14-Q14+R14)/(Q14-R14)*100) | W14: 已报废 | AZ14: =AR14*(1-AS14-AT14-AU14*AV14-AW14*AX14) -> 0 | BB14: =IFERROR((AZ14-Q13+R13)/(Q13-R13)*100,"")
A15: =IF(B15="","",ROW()-7) -> 8 | B15: 德州行车无忧 | C15: 德州行车无忧 | D15: 台 | O15: =G15+K15 -> 0 | P15: =IFERROR(Q15/O15,"") | Q15: =I15+M15 -> 0 | R15: =J15+N15 -> 0 | U15: =S15*T15 -> 0 | V15: =IF(Q15-R15=0,"",(U15-Q15+R15)/(Q15-R15)*100) | W15: 已报废 | AZ15: =AR15*(1-AS15-AT15-AU15*AV15-AW15*AX15) -> 0 | BB15: =IFERROR((AZ15-Q14+R14)/(Q14-R14)*100,"")
A16: =IF(B16="","",ROW()-7) -> 9 | B16: 德州泰比特定位设备 | C16: 德州泰比特定位设备 | D16: 台 | O16: =G16+K16 -> 0 | P16: =IFERROR(Q16/O16,"") | Q16: =I16+M16 -> 0 | R16: =J16+N16 -> 0 | U16: =S16*T16 -> 0 | V16: =IF(Q16-R16=0,"",(U16-Q16+R16)/(Q16-R16)*100) | W16: 已报废 | AZ16: =AR16*(1-AS16-AT16-AU16*AV16-AW16*AX16) -> 0 | BB16: =IFERROR((AZ16-Q15+R15)/(Q15-R15)*100,"")
A17: =IF(B17="","",ROW()-7) -> 10 | B17: 2.4G无线网络适配器 | C17: 2.4G无线网络适配器(10米延长线无防) | D17: 个 | O17: =G17+K17 -> 0 | P17: =IFERROR(Q17/O17,"") | Q17: =I17+M17 -> 0 | R17: =J17+N17 -> 0 | U17: =S17*T17 -> 0 | V17: =IF(Q17-R17=0,"",(U17-Q17+R17)/(Q17-R17)*100) | W17: 已报废 | AZ17: =AR17*(1-AS17-AT17-AU17*AV17-AW17*AX17) -> 0 | BB17: =IFERROR((AZ17-Q16+R16)/(Q16-R16)*100,"")
A18: =IF(B18="","",ROW()-7) | V18: =IF(Q18-R18=0,"",(U18-Q18+R18)/(Q18-R18)*100) | AZ18: =AR18*(1-AS18-AT18-AU18*AV18-AW18*AX18) -> 0 | BB18: =IFERROR((AZ18-Q17+R17)/(Q17-R17)*100,"")
A19: =IF(B19="","",ROW()-7) | V19: =IF(Q19-R19=0,"",(U19-Q19+R19)/(Q19-R19)*100) | AZ19: =AR19*(1-AS19-AT19-AU19*AV19-AW19*AX19) -> 0 | BB19: =IFERROR((AZ19-#REF!+#REF!)/(#REF!-#REF!)*100,"")
A20: =IF(B20="","",ROW()-7) | V20: =IF(Q20-R20=0,"",(U20-Q20+R20)/(Q20-R20)*100) | AZ20: =AR20*(1-AS20-AT20-AU20*AV20-AW20*AX20) -> 0 | BB20: =IFERROR((AZ20-Q19+R19)/(Q19-R19)*100,"")
A21: =IF(B21="","",ROW()-7) | V21: =IF(Q21-R21=0,"",(U21-Q21+R21)/(Q21-R21)*100) | AZ21: =AR21*(1-AS21-AT21-AU21*AV21-AW21*AX21) -> 0 | BB21: =IFERROR((AZ21-Q20+R20)/(Q20-R20)*100,"")
A22: 合 计 | G22: =SUM(G8:G21) -> 0 | I22: =SUM(I8:I21) -> 0 | J22: =SUM(J8:J21) -> 0 | K22: =SUM(K8:K21) -> 0 | M22: =SUM(M8:M21) -> 0 | N22: =SUM(N8:N21) -> 0 | O22: =SUM(O8:O21) -> 0 | Q22: =SUM(Q8:Q21) -> 0 | R22: =SUM(R8:R21) -> 0 | S22: =SUM(S8:S21) -> 0 | U22: =SUM(U8:U21) -> 0 | V22: =IF(Q22-R22=0,"",(U22-Q22+R22)/(Q22-R22)*100) | AZ22: =AR22*(1-AS22-AT22-AU22*AV22-AW22*AX22) -> 0 | BB22: =IFERROR((AZ22-Q21+R21)/(Q21-R21)*100,"")
A23: =基本信息输入表!$K$6&"填表人："&基本信息输入表!$M$30 -> 产权持有单位填表人：王若初 | U23: ="评估人员："&基本信息输入表!$Q$30 -> 评估人员：王秀红
A24: ="填表日期："&YEAR(基本信息输入表!$O$30)&"年"&MONTH(基本信息输入表!$O$30)&"月"&DAY(基本信息输入表!$O$30)&"日" -> 填表日期：2023年2月15日
X25: 打印边界

Sheet 3-9-6在产品（自制半成品）
A1: 返回索引目录
A2: 存货—在产品（自制半成品）评估明细表
A3: ="评估基准日："&TEXT(基本信息输入表!M7,"yyyy年mm月dd日") -> 评估基准日：2023年01月31日
R4: 表3-9-6
A5: =基本信息输入表!K6&"："&基本信息输入表!M6 -> 产权持有单位：山东烟草投资管理有限公司 | R5: 金额单位：人民币元 | T5: 1、企业资料 | AA5: 2、现场调查 | AJ5: 3、评定估算 | AX5: 4、结果分析
A6: 序号 | B6: 名称及规格型号 | C6: 计量单位 | D6: 审计前账面价值 | G6: 审计调整 | J6: 账面价值 | M6: 完工程度% | N6: 评估价值 | Q6: 增值率% | R6: 备注 | T6: 账册 | U6: 合同 | V6: 发票 | W6: 单据 凭证 | X6: 情况 说明 | Y6: 其他资料 | AA6: 调查程序 | AF6: 账实核实情况 | AH6: 其他特殊事项说明 | AJ6: 评估方法 | AK6: 评估依据 | AM6: 估算过程及参数选取（可以根据资产实际情况调整测算过程） | AV6: 评估价值 | AX6: 增减值率％ | AY6: 增减值原因 | AZ6: 特别事项说明
D7: 数量 | E7: 单价 | F7: 金额 | G7: 数量 | H7: 单价 | I7: 金额 | J7: 数量 | K7: 单价 | L7: 金额 | N7: 实际数量 | O7: 评估单价 | P7: 金额 | AA7: 访谈 | AB7: 盘点 | AC7: 核实 | AD7: 受限处理 | AE7: 其他 | AF7: 核实结果 | AG7: 账实说明 | AK7: 取价依据 | AL7: 依据补充说明 | AM7: 不含税售价 | AN7: 税金及附加率 | AO7: 销售费用率 | AP7: 利润率 | AQ7: 所得税率 | AR7: 净利润率 | AS7: 净利润扣减比例 | AT7: 完工比例
A8: =IF(B8="","",ROW()-7) | J8: =D8+G8 -> 0 | K8: =IFERROR(L8/J8,"") | L8: =I8+F8 -> 0 | P8: =N8*O8 -> 0 | Q8: =IF(L8=0,"",(P8-L8)/L8*100) | AX8: =IFERROR((AV8-L7)/(L7)*100,"")
A9: =IF(B9="","",ROW()-7) | J9: =D9+G9 -> 0 | K9: =IFERROR(L9/J9,"") | L9: =I9+F9 -> 0 | P9: =N9*O9 -> 0 | Q9: =IF(L9=0,"",(P9-L9)/L9*100) | AX9: =IFERROR((AV9-L8)/(L8)*100,"")
A10: =IF(B10="","",ROW()-7) | J10: =D10+G10 -> 0 | K10: =IFERROR(L10/J10,"") | L10: =I10+F10 -> 0 | P10: =N10*O10 -> 0 | Q10: =IF(L10=0,"",(P10-L10)/L10*100) | AX10: =IFERROR((AV10-L9)/(L9)*100,"")
A11: =IF(B11="","",ROW()-7) | J11: =D11+G11 -> 0 | K11: =IFERROR(L11/J11,"") | L11: =I11+F11 -> 0 | P11: =N11*O11 -> 0 | Q11: =IF(L11=0,"",(P11-L11)/L11*100) | AX11: =IFERROR((AV11-L10)/(L10)*100,"")
A12: =IF(B12="","",ROW()-7) | J12: =D12+G12 -> 0 | K12: =IFERROR(L12/J12,"") | L12: =I12+F12 -> 0 | P12: =N12*O12 -> 0 | Q12: =IF(L12=0,"",(P12-L12)/L12*100) | AX12: =IFERROR((AV12-L11)/(L11)*100,"")
A13: =IF(B13="","",ROW()-7) | J13: =D13+G13 -> 0 | K13: =IFERROR(L13/J13,"") | L13: =I13+F13 -> 0 | P13: =N13*O13 -> 0 | Q13: =IF(L13=0,"",(P13-L13)/L13*100) | AX13: =IFERROR((AV13-L12)/(L12)*100,"")
A14: =IF(B14="","",ROW()-7) | J14: =D14+G14 -> 0 | K14: =IFERROR(L14/J14,"") | L14: =I14+F14 -> 0 | P14: =N14*O14 -> 0 | Q14: =IF(L14=0,"",(P14-L14)/L14*100) | AX14: =IFERROR((AV14-L13)/(L13)*100,"")
A15: =IF(B15="","",ROW()-7) | J15: =D15+G15 -> 0 | K15: =IFERROR(L15/J15,"") | L15: =I15+F15 -> 0 | P15: =N15*O15 -> 0 | Q15: =IF(L15=0,"",(P15-L15)/L15*100) | AX15: =IFERROR((AV15-L14)/(L14)*100,"")
A16: =IF(B16="","",ROW()-7) | J16: =D16+G16 -> 0 | K16: =IFERROR(L16/J16,"") | L16: =I16+F16 -> 0 | P16: =N16*O16 -> 0 | Q16: =IF(L16=0,"",(P16-L16)/L16*100) | AX16: =IFERROR((AV16-L15)/(L15)*100,"")
A17: =IF(B17="","",ROW()-7) | J17: =D17+G17 -> 0 | K17: =IFERROR(L17/J17,"") | L17: =I17+F17 -> 0 | P17: =N17*O17 -> 0 | Q17: =IF(L17=0,"",(P17-L17)/L17*100) | AX17: =IFERROR((AV17-L16)/(L16)*100,"")
A18: =IF(B18="","",ROW()-7) | J18: =D18+G18 -> 0 | K18: =IFERROR(L18/J18,"") | L18: =I18+F18 -> 0 | P18: =N18*O18 -> 0 | Q18: =IF(L18=0,"",(P18-L18)/L18*100) | AX18: =IFERROR((AV18-L17)/(L17)*100,"")
A19: =IF(B19="","",ROW()-7) | J19: =D19+G19 -> 0 | K19: =IFERROR(L19/J19,"") | L19: =I19+F19 -> 0 | P19: =N19*O19 -> 0 | Q19: =IF(L19=0,"",(P19-L19)/L19*100) | AX19: =IFERROR((AV19-L18)/(L18)*100,"")
... A27: =IF(B27="","",ROW()-7) | J27: =D27+G27 -> 0 | K27: =IFERROR(L27/J27,"") | L27: =I27+F27 -> 0 | P27: =N27*O27 -> 0 | Q27: =IF(L27=0,"",(P27-L27)/L27*100) | AX27: =IFERROR((AV27-L26)/(L26)*100,"")
A28: 合 计 | D28: =SUM(D8:D27) -> 0 | F28: =SUM(F8:F27) -> 0 | G28: =SUM(G8:G27) -> 0 | I28: =SUM(I8:I27) -> 0 | J28: =SUM(J8:J27) -> 0 | L28: =SUM(L8:L27) -> 0 | N28: =SUM(N8:N27) -> 0 | P28: =SUM(P8:P27) -> 0 | Q28: =IF(L28=0,"",(P28-L28)/L28*100) | AX28: =IFERROR((AV28-L27)/(L27)*100,"")
A29: =基本信息输入表!$K$6&"填表人："&基本信息输入表!$M$31 -> 产权持有单位填表人：王若初 | P29: ="评估人员："&基本信息输入表!$Q$31 -> 评估人员：王秀红
A30: ="填表日期："&YEAR(基本信息输入表!$O$31)&"年"&MONTH(基本信息输入表!$O$31)&"月"&DAY(基本信息输入表!$O$31)&"日" -> 填表日期：2023年2月15日
S31: 打印边界

Sheet 3-9-7发出商品
A1: 返回索引目录
A2: 存货—发出商品评估明细表
A3: ="评估基准日："&TEXT(基本信息输入表!M7,"yyyy年mm月dd日") -> 评估基准日：2023年01月31日
Q4: 表3-9-7
A5: =基本信息输入表!K6&"："&基本信息输入表!M6 -> 产权持有单位：山东烟草投资管理有限公司 | R5: 金额单位：人民币元 | T5: 1、企业资料 | AB5: 2、现场调查 | AN5: 3、评定估算 | AX5: 4、结果分析
A6: 序号 | B6: 商品名称 | C6: 对方单位名称 | D6: 计量单位 | E6: 审计前账面价值 | H6: 审计调整 | K6: 账面价值 | N6: 评估价值 | Q6: 增值率% | R6: 备注 | T6: 账册 | U6: 合同 | V6: 发票 | W6: 文件 | X6: 单据 凭证 | Y6: 情况 说明 | Z6: 其他资料 | AB6: 调查程序 | AH6: 账实核实情况 | AJ6: 权属核实情况 | AL6: 其他特殊事项说明 | AN6: 评估方法 | AO6: 评估依据 | AQ6: 估算过程及参数选取（可以根据资产实际情况调整测算过程） | AV6: 评估价值 | AX6: 增减值率％ | AY6: 增减值原因 | AZ6: 特别事项说明
E7: 数量 | F7: 单价 | G7: 金额 | H7: 数量 | I7: 单价 | J7: 金额 | K7: 数量 | L7: 单价 | M7: 金额 | N7: 实际数量 | O7: 评估单价 | P7: 金额 | AB7: 访谈 | AC7: 函证 | AD7: 核实 | AE7: 权属核对 | AF7: 受限处理 | AG7: 其他 | AH7: 核实结果 | AI7: 账实说明 | AJ7: 核实结果 | AK7: 权属说明 | AO7: 取价依据 | AP7: 依据补充说明
A8: =IF(B8="","",ROW()-7) | K8: =E8+H8 -> 0 | L8: =IFERROR(M8/K8,"") | M8: =J8+G8 -> 0 | P8: =N8*O8 -> 0 | Q8: =IF(M8=0,"",(P8-M8)/M8*100) | AX8: =IFERROR((AV8-M7)/(M7)*100,"")
A9: =IF(B9="","",ROW()-7) | K9: =E9+H9 -> 0 | L9: =IFERROR(M9/K9,"") | M9: =J9+G9 -> 0 | P9: =N9*O9 -> 0 | Q9: =IF(M9=0,"",(P9-M9)/M9*100) | AX9: =IFERROR((AV9-M8)/(M8)*100,"")
A10: =IF(B10="","",ROW()-7) | K10: =E10+H10 -> 0 | L10: =IFERROR(M10/K10,"") | M10: =J10+G10 -> 0 | P10: =N10*O10 -> 0 | Q10: =IF(M10=0,"",(P10-M10)/M10*100) | AX10: =IFERROR((AV10-M9)/(M9)*100,"")
A11: =IF(B11="","",ROW()-7) | K11: =E11+H11 -> 0 | L11: =IFERROR(M11/K11,"") | M11: =J11+G11 -> 0 | P11: =N11*O11 -> 0 | Q11: =IF(M11=0,"",(P11-M11)/M11*100) | AX11: =IFERROR((AV11-M10)/(M10)*100,"")
A12: =IF(B12="","",ROW()-7) | K12: =E12+H12 -> 0 | L12: =IFERROR(M12/K12,"") | M12: =J12+G12 -> 0 | P12: =N12*O12 -> 0 | Q12: =IF(M12=0,"",(P12-M12)/M12*100) | AX12: =IFERROR((AV12-M11)/(M11)*100,"")
A13: =IF(B13="","",ROW()-7) | K13: =E13+H13 -> 0 | L13: =IFERROR(M13/K13,"") | M13: =J13+G13 -> 0 | P13: =N13*O13 -> 0 | Q13: =IF(M13=0,"",(P13-M13)/M13*100) | AX13: =IFERROR((AV13-M12)/(M12)*100,"")
A14: =IF(B14="","",ROW()-7) | K14: =E14+H14 -> 0 | L14: =IFERROR(M14/K14,"") | M14: =J14+G14 -> 0 | P14: =N14*O14 -> 0 | Q14: =IF(M14=0,"",(P14-M14)/M14*100) | AX14: =IFERROR((AV14-M13)/(M13)*100,"")
A15: =IF(B15="","",ROW()-7) | K15: =E15+H15 -> 0 | L15: =IFERROR(M15/K15,"") | M15: =J15+G15 -> 0 | P15: =N15*O15 -> 0 | Q15: =IF(M15=0,"",(P15-M15)/M15*100) | AX15: =IFERROR((AV15-M14)/(M14)*100,"")
A16: =IF(B16="","",ROW()-7) | K16: =E16+H16 -> 0 | L16: =IFERROR(M16/K16,"") | M16: =J16+G16 -> 0 | P16: =N16*O16 -> 0 | Q16: =IF(M16=0,"",(P16-M16)/M16*100) | AX16: =IFERROR((AV16-M15)/(M15)*100,"")
A17: =IF(B17="","",ROW()-7) | K17: =E17+H17 -> 0 | L17: =IFERROR(M17/K17,"") | M17: =J17+G17 -> 0 | P17: =N17*O17 -> 0 | Q17: =IF(M17=0,"",(P17-M17)/M17*100) | AX17: =IFERROR((AV17-M16)/(M16)*100,"")
A18: =IF(B18="","",ROW()-7) | K18: =E18+H18 -> 0 | L18: =IFERROR(M18/K18,"") | M18: =J18+G18 -> 0 | P18: =N18*O18 -> 0 | Q18: =IF(M18=0,"",(P18-M18)/M18*100) | AX18: =IFERROR((AV18-M17)/(M17)*100,"")
A19: =IF(B19="","",ROW()-7) | K19: =E19+H19 -> 0 | L19: =IFERROR(M19/K19,"") | M19: =J19+G19 -> 0 | P19: =N19*O19 -> 0 | Q19: =IF(M19=0,"",(P19-M19)/M19*100) | AX19: =IFERROR((AV19-M18)/(M18)*100,"")
... A27: =IF(B27="","",ROW()-7) | K27: =E27+H27 -> 0 | L27: =IFERROR(M27/K27,"") | M27: =J27+G27 -> 0 | P27: =N27*O27 -> 0 | Q27: =IF(M27=0,"",(P27-M27)/M27*100) | AX27: =IFERROR((AV27-M26)/(M26)*100,"")
A28: 合 计 | E28: =SUM(E8:E27) -> 0 | G28: =SUM(G8:G27) -> 0 | H28: =SUM(H8:H27) -> 0 | J28: =SUM(J8:J27) -> 0 | K28: =SUM(K8:K27) -> 0 | M28: =SUM(M8:M27) -> 0 | N28: =SUM(N8:N27) -> 0 | P28: =SUM(P8:P27) -> 0 | Q28: =IF(M28=0,"",(P28-M28)/M28*100) | AX28: =IFERROR((AV28-M27)/(M27)*100,"")
A29: =基本信息输入表!$K$6&"填表人："&基本信息输入表!$M$32 -> 产权持有单位填表人：王若初 | P29: ="评估人员："&基本信息输入表!$Q$32 -> 评估人员：王秀红
A30: ="填表日期："&YEAR(基本信息输入表!$O$32)&"年"&MONTH(基本信息输入表!$O$32)&"月"&DAY(基本信息输入表!$O$32)&"日" -> 填表日期：2023年2月15日
S31: 打印边界

Sheet 3-9-8在用周转材料
A1: 返回索引目录
A2: 存货—在用周转材料评估明细表
A3: ="评估基准日："&TEXT(基本信息输入表!M7,"yyyy年mm月dd日") -> 评估基准日：2023年01月31日
P4: 表3-9-8
A5: =基本信息输入表!K6&"："&基本信息输入表!M6 -> 产权持有单位：山东烟草投资管理有限公司 | P5: 金额单位：人民币元 | R5: 1、企业资料 | Z5: 2、现场调查 | AL5: 3、评定估算 | BG5: 4、结果分析
A6: 序号 | B6: 名称及规格型号 | C6: 启用日期 | D6: 原始入账价值 | E6: 审计前账面价值 | G6: 审计调整 | I6: 账面价值（摊余价值） | K6: 实际数量 | L6: 评估价值 | O6: 增值率% | P6: 备注 | R6: 账册 | S6: 合同 | T6: 发票 | U6: 文件 | V6: 单据 凭证 | W6: 情况 说明 | X6: 其他资料 | Z6: 调查程序 | AF6: 账实核实情况 | AH6: 权属核实情况 | AJ6: 其他特殊事项说明 | AL6: 评估方法 | AM6: 评估依据 | AP6: 估算过程 （可以根据资产实际情况调整测算过程） | BC6: 评估价值 | BG6: 增减值 | BI6: 增减值原因 | BK6: 特别事项说明
E7: 数量 | F7: 金额 | G7: 数量 | H7: 金额 | I7: 数量 | J7: 金额 | L7: 评估原价 | M7: 成新率% | N7: 金额 | Z7: 访谈 | AA7: 核实 | AB7: 盘点 | AC7: 权属核对 | AD7: 受限处理 | AE7: 其他 | AF7: 核实结果 | AG7: 账实说明 | AH7: 核实结果 | AI7: 权属说明 | AM7: 取价依据 | AN7: 其他依据 | AO7: 依据补充说明 | AP7: 状态 | AQ7: 资产类别 | AR7: 经济寿命年限 | AS7: 已使用年限 | AT7: 尚可使用年限 | AU7: 综合成新率 | AV7: 购置价（含税） | AW7: 运杂费 | AX7: 其他费 | AY7: 重置全价（含税） | AZ7: 税金 | BA7: 重置全价（不含税） | BC7: 原值 | BD7: 成新率 | BE7: 净值 | BG7: 原值增值率％ | BH7: 净值增值率％ | BI7: 原值 | BJ7: 净值
A8: =IF(B8="","",ROW()-7) | I8: =E8+G8 -> 0 | J8: =F8+H8 -> 0 | O8: =IF(J8=0,"",(N8-J8)/J8*100) | AU8: =IFERROR(AT8/(AS8+AT8)*100,"") | AY8: =AV8+AW8+AX8 -> 0 | BA8: =AY8-AZ8 -> 0 | BC8: =IF(BA8<10,BA8,ROUND(BA8,-1)) -> 0 | BD8: =IFERROR(ROUND(AU8,0),"") | BE8: =IFERROR(BC8*BD8/100,"") | BH8: =IFERROR((BE8-J7)/J7*100,"")
A9: =IF(B9="","",ROW()-7) | I9: =E9+G9 -> 0 | J9: =F9+H9 -> 0 | O9: =IF(J9=0,"",(N9-J9)/J9*100) | AU9: =IFERROR(AT9/(AS9+AT9)*100,"") | AY9: =AV9+AW9+AX9 -> 0 | BA9: =AY9-AZ9 -> 0 | BC9: =IF(BA9<10,BA9,ROUND(BA9,-1)) -> 0 | BD9: =IFERROR(ROUND(AU9,0),"") | BE9: =IFERROR(BC9*BD9/100,"") | BH9: =IFERROR((BE9-J8)/J8*100,"")
A10: =IF(B10="","",ROW()-7) | I10: =E10+G10 -> 0 | J10: =F10+H10 -> 0 | O10: =IF(J10=0,"",(N10-J10)/J10*100) | AU10: =IFERROR(AT10/(AS10+AT10)*100,"") | AY10: =AV10+AW10+AX10 -> 0 | BA10: =AY10-AZ10 -> 0 | BC10: =IF(BA10<10,BA10,ROUND(BA10,-1)) -> 0 | BD10: =IFERROR(ROUND(AU10,0),"") | BE10: =IFERROR(BC10*BD10/100,"") | BH10: =IFERROR((BE10-J9)/J9*100,"")
A11: =IF(B11="","",ROW()-7) | I11: =E11+G11 -> 0 | J11: =F11+H11 -> 0 | O11: =IF(J11=0,"",(N11-J11)/J11*100) | AU11: =IFERROR(AT11/(AS11+AT11)*100,"") | AY11: =AV11+AW11+AX11 -> 0 | BA11: =AY11-AZ11 -> 0 | BC11: =IF(BA11<10,BA11,ROUND(BA11,-1)) -> 0 | BD11: =IFERROR(ROUND(AU11,0),"") | BE11: =IFERROR(BC11*BD11/100,"") | BH11: =IFERROR((BE11-J10)/J10*100,"")
A12: =IF(B12="","",ROW()-7) | I12: =E12+G12 -> 0 | J12: =F12+H12 -> 0 | O12: =IF(J12=0,"",(N12-J12)/J12*100) | AU12: =IFERROR(AT12/(AS12+AT12)*100,"") | AY12: =AV12+AW12+AX12 -> 0 | BA12: =AY12-AZ12 -> 0 | BC12: =IF(BA12<10,BA12,ROUND(BA12,-1)) -> 0 | BD12: =IFERROR(ROUND(AU12,0),"") | BE12: =IFERROR(BC12*BD12/100,"") | BH12: =IFERROR((BE12-J11)/J11*100,"")
A13: =IF(B13="","",ROW()-7) | I13: =E13+G13 -> 0 | J13: =F13+H13 -> 0 | O13: =IF(J13=0,"",(N13-J13)/J13*100) | AU13: =IFERROR(AT13/(AS13+AT13)*100,"") | AY13: =AV13+AW13+AX13 -> 0 | BA13: =AY13-AZ13 -> 0 | BC13: =IF(BA13<10,BA13,ROUND(BA13,-1)) -> 0 | BD13: =IFERROR(ROUND(AU13,0),"") | BE13: =IFERROR(BC13*BD13/100,"") | BH13: =IFERROR((BE13-J12)/J12*100,"")
A14: =IF(B14="","",ROW()-7) | I14: =E14+G14 -> 0 | J14: =F14+H14 -> 0 | O14: =IF(J14=0,"",(N14-J14)/J14*100) | AU14: =IFERROR(AT14/(AS14+AT14)*100,"") | AY14: =AV14+AW14+AX14 -> 0 | BA14: =AY14-AZ14 -> 0 | BC14: =IF(BA14<10,BA14,ROUND(BA14,-1)) -> 0 | BD14: =IFERROR(ROUND(AU14,0),"") | BE14: =IFERROR(BC14*BD14/100,"") | BH14: =IFERROR((BE14-J13)/J13*100,"")
A15: =IF(B15="","",ROW()-7) | I15: =E15+G15 -> 0 | J15: =F15+H15 -> 0 | O15: =IF(J15=0,"",(N15-J15)/J15*100) | AU15: =IFERROR(AT15/(AS15+AT15)*100,"") | AY15: =AV15+AW15+AX15 -> 0 | BA15: =AY15-AZ15 -> 0 | BC15: =IF(BA15<10,BA15,ROUND(BA15,-1)) -> 0 | BD15: =IFERROR(ROUND(AU15,0),"") | BE15: =IFERROR(BC15*BD15/100,"") | BH15: =IFERROR((BE15-J14)/J14*100,"")
A16: =IF(B16="","",ROW()-7) | I16: =E16+G16 -> 0 | J16: =F16+H16 -> 0 | O16: =IF(J16=0,"",(N16-J16)/J16*100) | AU16: =IFERROR(AT16/(AS16+AT16)*100,"") | AY16: =AV16+AW16+AX16 -> 0 | BA16: =AY16-AZ16 -> 0 | BC16: =IF(BA16<10,BA16,ROUND(BA16,-1)) -> 0 | BD16: =IFERROR(ROUND(AU16,0),"") | BE16: =IFERROR(BC16*BD16/100,"") | BH16: =IFERROR((BE16-J15)/J15*100,"")
A17: =IF(B17="","",ROW()-7) | I17: =E17+G17 -> 0 | J17: =F17+H17 -> 0 | O17: =IF(J17=0,"",(N17-J17)/J17*100) | AU17: =IFERROR(AT17/(AS17+AT17)*100,"") | AY17: =AV17+AW17+AX17 -> 0 | BA17: =AY17-AZ17 -> 0 | BC17: =IF(BA17<10,BA17,ROUND(BA17,-1)) -> 0 | BD17: =IFERROR(ROUND(AU17,0),"") | BE17: =IFERROR(BC17*BD17/100,"") | BH17: =IFERROR((BE17-J16)/J16*100,"")
A18: =IF(B18="","",ROW()-7) | I18: =E18+G18 -> 0 | J18: =F18+H18 -> 0 | O18: =IF(J18=0,"",(N18-J18)/J18*100) | AU18: =IFERROR(AT18/(AS18+AT18)*100,"") | AY18: =AV18+AW18+AX18 -> 0 | BA18: =AY18-AZ18 -> 0 | BC18: =IF(BA18<10,BA18,ROUND(BA18,-1)) -> 0 | BD18: =IFERROR(ROUND(AU18,0),"") | BE18: =IFERROR(BC18*BD18/100,"") | BH18: =IFERROR((BE18-J17)/J17*100,"")
A19: =IF(B19="","",ROW()-7) | I19: =E19+G19 -> 0 | J19: =F19+H19 -> 0 | O19: =IF(J19=0,"",(N19-J19)/J19*100) | AU19: =IFERROR(AT19/(AS19+AT19)*100,"") | AY19: =AV19+AW19+AX19 -> 0 | BA19: =AY19-AZ19 -> 0 | BC19: =IF(BA19<10,BA19,ROUND(BA19,-1)) -> 0 | BD19: =IFERROR(ROUND(AU19,0),"") | BE19: =IFERROR(BC19*BD19/100,"") | BH19: =IFERROR((BE19-J18)/J18*100,"")
... A27: =IF(B27="","",ROW()-7) | I27: =E27+G27 -> 0 | J27: =F27+H27 -> 0 | O27: =IF(J27=0,"",(N27-J27)/J27*100) | AU27: =IFERROR(AT27/(AS27+AT27)*100,"") | AY27: =AV27+AW27+AX27 -> 0 | BA27: =AY27-AZ27 -> 0 | BC27: =IF(BA27<10,BA27,ROUND(BA27,-1)) -> 0 | BD27: =IFERROR(ROUND(AU27,0),"") | BE27: =IFERROR(BC27*BD27/100,"") | BH27: =IFERROR((BE27-J26)/J26*100,"")
A28: 合 计 | E28: =SUM(E8:E27) -> 0 | F28: =SUM(F8:F27) -> 0 | G28: =SUM(G8:G27) -> 0 | H28: =SUM(H8:H27) -> 0 | I28: =SUM(I8:I27) -> 0 | J28: =SUM(J8:J27) -> 0 | K28: =SUM(K8:K27) -> 0 | L28: =SUM(L8:L27) -> 0 | N28: =SUM(N8:N27) -> 0 | O28: =IF(J28=0,"",(N28-J28)/J28*100) | AU28: =IFERROR(AT28/(AS28+AT28)*100,"") | AY28: =AV28+AW28+AX28 -> 0 | BA28: =AY28-AZ28 -> 0 | BC28: =IF(BA28<10,BA28,ROUND(BA28,-1)) -> 0 | BD28: =IFERROR(ROUND(AU28,0),"") | BE28: =IFERROR(BC28*BD28/100,"") | BH28: =IFERROR((BE28-J27)/J27*100,"")
A29: =基本信息输入表!$K$6&"填表人："&基本信息输入表!$M$33 -> 产权持有单位填表人：王若初 | N29: ="评估人员："&基本信息输入表!$Q$33 -> 评估人员：王秀红
A30: ="填表日期："&YEAR(基本信息输入表!$O$33)&"年"&MONTH(基本信息输入表!$O$33)&"月"&DAY(基本信息输入表!$O$33)&"日" -> 填表日期：2023年2月15日
Q31: 打印边界

Sheet 4-非流动资产汇总
A2: 非流动资产评估汇总表
A3: ="评估基准日："&TEXT(基本信息输入表!M7,"yyyy年mm月dd日") -> 评估基准日：2023年01月31日
H4: 表4
A5: =基本信息输入表!K6&"："&基本信息输入表!M6 -> 产权持有单位：山东烟草投资管理有限公司 | H5: 金额单位：人民币元
A6: 编号 | B6: 科目名称 | C6: 审计前账面价值 | D6: 审计调整 | E6: 账面价值 | F6: 评估价值 | G6: 增减值 | H6: 增值率%
A7: 4-1 | B7: 可供出售金融资产 | H7: =IF(E7=0,"",G7/E7*100)
A8: 4-2 | B8: 持有至到期投资合计
B9: 减：持有至到期投资减值准备
B10: 持有至到期投资净额
A11: 4-3 | B11: 长期应收款
A12: 4-4 | B12: 长期股权投资合计
B13: 减：长期股权投资减值准备
B14: 长期股权投资净额
A15: 4-5 | B15: 投资性房地产合计
B16: 减：投资性房地产减值准备
B17: 投资性房地产净额
A18: 4-6 | B18: 固定资产原值 | C18: ='4-6固定资产汇总'!C21 -> 0 | D18: ='4-6固定资产汇总'!F21 -> 0 | E18: ='4-6固定资产汇总'!I21 -> 1153983.4 | F18: ='4-6固定资产汇总'!L23 -> 15121170 | G18: =F18-E18 -> 13967187 | H18: =IF(E18=0,"",G18/E18*100) -> 1210.3455
B19: 其中：建筑物类 | C19: ='4-6固定资产汇总'!C8 -> 0 | D19: ='4-6固定资产汇总'!F8 -> 0 | E19: ='4-6固定资产汇总'!I8 -> 1146867.6 | F19: ='4-6固定资产汇总'!L23 -> 15121170 | G19: =F19-E19 -> 13974302 | H19: =IF(E19=0,"",G19/E19*100) -> 1218.4756
B20: 设 备 类 | C20: ='4-6固定资产汇总'!C14 -> 0 | D20: ='4-6固定资产汇总'!F14 -> 0 | E20: ='4-6固定资产汇总'!I14 -> 7115.83 | F20: ='4-6固定资产汇总'!J14 -> 7115.83 | G20: =F20-E20 -> 0 | H20: =IF(E20=0,"",G20/E20*100) -> 0
B21: 土 地 类 | C21: ='4-6固定资产汇总'!C19 -> 0 | D21: ='4-6固定资产汇总'!F19 -> 0 | E21: ='4-6固定资产汇总'!I15 -> 0 | F21: ='4-6固定资产汇总'!J15 -> 0 | G21: =F21-E21 -> 0 | H21: =IF(E21=0,"",G21/E21*100)
B22: 减：累计折旧 | C22: =C18-C23 -> 0 | D22: =D18-D23 -> 0 | E22: ='4-6固定资产汇总'!I16 -> 0 | F22: ='4-6固定资产汇总'!J16 -> 0 | G22: =F22-E22 -> 0 | H22: =IF(E22=0,"",G22/E22*100)
B23: 固定资产净值 | C23: ='4-6固定资产汇总'!D21 -> 0 | D23: ='4-6固定资产汇总'!G21 -> 0 | E23: ='4-6固定资产汇总'!J23 -> 949212.52 | F23: ='4-6固定资产汇总'!M23 -> 15064440 | G23: =F23-E23 -> 14115227 | H23: =IF(E23=0,"",G23/E23*100) -> 1487.0461
B24: 其中：建筑物类 | C24: ='4-6固定资产汇总'!D8 -> 0 | D24: ='4-6固定资产汇总'!G8 -> 0 | E24: ='4-6固定资产汇总'!J8 -> 942096.69 | F24: ='4-6固定资产汇总'!L23 -> 15121170 | G24: =F24-E24 -> 14179073 | H24: =IF(E24=0,"",G24/E24*100) -> 1505.055
B25: 设 备 类 | C25: ='4-6固定资产汇总'!D14 -> 0 | D25: ='4-6固定资产汇总'!G14 -> 0 | E25: ='4-6固定资产汇总'!J14 -> 7115.83 | F25: ='4-6固定资产汇总'!K14 -> 0 | G25: =F25-E25 -> -7115.83 | H25: =IF(E25=0,"",G25/E25*100) -> -100
B26: 土 地 类 | C26: ='4-6固定资产汇总'!D19 -> 0 | D26: ='4-6固定资产汇总'!G19 -> 0 | E26: ='4-6固定资产汇总'!J19 -> 0 | F26: ='4-6固定资产汇总'!M19 -> 0 | G26: =F26-E26 -> 0 | H26: =IF(E26=0,"",G26/E26*100)
B27: 减：固定资产减值准备 | C27: ='4-6固定资产汇总'!D22 -> 0 | D27: ='4-6固定资产汇总'!G22 -> 0 | E27: ='4-6固定资产汇总'!J22 -> 0 | F27: ='4-6固定资产汇总'!K22 -> 0 | G27: =F27-E27 -> 0 | H27: =IF(E27=0,"",G27/E27*100)
B28: 固定资产净额 | C28: ='4-6固定资产汇总'!D23 -> 0 | D28: ='4-6固定资产汇总'!G23 -> 0 | E28: =E23-E27 -> 949212.52 | F28: =F23 -> 15064440 | G28: =F28-E28 -> 14115227 | H28: =IF(E28=0,"",G28/E28*100) -> 1487.0461
A29: 4-7 | B29: 在建工程 | C29: ='4-7在建工程汇总'!C28 -> 0 | D29: ='4-7在建工程汇总'!D28 -> 0 | E29: ='4-7在建工程汇总'!E28 -> 0 | F29: ='4-7在建工程汇总'!F28 -> 0 | G29: =F29-E29 -> 0 | H29: =IF(E29=0,"",G29/E29*100)
A30: 4-8 | B30: 工程物资 | C30: ='4-8工程物资'!G30 -> 0 | D30: ='4-8工程物资'!K30 -> 0 | E30: ='4-8工程物资'!O30 -> 0 | F30: ='4-8工程物资'!S30 -> 0 | G30: =F30-E30 -> 0 | H30: =IF(E30=0,"",G30/E30*100)
A31: 4-9 | B31: 固定资产清理 | H31: =IF(E31=0,"",G31/E31*100)
A32: 4-10 | B32: 生产性生物资产 | H32: =IF(E32=0,"",G32/E32*100)
A33: 4-11 | B33: 油气资产合计 | H33: =IF(E33=0,"",G33/E33*100)
B34: 减：油气资产减值准备 | H34: =IF(E34=0,"",G34/E34*100)
B35: 油气资产净额 | H35: =IF(E35=0,"",G35/E35*100)
A36: 4-12 | B36: 无形资产合计 | H36: =IF(E36=0,"",G36/E36*100)
B37: 其中：土地使用权 | H37: =IF(E37=0,"",G37/E37*100)
B38: 减：无形资产减值准备 | H38: =IF(E38=0,"",G38/E38*100)
B39: 无形资产净额 | H39: =IF(E39=0,"",G39/E39*100)
A40: 4-13 | B40: 开发支出 | H40: =IF(E40=0,"",G40/E40*100)
A41: 4-14 | B41: 商誉 | H41: =IF(E41=0,"",G41/E41*100)
...

Sheet 4-6固定资产汇总
A2: 固定资产评估汇总表
A3: ="评估基准日："&TEXT(基本信息输入表!M7,"yyyy年mm月dd日") -> 评估基准日：2023年01月31日
O4: 表4-6
A5: =基本信息输入表!K6&"："&基本信息输入表!M6 -> 产权持有单位：山东烟草投资管理有限公司 | N5: 金额单位：人民币元 | R5: 以下房产及车辆产权事宜统计结果，各组一定要在各明细表固定列处建立明确分类标识，采用SUMIF等公式汇总，以方便动态更新和迅速统计。
A6: 编号 | B6: 科目名称 | C6: 审计前 | F6: 审计调整 | I6: 账面价值 | K6: 计提减值准备金额 | L6: 评估价值 | N6: 增值额 | P6: 增值率% | R6: 总面积＝已办证面积+不需办证面积+未办证面积 | W6: 房产项数＝已办证数量+未办证数量
